Workbook

Sheet Aggregation
A1: Exhibit X
A2: FORM 5 OF THE NEW MEXICO TITLE INSURANCE UNDERWRITERS STATISTICAL REPORT
A3: Aggregated for all Underwriters
A4: For the Year Ended December 31, 2021
L6: Number of | M6: Number of
A7: Years in | L7: Claims | M7: Claims
A8: Which | L8: Closed | M8: Closed
A9: Policies | L9: With | M9: Without
A10: Were | B10: Part A: Cumulative Paid Losses and Allocated Loss Adjustment Expenses at Year End (000 omitted) | L10: Loss | M10: Loss
A11: Written | B11: 2012 | C11: =B11+1 -> 2013 | D11: =C11+1 -> 2014 | E11: =D11+1 -> 2015 | F11: =E11+1 -> 2016 | G11: =F11+1 -> 2017 | H11: =G11+1 -> 2018 | I11: =H11+1 -> 2019 | J11: =I11+1 -> 2020 | K11: =J11+1 -> 2021 | L11: Payment | M11: Payment
A12: Prior | B12: =ROUND(SUM('Alamo Title Insurance Co:WFG National Title Ins Co'!B12),0) -> 32788 | C12: =ROUND(SUM('Alamo Title Insurance Co:WFG National Title Ins Co'!C12),0) -> 32929 | D12: =ROUND(SUM('Alamo Title Insurance Co:WFG National Title Ins Co'!D12),0) -> 33029 | E12: =ROUND(SUM('Alamo Title Insurance Co:WFG National Title Ins Co'!E12),0) -> 33049 | F12: =ROUND(SUM('Alamo Title Insurance Co:WFG National Title Ins Co'!F12),0) -> 33108 | G12: =ROUND(SUM('Alamo Title Insurance Co:WFG National Title Ins Co'!G12),0) -> 33118 | H12: =ROUND(SUM('Alamo Title Insurance Co:WFG National Title Ins Co'!H12),0) -> 33137 | I12: =ROUND(SUM('Alamo Title Insurance Co:WFG National Title Ins Co'!I12),0) -> 33149 | ... M12: =ROUND(SUM('Alamo Title Insurance Co:WFG National Title Ins Co'!M12),0) -> 1593
A13: 1992 | B13: =ROUND(SUM('Alamo Title Insurance Co:WFG National Title Ins Co'!B13),0) -> 1671 | C13: =ROUND(SUM('Alamo Title Insurance Co:WFG National Title Ins Co'!C13),0) -> 1671 | D13: =ROUND(SUM('Alamo Title Insurance Co:WFG National Title Ins Co'!D13),0) -> 1671 | E13: =ROUND(SUM('Alamo Title Insurance Co:WFG National Title Ins Co'!E13),0) -> 1671 | F13: =ROUND(SUM('Alamo Title Insurance Co:WFG National Title Ins Co'!F13),0) -> 1671 | G13: =ROUND(SUM('Alamo Title Insurance Co:WFG National Title Ins Co'!G13),0) -> 1671 | H13: =ROUND(SUM('Alamo Title Insurance Co:WFG National Title Ins Co'!H13),0) -> 1671 | I13: =ROUND(SUM('Alamo Title Insurance Co:WFG National Title Ins Co'!I13),0) -> 1671 | ... M13: =ROUND(SUM('Alamo Title Insurance Co:WFG National Title Ins Co'!M13),0) -> 95
A14: =A13+1 -> 1993 | B14: =ROUND(SUM('Alamo Title Insurance Co:WFG National Title Ins Co'!B14),0) -> 2864 | C14: =ROUND(SUM('Alamo Title Insurance Co:WFG National Title Ins Co'!C14),0) -> 2866 | D14: =ROUND(SUM('Alamo Title Insurance Co:WFG National Title Ins Co'!D14),0) -> 2866 | E14: =ROUND(SUM('Alamo Title Insurance Co:WFG National Title Ins Co'!E14),0) -> 2866 | F14: =ROUND(SUM('Alamo Title Insurance Co:WFG National Title Ins Co'!F14),0) -> 2866 | G14: =ROUND(SUM('Alamo Title Insurance Co:WFG National Title Ins Co'!G14),0) -> 2869 | H14: =ROUND(SUM('Alamo Title Insurance Co:WFG National Title Ins Co'!H14),0) -> 2902 | I14: =ROUND(SUM('Alamo Title Insurance Co:WFG National Title Ins Co'!I14),0) -> 2903 | ... M14: =ROUND(SUM('Alamo Title Insurance Co:WFG National Title Ins Co'!M14),0) -> 118
A15: =A14+1 -> 1994 | B15: =ROUND(SUM('Alamo Title Insurance Co:WFG National Title Ins Co'!B15),0) -> 1909 | C15: =ROUND(SUM('Alamo Title Insurance Co:WFG National Title Ins Co'!C15),0) -> 1927 | D15: =ROUND(SUM('Alamo Title Insurance Co:WFG National Title Ins Co'!D15),0) -> 1946 | E15: =ROUND(SUM('Alamo Title Insurance Co:WFG National Title Ins Co'!E15),0) -> 1946 | F15: =ROUND(SUM('Alamo Title Insurance Co:WFG National Title Ins Co'!F15),0) -> 1946 | G15: =ROUND(SUM('Alamo Title Insurance Co:WFG National Title Ins Co'!G15),0) -> 1946 | H15: =ROUND(SUM('Alamo Title Insurance Co:WFG National Title Ins Co'!H15),0) -> 1946 | I15: =ROUND(SUM('Alamo Title Insurance Co:WFG National Title Ins Co'!I15),0) -> 1946 | ... M15: =ROUND(SUM('Alamo Title Insurance Co:WFG National Title Ins Co'!M15),0) -> 114
A16: =A15+1 -> 1995 | B16: =ROUND(SUM('Alamo Title Insurance Co:WFG National Title Ins Co'!B16),0) -> 4649 | C16: =ROUND(SUM('Alamo Title Insurance Co:WFG National Title Ins Co'!C16),0) -> 4672 | D16: =ROUND(SUM('Alamo Title Insurance Co:WFG National Title Ins Co'!D16),0) -> 4730 | E16: =ROUND(SUM('Alamo Title Insurance Co:WFG National Title Ins Co'!E16),0) -> 5087 | F16: =ROUND(SUM('Alamo Title Insurance Co:WFG National Title Ins Co'!F16),0) -> 5108 | G16: =ROUND(SUM('Alamo Title Insurance Co:WFG National Title Ins Co'!G16),0) -> 5870 | H16: =ROUND(SUM('Alamo Title Insurance Co:WFG National Title Ins Co'!H16),0) -> 5870 | I16: =ROUND(SUM('Alamo Title Insurance Co:WFG National Title Ins Co'!I16),0) -> 5869 | ... M16: =ROUND(SUM('Alamo Title Insurance Co:WFG National Title Ins Co'!M16),0) -> 142
A17: =A16+1 -> 1996 | B17: =ROUND(SUM('Alamo Title Insurance Co:WFG National Title Ins Co'!B17),0) -> 3225 | C17: =ROUND(SUM('Alamo Title Insurance Co:WFG National Title Ins Co'!C17),0) -> 3227 | D17: =ROUND(SUM('Alamo Title Insurance Co:WFG National Title Ins Co'!D17),0) -> 3254 | E17: =ROUND(SUM('Alamo Title Insurance Co:WFG National Title Ins Co'!E17),0) -> 3287 | F17: =ROUND(SUM('Alamo Title Insurance Co:WFG National Title Ins Co'!F17),0) -> 3287 | G17: =ROUND(SUM('Alamo Title Insurance Co:WFG National Title Ins Co'!G17),0) -> 3287 | H17: =ROUND(SUM('Alamo Title Insurance Co:WFG National Title Ins Co'!H17),0) -> 3287 | I17: =ROUND(SUM('Alamo Title Insurance Co:WFG National Title Ins Co'!I17),0) -> 3287 | ... M17: =ROUND(SUM('Alamo Title Insurance Co:WFG National Title Ins Co'!M17),0) -> 144
A18: =A17+1 -> 1997 | B18: =ROUND(SUM('Alamo Title Insurance Co:WFG National Title Ins Co'!B18),0) -> 2421 | C18: =ROUND(SUM('Alamo Title Insurance Co:WFG National Title Ins Co'!C18),0) -> 2442 | D18: =ROUND(SUM('Alamo Title Insurance Co:WFG National Title Ins Co'!D18),0) -> 2457 | E18: =ROUND(SUM('Alamo Title Insurance Co:WFG National Title Ins Co'!E18),0) -> 2469 | F18: =ROUND(SUM('Alamo Title Insurance Co:WFG National Title Ins Co'!F18),0) -> 2477 | G18: =ROUND(SUM('Alamo Title Insurance Co:WFG National Title Ins Co'!G18),0) -> 2515 | H18: =ROUND(SUM('Alamo Title Insurance Co:WFG National Title Ins Co'!H18),0) -> 2541 | I18: =ROUND(SUM('Alamo Title Insurance Co:WFG National Title Ins Co'!I18),0) -> 2547 | ... M18: =ROUND(SUM('Alamo Title Insurance Co:WFG National Title Ins Co'!M18),0) -> 163
A19: =A18+1 -> 1998 | B19: =ROUND(SUM('Alamo Title Insurance Co:WFG National Title Ins Co'!B19),0) -> 3089 | C19: =ROUND(SUM('Alamo Title Insurance Co:WFG National Title Ins Co'!C19),0) -> 3091 | D19: =ROUND(SUM('Alamo Title Insurance Co:WFG National Title Ins Co'!D19),0) -> 3095 | E19: =ROUND(SUM('Alamo Title Insurance Co:WFG National Title Ins Co'!E19),0) -> 3154 | F19: =ROUND(SUM('Alamo Title Insurance Co:WFG National Title Ins Co'!F19),0) -> 3156 | G19: =ROUND(SUM('Alamo Title Insurance Co:WFG National Title Ins Co'!G19),0) -> 3187 | H19: =ROUND(SUM('Alamo Title Insurance Co:WFG National Title Ins Co'!H19),0) -> 3186 | I19: =ROUND(SUM('Alamo Title Insurance Co:WFG National Title Ins Co'!I19),0) -> 3218 | ... M19: =ROUND(SUM('Alamo Title Insurance Co:WFG National Title Ins Co'!M19),0) -> 224
A20: =A19+1 -> 1999 | B20: =ROUND(SUM('Alamo Title Insurance Co:WFG National Title Ins Co'!B20),0) -> 8165 | C20: =ROUND(SUM('Alamo Title Insurance Co:WFG National Title Ins Co'!C20),0) -> 8208 | D20: =ROUND(SUM('Alamo Title Insurance Co:WFG National Title Ins Co'!D20),0) -> 8248 | E20: =ROUND(SUM('Alamo Title Insurance Co:WFG National Title Ins Co'!E20),0) -> 8397 | F20: =ROUND(SUM('Alamo Title Insurance Co:WFG National Title Ins Co'!F20),0) -> 8451 | G20: =ROUND(SUM('Alamo Title Insurance Co:WFG National Title Ins Co'!G20),0) -> 8504 | H20: =ROUND(SUM('Alamo Title Insurance Co:WFG National Title Ins Co'!H20),0) -> 8478 | I20: =ROUND(SUM('Alamo Title Insurance Co:WFG National Title Ins Co'!I20),0) -> 8486 | ... M20: =ROUND(SUM('Alamo Title Insurance Co:WFG National Title Ins Co'!M20),0) -> 188
A21: =A20+1 -> 2000 | B21: =ROUND(SUM('Alamo Title Insurance Co:WFG National Title Ins Co'!B21),0) -> 7031 | C21: =ROUND(SUM('Alamo Title Insurance Co:WFG National Title Ins Co'!C21),0) -> 7099 | D21: =ROUND(SUM('Alamo Title Insurance Co:WFG National Title Ins Co'!D21),0) -> 7191 | E21: =ROUND(SUM('Alamo Title Insurance Co:WFG National Title Ins Co'!E21),0) -> 7204 | F21: =ROUND(SUM('Alamo Title Insurance Co:WFG National Title Ins Co'!F21),0) -> 7221 | G21: =ROUND(SUM('Alamo Title Insurance Co:WFG National Title Ins Co'!G21),0) -> 7235 | H21: =ROUND(SUM('Alamo Title Insurance Co:WFG National Title Ins Co'!H21),0) -> 7239 | I21: =ROUND(SUM('Alamo Title Insurance Co:WFG National Title Ins Co'!I21),0) -> 7250 | ... M21: =ROUND(SUM('Alamo Title Insurance Co:WFG National Title Ins Co'!M21),0) -> 176
A22: =A21+1 -> 2001 | B22: =ROUND(SUM('Alamo Title Insurance Co:WFG National Title Ins Co'!B22),0) -> 3527 | C22: =ROUND(SUM('Alamo Title Insurance Co:WFG National Title Ins Co'!C22),0) -> 3581 | D22: =ROUND(SUM('Alamo Title Insurance Co:WFG National Title Ins Co'!D22),0) -> 3605 | E22: =ROUND(SUM('Alamo Title Insurance Co:WFG National Title Ins Co'!E22),0) -> 3577 | F22: =ROUND(SUM('Alamo Title Insurance Co:WFG National Title Ins Co'!F22),0) -> 3602 | G22: =ROUND(SUM('Alamo Title Insurance Co:WFG National Title Ins Co'!G22),0) -> 3607 | H22: =ROUND(SUM('Alamo Title Insurance Co:WFG National Title Ins Co'!H22),0) -> 3617 | I22: =ROUND(SUM('Alamo Title Insurance Co:WFG National Title Ins Co'!I22),0) -> 3627 | ... M22: =ROUND(SUM('Alamo Title Insurance Co:WFG National Title Ins Co'!M22),0) -> 167
A23: =A22+1 -> 2002 | B23: =ROUND(SUM('Alamo Title Insurance Co:WFG National Title Ins Co'!B23),0) -> 2882 | C23: =ROUND(SUM('Alamo Title Insurance Co:WFG National Title Ins Co'!C23),0) -> 2897 | D23: =ROUND(SUM('Alamo Title Insurance Co:WFG National Title Ins Co'!D23),0) -> 2920 | E23: =ROUND(SUM('Alamo Title Insurance Co:WFG National Title Ins Co'!E23),0) -> 2944 | F23: =ROUND(SUM('Alamo Title Insurance Co:WFG National Title Ins Co'!F23),0) -> 2947 | G23: =ROUND(SUM('Alamo Title Insurance Co:WFG National Title Ins Co'!G23),0) -> 2995 | H23: =ROUND(SUM('Alamo Title Insurance Co:WFG National Title Ins Co'!H23),0) -> 2995 | I23: =ROUND(SUM('Alamo Title Insurance Co:WFG National Title Ins Co'!I23),0) -> 2995 | ... M23: =ROUND(SUM('Alamo Title Insurance Co:WFG National Title Ins Co'!M23),0) -> 171
A24: =A23+1 -> 2003 | B24: =ROUND(SUM('Alamo Title Insurance Co:WFG National Title Ins Co'!B24),0) -> 4011 | C24: =ROUND(SUM('Alamo Title Insurance Co:WFG National Title Ins Co'!C24),0) -> 4168 | D24: =ROUND(SUM('Alamo Title Insurance Co:WFG National Title Ins Co'!D24),0) -> 4287 | E24: =ROUND(SUM('Alamo Title Insurance Co:WFG National Title Ins Co'!E24),0) -> 4479 | F24: =ROUND(SUM('Alamo Title Insurance Co:WFG National Title Ins Co'!F24),0) -> 4522 | G24: =ROUND(SUM('Alamo Title Insurance Co:WFG National Title Ins Co'!G24),0) -> 4536 | H24: =ROUND(SUM('Alamo Title Insurance Co:WFG National Title Ins Co'!H24),0) -> 4552 | I24: =ROUND(SUM('Alamo Title Insurance Co:WFG National Title Ins Co'!I24),0) -> 4677 | ... M24: =ROUND(SUM('Alamo Title Insurance Co:WFG National Title Ins Co'!M24),0) -> 253
A25: =A24+1 -> 2004 | B25: =ROUND(SUM('Alamo Title Insurance Co:WFG National Title Ins Co'!B25),0) -> 3923 | C25: =ROUND(SUM('Alamo Title Insurance Co:WFG National Title Ins Co'!C25),0) -> 4226 | D25: =ROUND(SUM('Alamo Title Insurance Co:WFG National Title Ins Co'!D25),0) -> 4427 | E25: =ROUND(SUM('Alamo Title Insurance Co:WFG National Title Ins Co'!E25),0) -> 4446 | F25: =ROUND(SUM('Alamo Title Insurance Co:WFG National Title Ins Co'!F25),0) -> 4602 | G25: =ROUND(SUM('Alamo Title Insurance Co:WFG National Title Ins Co'!G25),0) -> 4690 | H25: =ROUND(SUM('Alamo Title Insurance Co:WFG National Title Ins Co'!H25),0) -> 4705 | I25: =ROUND(SUM('Alamo Title Insurance Co:WFG National Title Ins Co'!I25),0) -> 4718 | ... M25: =ROUND(SUM('Alamo Title Insurance Co:WFG National Title Ins Co'!M25),0) -> 241
... A33: =A32+1 -> 2012 | B33: =ROUND(SUM('Alamo Title Insurance Co:WFG National Title Ins Co'!B33),0) -> 121 | C33: =ROUND(SUM('Alamo Title Insurance Co:WFG National Title Ins Co'!C33),0) -> 201 | D33: =ROUND(SUM('Alamo Title Insurance Co:WFG National Title Ins Co'!D33),0) -> 247 | E33: =ROUND(SUM('Alamo Title Insurance Co:WFG National Title Ins Co'!E33),0) -> 564 | F33: =ROUND(SUM('Alamo Title Insurance Co:WFG National Title Ins Co'!F33),0) -> 1155 | G33: =ROUND(SUM('Alamo Title Insurance Co:WFG National Title Ins Co'!G33),0) -> 1206 | H33: =ROUND(SUM('Alamo Title Insurance Co:WFG National Title Ins Co'!H33),0) -> 1323 | I33: =ROUND(SUM('Alamo Title Insurance Co:WFG National Title Ins Co'!I33),0) -> 1390 | ... M33: =ROUND(SUM('Alamo Title Insurance Co:WFG National Title Ins Co'!M33),0) -> 69
A34: =A33+1 -> 2013 | C34: =ROUND(SUM('Alamo Title Insurance Co:WFG National Title Ins Co'!C34),0) -> 194 | D34: =ROUND(SUM('Alamo Title Insurance Co:WFG National Title Ins Co'!D34),0) -> 542 | E34: =ROUND(SUM('Alamo Title Insurance Co:WFG National Title Ins Co'!E34),0) -> 654 | F34: =ROUND(SUM('Alamo Title Insurance Co:WFG National Title Ins Co'!F34),0) -> 949 | G34: =ROUND(SUM('Alamo Title Insurance Co:WFG National Title Ins Co'!G34),0) -> 1044 | H34: =ROUND(SUM('Alamo Title Insurance Co:WFG National Title Ins Co'!H34),0) -> 1211 | I34: =ROUND(SUM('Alamo Title Insurance Co:WFG National Title Ins Co'!I34),0) -> 1221 | J34: =ROUND(SUM('Alamo Title Insurance Co:WFG National Title Ins Co'!J34),0) -> 1232 | ... M34: =ROUND(SUM('Alamo Title Insurance Co:WFG National Title Ins Co'!M34),0) -> 79
A35: =A34+1 -> 2014 | D35: =ROUND(SUM('Alamo Title Insurance Co:WFG National Title Ins Co'!D35),0) -> 63 | E35: =ROUND(SUM('Alamo Title Insurance Co:WFG National Title Ins Co'!E35),0) -> 193 | F35: =ROUND(SUM('Alamo Title Insurance Co:WFG National Title Ins Co'!F35),0) -> 733 | G35: =ROUND(SUM('Alamo Title Insurance Co:WFG National Title Ins Co'!G35),0) -> 845 | H35: =ROUND(SUM('Alamo Title Insurance Co:WFG National Title Ins Co'!H35),0) -> 1292 | I35: =ROUND(SUM('Alamo Title Insurance Co:WFG National Title Ins Co'!I35),0) -> 1387 | J35: =ROUND(SUM('Alamo Title Insurance Co:WFG National Title Ins Co'!J35),0) -> 1395 | K35: =ROUND(SUM('Alamo Title Insurance Co:WFG National Title Ins Co'!K35),0) -> 1427 | ... M35: =ROUND(SUM('Alamo Title Insurance Co:WFG National Title Ins Co'!M35),0) -> 56
A36: =A35+1 -> 2015 | E36: =ROUND(SUM('Alamo Title Insurance Co:WFG National Title Ins Co'!E36),0) -> 92 | F36: =ROUND(SUM('Alamo Title Insurance Co:WFG National Title Ins Co'!F36),0) -> 403 | G36: =ROUND(SUM('Alamo Title Insurance Co:WFG National Title Ins Co'!G36),0) -> 606 | H36: =ROUND(SUM('Alamo Title Insurance Co:WFG National Title Ins Co'!H36),0) -> 639 | I36: =ROUND(SUM('Alamo Title Insurance Co:WFG National Title Ins Co'!I36),0) -> 691 | J36: =ROUND(SUM('Alamo Title Insurance Co:WFG National Title Ins Co'!J36),0) -> 701 | K36: =ROUND(SUM('Alamo Title Insurance Co:WFG National Title Ins Co'!K36),0) -> 709 | L36: =ROUND(SUM('Alamo Title Insurance Co:WFG National Title Ins Co'!L36),0) -> 29 | M36: =ROUND(SUM('Alamo Title Insurance Co:WFG National Title Ins Co'!M36),0) -> 37
A37: =A36+1 -> 2016 | F37: =ROUND(SUM('Alamo Title Insurance Co:WFG National Title Ins Co'!F37),0) -> 305 | G37: =ROUND(SUM('Alamo Title Insurance Co:WFG National Title Ins Co'!G37),0) -> 381 | H37: =ROUND(SUM('Alamo Title Insurance Co:WFG National Title Ins Co'!H37),0) -> 525 | I37: =ROUND(SUM('Alamo Title Insurance Co:WFG National Title Ins Co'!I37),0) -> 639 | J37: =ROUND(SUM('Alamo Title Insurance Co:WFG National Title Ins Co'!J37),0) -> 672 | K37: =ROUND(SUM('Alamo Title Insurance Co:WFG National Title Ins Co'!K37),0) -> 835 | L37: =ROUND(SUM('Alamo Title Insurance Co:WFG National Title Ins Co'!L37),0) -> 31 | M37: =ROUND(SUM('Alamo Title Insurance Co:WFG National Title Ins Co'!M37),0) -> 40
A38: =A37+1 -> 2017 | G38: =ROUND(SUM('Alamo Title Insurance Co:WFG National Title Ins Co'!G38),0) -> 64 | H38: =ROUND(SUM('Alamo Title Insurance Co:WFG National Title Ins Co'!H38),0) -> 151 | I38: =ROUND(SUM('Alamo Title Insurance Co:WFG National Title Ins Co'!I38),0) -> 475 | J38: =ROUND(SUM('Alamo Title Insurance Co:WFG National Title Ins Co'!J38),0) -> 510 | K38: =ROUND(SUM('Alamo Title Insurance Co:WFG National Title Ins Co'!K38),0) -> 530 | L38: =ROUND(SUM('Alamo Title Insurance Co:WFG National Title Ins Co'!L38),0) -> 21 | M38: =ROUND(SUM('Alamo Title Insurance Co:WFG National Title Ins Co'!M38),0) -> 25
A39: =A38+1 -> 2018 | H39: =ROUND(SUM('Alamo Title Insurance Co:WFG National Title Ins Co'!H39),0) -> 10 | I39: =ROUND(SUM('Alamo Title Insurance Co:WFG National Title Ins Co'!I39),0) -> 279 | J39: =ROUND(SUM('Alamo Title Insurance Co:WFG National Title Ins Co'!J39),0) -> 419 | K39: =ROUND(SUM('Alamo Title Insurance Co:WFG National Title Ins Co'!K39),0) -> 670 | L39: =ROUND(SUM('Alamo Title Insurance Co:WFG National Title Ins Co'!L39),0) -> 23 | M39: =ROUND(SUM('Alamo Title Insurance Co:WFG National Title Ins Co'!M39),0) -> 22
A40: =A39+1 -> 2019 | I40: =ROUND(SUM('Alamo Title Insurance Co:WFG National Title Ins Co'!I40),0) -> 72 | J40: =ROUND(SUM('Alamo Title Insurance Co:WFG National Title Ins Co'!J40),0) -> 349 | K40: =ROUND(SUM('Alamo Title Insurance Co:WFG National Title Ins Co'!K40),0) -> 468 | L40: =ROUND(SUM('Alamo Title Insurance Co:WFG National Title Ins Co'!L40),0) -> 18 | M40: =ROUND(SUM('Alamo Title Insurance Co:WFG National Title Ins Co'!M40),0) -> 19
A41: =A40+1 -> 2020 | J41: =ROUND(SUM('Alamo Title Insurance Co:WFG National Title Ins Co'!J41),0) -> 55 | K41: =ROUND(SUM('Alamo Title Insurance Co:WFG National Title Ins Co'!K41),0) -> 1283 | L41: =ROUND(SUM('Alamo Title Insurance Co:WFG National Title Ins Co'!L41),0) -> 11 | M41: =ROUND(SUM('Alamo Title Insurance Co:WFG National Title Ins Co'!M41),0) -> 20
A42: =A41+1 -> 2021 | K42: =ROUND(SUM('Alamo Title Insurance Co:WFG National Title Ins Co'!K42),0) -> 36 | L42: =ROUND(SUM('Alamo Title Insurance Co:WFG National Title Ins Co'!L42),0) -> 2 | M42: =ROUND(SUM('Alamo Title Insurance Co:WFG National Title Ins Co'!M42),0) -> 11
J43: 2020 | K43: 2021
I44: Total: | J44: =SUM(J12:J41) -> 119265 | K44: =SUM(K12:K42) -> 121516
G45: Total Payments During 2021: | K45: =K44-J44 -> 2251

Sheet Agents National Title Insurance
A1: NEW MEXICO TITLE INSURANCE UNDERWRITERS STATISTICAL REPORT
A2: FORM 5: DIRECT PAID LOSS DEVELOPMENT
B3: For Calendar Year Ending December 31, 2021
A4: NEW MEXICO EXPERIENCE ONLY
E5: Insurance Company: | F5: Agents National Title Insurance Company
L6: Number of | M6: Number of
A7: Years in | L7: Claims | M7: Claims
A8: Which | L8: Closed | M8: Closed
A9: Policies | L9: With | M9: Without
A10: Were | F10: Part A: Cumulative Paid Losses and Allocated Loss Adjustment Expenses at Year End (000 omitted) | L10: Loss | M10: Loss
A11: Written | B11: 2012 | C11: =B11+1 -> 2013 | D11: =C11+1 -> 2014 | E11: =D11+1 -> 2015 | F11: =E11+1 -> 2016 | G11: =F11+1 -> 2017 | H11: =G11+1 -> 2018 | I11: =H11+1 -> 2019 | J11: =I11+1 -> 2020 | K11: =J11+1 -> 2021 | L11: Payment | M11: Payment
A12: Prior | B12: 0 | C12: 0 | D12: 0 | E12: 0 | F12: 0 | G12: 0 | H12: 0 | I12: 0 | J12: 0 | K12: 0 | L12: 0 | M12: 0
A13: 1992 | B13: 0 | C13: 0 | D13: 0 | E13: 0 | F13: 0 | G13: 0 | H13: 0 | I13: 0 | J13: 0 | K13: 0 | L13: 0 | M13: 0
A14: =1+A13 -> 1993 | B14: 0 | C14: 0 | D14: 0 | E14: 0 | F14: 0 | G14: 0 | H14: 0 | I14: 0 | J14: 0 | K14: 0 | L14: 0 | M14: 0
A15: =1+A14 -> 1994 | B15: 0 | C15: 0 | D15: 0 | E15: 0 | F15: 0 | G15: 0 | H15: 0 | I15: 0 | J15: 0 | K15: 0 | L15: 0 | M15: 0
A16: =1+A15 -> 1995 | B16: 0 | C16: 0 | D16: 0 | E16: 0 | F16: 0 | G16: 0 | H16: 0 | I16: 0 | J16: 0 | K16: 0 | L16: 0 | M16: 0
A17: =1+A16 -> 1996 | B17: 0 | C17: 0 | D17: 0 | E17: 0 | F17: 0 | G17: 0 | H17: 0 | I17: 0 | J17: 0 | K17: 0 | L17: 0 | M17: 0
A18: =1+A17 -> 1997 | B18: 0 | C18: 0 | D18: 0 | E18: 0 | F18: 0 | G18: 0 | H18: 0 | I18: 0 | J18: 0 | K18: 0 | L18: 0 | M18: 0
A19: =1+A18 -> 1998 | B19: 0 | C19: 0 | D19: 0 | E19: 0 | F19: 0 | G19: 0 | H19: 0 | I19: 0 | J19: 0 | K19: 0 | L19: 0 | M19: 0
A20: =1+A19 -> 1999 | B20: 0 | C20: 0 | D20: 0 | E20: 0 | F20: 0 | G20: 0 | H20: 0 | I20: 0 | J20: 0 | K20: 0 | L20: 0 | M20: 0
A21: =1+A20 -> 2000 | B21: 0 | C21: 0 | D21: 0 | E21: 0 | F21: 0 | G21: 0 | H21: 0 | I21: 0 | J21: 0 | K21: 0 | L21: 0 | M21: 0
A22: =1+A21 -> 2001 | B22: 0 | C22: 0 | D22: 0 | E22: 0 | F22: 0 | G22: 0 | H22: 0 | I22: 0 | J22: 0 | K22: 0 | L22: 0 | M22: 0
A23: =1+A22 -> 2002 | B23: 0 | C23: 0 | D23: 0 | E23: 0 | F23: 0 | G23: 0 | H23: 0 | I23: 0 | J23: 0 | K23: 0 | L23: 0 | M23: 0
A24: =1+A23 -> 2003 | B24: 0 | C24: 0 | D24: 0 | E24: 0 | F24: 0 | G24: 0 | H24: 0 | I24: 0 | J24: 0 | K24: 0 | L24: 0 | M24: 0
A25: =1+A24 -> 2004 | B25: 0 | C25: 0 | D25: 0 | E25: 0 | F25: 0 | G25: 0 | H25: 0 | I25: 0 | J25: 0 | K25: 0 | L25: 0 | M25: 0
... A33: =1+A32 -> 2012 | B33: 0 | C33: 0 | D33: 0 | E33: 0 | F33: 0 | G33: 0 | H33: 0 | I33: 0 | J33: 0 | K33: 0 | L33: 0 | M33: 0
A34: =1+A33 -> 2013 | C34: 0 | D34: 0 | E34: 0 | F34: 0 | G34: 0 | H34: 0 | I34: 0 | J34: 0 | K34: 0 | L34: 0 | M34: 0
A35: =1+A34 -> 2014 | D35: 0 | E35: 0 | F35: 0 | G35: 0 | H35: 0 | I35: 0 | J35: 0 | K35: 0 | L35: 0 | M35: 0
A36: =1+A35 -> 2015 | E36: 0 | F36: 0 | G36: 0 | H36: 0 | I36: 0 | J36: 0 | K36: 0 | L36: 0 | M36: 0
A37: =1+A36 -> 2016 | F37: 0 | G37: 0 | H37: 0 | I37: 0 | J37: 0 | K37: 0 | L37: 0 | M37: 0
A38: =1+A37 -> 2017 | G38: 0 | H38: 0 | I38: 0 | J38: 0 | K38: 0 | L38: 0 | M38: 0
A39: =1+A38 -> 2018 | H39: 0 | I39: 0 | J39: 0 | K39: 0 | L39: 0 | M39: 0
A40: =1+A39 -> 2019 | I40: 0 | J40: 0 | K40: 0 | L40: 0 | M40: 0
A41: =1+A40 -> 2020 | J41: 0 | K41: 0 | L41: 0 | M41: 0
A42: =1+A41 -> 2021 | K42: 0 | L42: 0 | M42: 0
J43: 2020 | K43: =J43+1 -> 2021
I44: Total: | J44: =SUM(J12:J41) -> 0 | K44: =SUM(K12:K42) -> 0
J45: Total Payments during 2021: | K45: =K44-J44 -> 0
J46: New Mexico Direct Losses Paid as shown in NAIC Annual Statement Schedule T: | K46: 0
J47: Difference: | K47: =K45-K46 -> 0
...

Sheet Alamo Title Insurance Co
A1: NEW MEXICO TITLE INSURANCE UNDERWRITERS STATISTICAL REPORT
A2: FORM 5: DIRECT PAID LOSS DEVELOPMENT
B3: For Calendar Year Ending December 31, 2021
A4: NEW MEXICO EXPERIENCE ONLY
E5: Insurance Company: | F5: Alamo Title Insurance
L6: Number of | M6: Number of
A7: Years in | L7: Claims | M7: Claims
A8: Which | L8: Closed | M8: Closed
A9: Policies | L9: With | M9: Without
A10: Were | F10: Part A: Cumulative Paid Losses and Allocated Loss Adjustment Expenses at Year End (000 omitted) | L10: Loss | M10: Loss
A11: Written | B11: 2012 | C11: =B11+1 -> 2013 | D11: =C11+1 -> 2014 | E11: =D11+1 -> 2015 | F11: =E11+1 -> 2016 | G11: =F11+1 -> 2017 | H11: =G11+1 -> 2018 | I11: =H11+1 -> 2019 | J11: =I11+1 -> 2020 | K11: =J11+1 -> 2021 | L11: Payment | M11: Payment
A12: Prior | B12: 0 | C12: 0 | D12: 0 | E12: 0 | F12: 0 | G12: 0 | H12: 0 | I12: 0 | J12: 0 | K12: 0 | L12: 0 | M12: 0
A13: 1992 | B13: 0 | C13: 0 | D13: 0 | E13: 0 | F13: 0 | G13: 0 | H13: 0 | I13: 0 | J13: 0 | K13: 0 | L13: 0 | M13: 0
A14: =1+A13 -> 1993 | B14: 0 | C14: 0 | D14: 0 | E14: 0 | F14: 0 | G14: 0 | H14: 0 | I14: 0 | J14: 0 | K14: 0 | L14: 0 | M14: 0
A15: =1+A14 -> 1994 | B15: 18 | C15: 18 | D15: 18 | E15: 18 | F15: 18 | G15: 18 | H15: 18 | I15: 18 | J15: 18 | K15: 18 | L15: 2 | M15: 1
A16: =1+A15 -> 1995 | B16: 578 | C16: 593.14457 | D16: 651 | E16: 1007.7317 | F16: 1028.7317 | G16: 1790.7317 | H16: 1790.7317 | I16: 1790.7317 | J16: 1790.7317 | K16: 1791 | L16: 6 | M16: 6
A17: =1+A16 -> 1996 | B17: 92 | C17: 92 | D17: 92 | E17: 92.268 | F17: 92.268 | G17: 92.268 | H17: 92.268 | I17: 92.268 | J17: 92.268 | K17: 105 | L17: 3 | M17: 9
A18: =1+A17 -> 1997 | B18: 82 | C18: 82 | D18: 82 | E18: 82 | F18: 82 | G18: 82 | H18: 82 | I18: 82 | J18: 82 | K18: 82 | L18: 5 | M18: 8
A19: =1+A18 -> 1998 | B19: 196 | C19: 197.42903 | D19: 197.42903 | E19: 197.42903 | F19: 197.42903 | G19: 197.42903 | H19: 197.42903 | I19: 197.42903 | J19: 197.55603 | K19: 198 | L19: 14 | M19: 24
A20: =1+A19 -> 1999 | B20: 111 | C20: 111 | D20: 111 | E20: 111 | F20: 111 | G20: 111 | H20: 111 | I20: 111 | J20: 111 | K20: 111 | L20: 3 | M20: 2
A21: =1+A20 -> 2000 | B21: 1 | C21: 1 | D21: 1 | E21: 1 | F21: 1 | G21: 1 | H21: 1 | I21: 1 | J21: 1 | K21: 1 | L21: 1 | M21: 1
A22: =1+A21 -> 2001 | B22: 33 | C22: 33 | D22: 33 | E22: 33 | F22: 33 | G22: 33 | H22: 33 | I22: 33 | J22: 33 | K22: 33 | L22: 4 | M22: 3
A23: =1+A22 -> 2002 | B23: 0 | C23: 0 | D23: 0 | E23: 0 | F23: 0 | G23: 0 | H23: 0 | I23: 0 | J23: 0 | K23: 0 | L23: 0 | M23: 0
A24: =1+A23 -> 2003 | B24: 0 | C24: 0 | D24: 0 | E24: 0 | F24: 0 | G24: 0 | H24: 0 | I24: 0 | J24: 0 | K24: 0 | L24: 0 | M24: 0
A25: =1+A24 -> 2004 | B25: 5 | C25: 5 | D25: 5 | E25: 5 | F25: 5 | G25: 5 | H25: 5 | I25: 5 | J25: 5 | K25: 5 | L25: 1 | M25: 0
... A33: =1+A32 -> 2012 | B33: 0 | C33: 0 | D33: 0 | E33: 0 | F33: 0 | G33: 0 | H33: 0 | I33: 0 | J33: 0 | K33: 0 | L33: 0 | M33: 0
A34: =1+A33 -> 2013 | C34: 0 | D34: 0 | E34: 0 | F34: 0 | G34: 0 | H34: 0 | I34: 0 | J34: 0 | K34: 0 | L34: 0 | M34: 0
A35: =1+A34 -> 2014 | D35: 0 | E35: 0 | F35: 0 | G35: 0 | H35: 0 | I35: 0 | J35: 0 | K35: 0 | L35: 0 | M35: 0
A36: =1+A35 -> 2015 | E36: 0 | F36: 0 | G36: 0 | H36: 0 | I36: 0 | J36: 0 | K36: 0 | L36: 0 | M36: 0
A37: =1+A36 -> 2016 | F37: 0 | G37: 0 | H37: 0 | I37: 0 | J37: 0 | K37: 0 | L37: 0 | M37: 0
A38: =1+A37 -> 2017 | G38: 0 | H38: 0 | I38: 0 | J38: 0 | K38: 0 | L38: 0 | M38: 0
A39: =1+A38 -> 2018 | H39: 0 | I39: 0 | J39: 0 | K39: 0 | L39: 0 | M39: 0
A40: =1+A39 -> 2019 | I40: 0 | J40: 0 | K40: 0 | L40: 0 | M40: 0
A41: =1+A40 -> 2020 | J41: 0 | K41: 0 | L41: 0 | M41: 0
A42: =1+A41 -> 2021 | K42: 0 | L42: 0 | M42: 0
J43: 2020 | K43: =J43+1 -> 2021
I44: Total: | J44: =SUM(J12:J41) -> 2330.5557 | K44: =SUM(K12:K42) -> 2344
J45: Total Payments during 2021: | K45: =K44-J44 -> 13.444317
J46: New Mexico Direct Losses Paid as shown in NAIC Annual Statement Schedule T: | K46: 13
J47: Difference: | K47: =K45-K46 -> 0.44431727
...

Sheet Alliant National Title Ins Co
A1: NEW MEXICO TITLE INSURANCE UNDERWRITERS STATISTICAL REPORT
A2: FORM 5: DIRECT PAID LOSS DEVELOPMENT
B3: For Calendar Year Ending December 31, 2021
A4: NEW MEXICO EXPERIENCE ONLY
E5: Insurance Company: | F5: Alliant National Title Insurance Company, Inc.
L6: Number of | M6: Number of
A7: Years in | L7: Claims | M7: Claims
A8: Which | L8: Closed | M8: Closed
A9: Policies | L9: With | M9: Without
A10: Were | F10: Part A: Cumulative Paid Losses and Allocated Loss Adjustment Expenses at Year End (000 omitted) | L10: Loss | M10: Loss
A11: Written | B11: 2012 | C11: =B11+1 -> 2013 | D11: =C11+1 -> 2014 | E11: =D11+1 -> 2015 | F11: =E11+1 -> 2016 | G11: =F11+1 -> 2017 | H11: =G11+1 -> 2018 | I11: =H11+1 -> 2019 | J11: =I11+1 -> 2020 | K11: =J11+1 -> 2021 | L11: Payment | M11: Payment
A12: Prior
A13: 1992
A14: =1+A13 -> 1993
A15: =1+A14 -> 1994
A16: =1+A15 -> 1995
A17: =1+A16 -> 1996
A18: =1+A17 -> 1997
A19: =1+A18 -> 1998
A20: =1+A19 -> 1999
A21: =1+A20 -> 2000
A22: =1+A21 -> 2001
A23: =1+A22 -> 2002
A24: =1+A23 -> 2003
A25: =1+A24 -> 2004
... A30: =1+A29 -> 2009
A31: =1+A30 -> 2010 | B31: 0 | C31: 0 | D31: 0 | E31: 0 | F31: 0 | G31: 0 | H31: 0 | I31: 0 | J31: 0 | K31: 0 | L31: 0 | M31: 0
A32: =1+A31 -> 2011 | B32: 0 | C32: 0 | D32: 0 | E32: 0 | F32: 0 | G32: 0 | H32: 0 | I32: 0 | J32: 0 | K32: =J32 -> 0 | L32: 0 | M32: 0
A33: =1+A32 -> 2012 | B33: 0 | C33: 0 | D33: 0 | E33: 0 | F33: 0 | G33: 0 | H33: 0 | I33: 0 | J33: 0 | K33: =J33 -> 0 | L33: 0 | M33: 0
A34: =1+A33 -> 2013 | C34: 0 | D34: 0 | E34: 0 | F34: 0 | G34: 0 | H34: 0 | I34: 0 | J34: 0 | K34: =J34 -> 0 | L34: 0 | M34: 0
A35: =1+A34 -> 2014 | D35: 0 | E35: 0 | F35: 0 | G35: 0 | H35: 0 | I35: 0 | J35: 0 | K35: =J35 -> 0 | L35: 0 | M35: 0
A36: =1+A35 -> 2015 | E36: 0 | F36: 0 | G36: 0 | H36: 0 | I36: 0 | J36: 0 | K36: =J36 -> 0 | L36: 0 | M36: 0
A37: =1+A36 -> 2016 | F37: 0 | G37: 0 | H37: 0 | I37: 0 | J37: 0 | K37: =J37 -> 0 | L37: 0 | M37: 0
A38: =1+A37 -> 2017 | G38: 0 | H38: 0 | I38: 0 | J38: 0 | K38: =J38 -> 0 | L38: 0 | M38: 0
A39: =1+A38 -> 2018 | H39: 0 | I39: 7.416 | J39: =7+11+27 -> 45 | K39: =J39 -> 45 | L39: 0 | M39: 0
A40: =1+A39 -> 2019 | I40: 2.5 | J40: =3+30 -> 33 | K40: =J40+0.9 -> 33.9 | L40: 2 | M40: 1
A41: =1+A40 -> 2020 | J41: 0 | K41: =710+33.1+0.15 -> 743.25 | L41: 2 | M41: 0
A42: =1+A41 -> 2021 | K42: =0.678+0.05 -> 0.728 | L42: 2 | M42: 0
J43: 2020 | K43: =J43+1 -> 2021
I44: Total: | J44: =SUM(J12:J41) -> 78 | K44: 823
...

Sheet American Digital Title Ins Co
A1: NEW MEXICO TITLE INSURANCE UNDERWRITERS STATISTICAL REPORT
A2: FORM 5: DIRECT PAID LOSS DEVELOPMENT
B3: For Calendar Year Ending December 31, 2021
A4: NEW MEXICO EXPERIENCE ONLY
E5: Insurance Company: | F5: American Digital Title Insurance Company
L6: Number of | M6: Number of
A7: Years in | L7: Claims | M7: Claims
A8: Which | L8: Closed | M8: Closed
A9: Policies | L9: With | M9: Without
A10: Were | F10: Part A: Cumulative Paid Losses and Allocated Loss Adjustment Expenses at Year End (000 omitted) | L10: Loss | M10: Loss
A11: Written | B11: 2012 | C11: =B11+1 -> 2013 | D11: =C11+1 -> 2014 | E11: =D11+1 -> 2015 | F11: =E11+1 -> 2016 | G11: =F11+1 -> 2017 | H11: =G11+1 -> 2018 | I11: =H11+1 -> 2019 | J11: =I11+1 -> 2020 | K11: =J11+1 -> 2021 | L11: Payment | M11: Payment
A12: Prior
A13: 1992
A14: =1+A13 -> 1993
A15: =1+A14 -> 1994
A16: =1+A15 -> 1995
A17: =1+A16 -> 1996
A18: =1+A17 -> 1997
A19: =1+A18 -> 1998
A20: =1+A19 -> 1999
A21: =1+A20 -> 2000
A22: =1+A21 -> 2001
A23: =1+A22 -> 2002
A24: =1+A23 -> 2003
A25: =1+A24 -> 2004
... A42: =1+A41 -> 2021
J43: 2020 | K43: =J43+1 -> 2021
I44: Total: | J44: =SUM(J12:J41) -> 0 | K44: =SUM(K12:K42) -> 0
J45: Total Payments during 2021: | K45: =K44-J44 -> 0
J46: New Mexico Direct Losses Paid as shown in NAIC Annual Statement Schedule T:
J47: Difference: | K47: =K45-K46 -> 0
B48: Explanation for Difference (if any):
A52: Note: | B52: Use the same reporting instructions as for Schedule P - Part 2A of the NAIC Annual Statement,
B53: except that loss and ALAE should be DIRECT of REINSURANCE and should be NEW MEXICO claims only.
A56: Part B: Claims by Risk Code (000 omitted)
B57: NUMBER OF CLAIMS BY RISK CODE
B58: A. Basic Risks | C58: B. Special Risks | D58: C. Plant, Search & Abstract Procedures | E58: D. Examination & Opinion Irregularities | F58: E. Survey-Inspection/ Description Matters | G58: F. Escrow/ Closing Procedures | H58: G. Typing or Policy Review | I58: H. Taxes and Special Assessments | J58: I. Apparent Non-Covered Claims | K58: J. Stakeholder/ Interpleader Cases | L58: K. Disputed Procedures (Judicial/ Non- Judicial) | M58: Total
A59: Count of Claims Paid | M59: =SUM(B59:L59) -> 0
A60: Total Dollars Paid Out By Code | M60: =SUM(B60:L60) -> 0
A62: Part C: Claims by Responsibility Code (000 omitted)
...

Sheet AmTrust Title Insurance Company
A1: NEW MEXICO TITLE INSURANCE UNDERWRITERS STATISTICAL REPORT
A2: FORM 5: DIRECT PAID LOSS DEVELOPMENT
B3: For Calendar Year Ending December 31, 2021
A4: NEW MEXICO EXPERIENCE ONLY
E5: Insurance Company: | F5: AmTrust Title Insurance Company
L6: Number of | M6: Number of
A7: Years in | L7: Claims | M7: Claims
A8: Which | L8: Closed | M8: Closed
A9: Policies | L9: With | M9: Without
A10: Were | F10: Part A: Cumulative Paid Losses and Allocated Loss Adjustment Expenses at Year End (000 omitted) | L10: Loss | M10: Loss
A11: Written | B11: 2012 | C11: =B11+1 -> 2013 | D11: =C11+1 -> 2014 | E11: =D11+1 -> 2015 | F11: =E11+1 -> 2016 | G11: =F11+1 -> 2017 | H11: =G11+1 -> 2018 | I11: =H11+1 -> 2019 | J11: =I11+1 -> 2020 | K11: =J11+1 -> 2021 | L11: Payment | M11: Payment
A12: Prior
A13: 1992
A14: =1+A13 -> 1993
A15: =1+A14 -> 1994
A16: =1+A15 -> 1995
A17: =1+A16 -> 1996
A18: =1+A17 -> 1997
A19: =1+A18 -> 1998
A20: =1+A19 -> 1999
A21: =1+A20 -> 2000
A22: =1+A21 -> 2001
A23: =1+A22 -> 2002
A24: =1+A23 -> 2003
A25: =1+A24 -> 2004
... A42: =1+A41 -> 2021
J43: 2020 | K43: =J43+1 -> 2021
I44: Total: | J44: =SUM(J12:J41) -> 0 | K44: =SUM(K12:K42) -> 0
J45: Total Payments during 2021: | K45: =K44-J44 -> 0
J46: New Mexico Direct Losses Paid as shown in NAIC Annual Statement Schedule T: | K46: 0
J47: Difference: | K47: =K45-K46 -> 0
B48: Explanation for Difference (if any):
A52: Note: | B52: Use the same reporting instructions as for Schedule P - Part 2A of the NAIC Annual Statement,
B53: except that loss and ALAE should be DIRECT of REINSURANCE and should be NEW MEXICO claims only.
A56: Part B: Claims by Risk Code (000 omitted)
B57: NUMBER OF CLAIMS BY RISK CODE
B58: A. Basic Risks | C58: B. Special Risks | D58: C. Plant, Search & Abstract Procedures | E58: D. Examination & Opinion Irregularities | F58: E. Survey-Inspection/ Description Matters | G58: F. Escrow/ Closing Procedures | H58: G. Typing or Policy Review | I58: H. Taxes and Special Assessments | J58: I. Apparent Non-Covered Claims | K58: J. Stakeholder/ Interpleader Cases | L58: K. Disputed Procedures (Judicial/ Non- Judicial) | M58: Total
A59: Count of Claims Paid | M59: =SUM(B59:L59) -> 0
A60: Total Dollars Paid Out By Code | M60: =SUM(B60:L60) -> 0
A62: Part C: Claims by Responsibility Code (000 omitted)
...

Sheet Chicago Title Insurance Company
A1: NEW MEXICO TITLE INSURANCE UNDERWRITERS STATISTICAL REPORT
A2: FORM 5: DIRECT PAID LOSS DEVELOPMENT
B3: For Calendar Year Ending December 31, 2021
A4: NEW MEXICO EXPERIENCE ONLY
E5: Insurance Company: | F5: Chicago Title Insurance Company
L6: Number of | M6: Number of
A7: Years in | L7: Claims | M7: Claims
A8: Which | L8: Closed | M8: Closed
A9: Policies | L9: With | M9: Without
A10: Were | F10: Part A: Cumulative Paid Losses and Allocated Loss Adjustment Expenses at Year End (000 omitted) | L10: Loss | M10: Loss
A11: Written | B11: 2012 | C11: =B11+1 -> 2013 | D11: =C11+1 -> 2014 | E11: =D11+1 -> 2015 | F11: =E11+1 -> 2016 | G11: =F11+1 -> 2017 | H11: =G11+1 -> 2018 | I11: =H11+1 -> 2019 | J11: =I11+1 -> 2020 | K11: =J11+1 -> 2021 | L11: Payment | M11: Payment
A12: Prior | B12: 6143 | C12: 6161 | D12: 6161 | E12: 6166 | F12: 6166 | G12: 6167 | H12: 6168.7 | I12: 6168.7 | J12: 6168.7 | K12: 6169 | L12: 686 | M12: 386
A13: 1992 | B13: 154 | C13: 154 | D13: 154 | E13: 154 | F13: 154 | G13: 154 | H13: 154 | I13: 154 | J13: 154 | K13: 154 | L13: 22 | M13: 15
A14: =1+A13 -> 1993 | B14: 191 | C14: 191 | D14: 191 | E14: 191 | F14: 191 | G14: 191 | H14: 191 | I14: 191 | J14: 191 | K14: 191 | L14: 21 | M14: 18
A15: =1+A14 -> 1994 | B15: 327 | C15: 345 | D15: 358 | E15: 358 | F15: 358 | G15: 358 | H15: 358 | I15: 358 | J15: 358 | K15: 358 | L15: 17 | M15: 10
A16: =1+A15 -> 1995 | B16: 221 | C16: 224 | D16: 224 | E16: 224 | F16: 224 | G16: 224 | H16: 224 | I16: 224.175 | J16: 224 | K16: 224 | L16: 11 | M16: 19
A17: =1+A16 -> 1996 | B17: 158 | C17: 158 | D17: 158 | E17: 158 | F17: 158 | G17: 158 | H17: 158 | I17: 158 | J17: 158 | K17: 158 | L17: 8 | M17: 10
A18: =1+A17 -> 1997 | B18: 158 | C18: 158 | D18: 158 | E18: 158 | F18: 158 | G18: 158 | H18: 158 | I18: 158 | J18: 158 | K18: 158 | L18: 14 | M18: 12
A19: =1+A18 -> 1998 | B19: 203 | C19: 203 | D19: 203 | E19: 203 | F19: 203 | G19: 203 | H19: 203 | I19: 233.7911 | J19: 234 | K19: 234 | L19: 16 | M19: 21
A20: =1+A19 -> 1999 | B20: 38 | C20: 48 | D20: 40 | E20: 40 | F20: 40 | G20: 40 | H20: 40 | I20: 40 | J20: 40 | K20: 40 | L20: 10 | M20: 12
A21: =1+A20 -> 2000 | B21: 431 | C21: 434 | D21: 477 | E21: 484 | F21: 489 | G21: 493 | H21: 496.429 | I21: 496.429 | J21: 496 | K21: 496 | L21: 13 | M21: 9
A22: =1+A21 -> 2001 | B22: 48 | C22: 50 | D22: 50 | E22: 50 | F22: 50 | G22: 50 | H22: 50 | I22: 50 | J22: 51 | K22: 51 | L22: 10 | M22: 9
A23: =1+A22 -> 2002 | B23: 199 | C23: 200 | D23: 200 | E23: 200 | F23: 200 | G23: 200 | H23: 200 | I23: 200.4249 | J23: 200 | K23: 200 | L23: 10 | M23: 8
A24: =1+A23 -> 2003 | B24: 106 | C24: 107 | D24: 107 | E24: 108 | F24: 108 | G24: 109 | H24: 109 | I24: 109 | J24: 109 | K24: 109 | L24: 11 | M24: 13
A25: =1+A24 -> 2004 | B25: 73 | C25: 88 | D25: 199 | E25: 205 | F25: 210 | G25: 215 | H25: 216.2372 | I25: 216.2372 | J25: 216 | K25: 219 | L25: 11 | M25: 11
... A33: =1+A32 -> 2012 | B33: 1 | C33: 26.531 | D33: 26.531 | E33: 26.531 | F33: 26.531 | G33: 27 | H33: 27 | I33: 27 | J33: 27 | K33: 29 | L33: 4 | M33: 5
A34: =1+A33 -> 2013 | C34: 0 | D34: 6 | E34: 6 | F34: 13 | G34: 41 | H34: 41 | I34: 41 | J34: 41 | K34: 41 | L34: 3 | M34: 9
A35: =1+A34 -> 2014 | D35: 0 | E35: 8 | F35: 171 | G35: 185 | H35: 208.83929 | I35: 207.72632 | J35: 207 | K35: 208 | L35: 3 | M35: 7
A36: =1+A35 -> 2015 | E36: 0 | F36: 1 | G36: 1 | H36: 1.238 | I36: 22.6805 | J36: 24 | K36: 31 | L36: 4 | M36: 2
A37: =1+A36 -> 2016 | F37: 2 | G37: 22 | H37: 46.83766 | I37: 57.83366 | J37: 58 | K37: 58 | L37: 2 | M37: 2
A38: =1+A37 -> 2017 | G38: 0 | H38: 3 | I38: 11.614 | J38: 19 | K38: 22 | L38: 4 | M38: 0
A39: =1+A38 -> 2018 | H39: 0.35705 | I39: 0.62783 | J39: 4 | K39: 17 | L39: 3 | M39: 0
A40: =1+A39 -> 2019 | I40: 0 | J40: 86 | K40: 148 | L40: 3 | M40: 0
A41: =1+A40 -> 2020 | J41: 0 | K41: 0 | L41: 0 | M41: 0
A42: =1+A41 -> 2021 | K42: 0 | L42: 0 | M42: 1
J43: 2020 | K43: =J43+1 -> 2021
I44: Total: | J44: =SUM(J12:J41) -> 9941.7 | K44: =SUM(K12:K42) -> 10047
J45: Total Payments during 2021: | K45: =K44-J44 -> 105.3
J46: New Mexico Direct Losses Paid as shown in NAIC Annual Statement Schedule T: | K46: 105
J47: Difference: | K47: =K45-K46 -> 0.3
...

Sheet Commonwealth Land Title Ins Co
A1: NEW MEXICO TITLE INSURANCE UNDERWRITERS STATISTICAL REPORT
A2: FORM 5: DIRECT PAID LOSS DEVELOPMENT
B3: For Calendar Year Ending December 31, 2021
A4: NEW MEXICO EXPERIENCE ONLY
E5: Insurance Company: | F5: Commonwealth Land Title Insurance Company
L6: Number of | M6: Number of
A7: Years in | L7: Claims | M7: Claims
A8: Which | L8: Closed | M8: Closed
A9: Policies | L9: With | M9: Without
A10: Were | F10: Part A: Cumulative Paid Losses and Allocated Loss Adjustment Expenses at Year End (000 omitted) | L10: Loss | M10: Loss
A11: Written | B11: 2012 | C11: =B11+1 -> 2013 | D11: =C11+1 -> 2014 | E11: =D11+1 -> 2015 | F11: =E11+1 -> 2016 | G11: =F11+1 -> 2017 | H11: =G11+1 -> 2018 | I11: =H11+1 -> 2019 | J11: =I11+1 -> 2020 | K11: =J11+1 -> 2021 | L11: Payment | M11: Payment
A12: Prior | B12: 1746 | C12: 1746 | D12: 1746 | E12: 1746 | F12: 1794.9515 | G12: 1799.3673 | H12: 1801.5335 | I12: 1812.9115 | J12: 1813.2835 | K12: 1813 | L12: 122 | M12: 76
A13: 1992 | B13: 119 | C13: 119 | D13: 119 | E13: 119 | F13: 119 | G13: 119 | H13: 119 | I13: 119 | J13: 119 | K13: 119 | L13: 14 | M13: 11
A14: =1+A13 -> 1993 | B14: 317 | C14: 317 | D14: 317 | E14: 317 | F14: 317 | G14: 317 | H14: 317.54761 | I14: 317.54761 | J14: 317.54761 | K14: 366 | L14: 19 | M14: 21
A15: =1+A14 -> 1994 | B15: 239 | C15: 239 | D15: 239 | E15: 239 | F15: 239 | G15: 239 | H15: 239 | I15: 239 | J15: 239 | K15: 239 | L15: 9 | M15: 23
A16: =1+A15 -> 1995 | B16: 275 | C16: 275 | D16: 275 | E16: 275 | F16: 275 | G16: 275 | H16: 275 | I16: 275 | J16: 275 | K16: 275 | L16: 12 | M16: 17
A17: =1+A16 -> 1996 | B17: 420 | C17: 422.34032 | D17: 435.70522 | E17: 468.48817 | F17: 468.48817 | G17: 468.48817 | H17: 468.48817 | I17: 468.48817 | J17: 468.48817 | K17: 468 | L17: 15 | M17: 16
A18: =1+A17 -> 1997 | B18: 306 | C18: 317.17333 | D18: 331.98721 | E18: 340.44252 | F18: 345.16895 | G18: 348.53193 | H18: 371.56193 | I18: 371.56193 | J18: 371.56193 | K18: 372 | L18: 26 | M18: 23
A19: =1+A18 -> 1998 | B19: 568 | C19: 568 | D19: 568 | E19: 568.41823 | F19: 568.6887 | G19: 568.7387 | H19: 568.8637 | I19: 568.8637 | J19: 568.8637 | K19: 569 | L19: 49 | M19: 44
A20: =1+A19 -> 1999 | B20: 1420 | C20: 1448.7291 | D20: 1455.9023 | E20: 1546.7153 | F20: 1546.7153 | G20: 1547.2693 | H20: 1522.3193 | I20: 1522.3193 | J20: 1522.8913 | K20: 1524 | L20: 24 | M20: 22
A21: =1+A20 -> 2000 | B21: 3064 | C21: 3064 | D21: 3096.4226 | E21: 3096.4226 | F21: 3096.4226 | G21: 3096.4226 | H21: 3096.4226 | I21: 3096.4226 | J21: 3096.4226 | K21: 3096 | L21: 23 | M21: 20
A22: =1+A21 -> 2001 | B22: 1079 | C22: 1084.3484 | D22: 1084.9992 | E22: 1095.7595 | F22: 1102.1372 | G22: 1102.1372 | H22: 1102.1372 | I22: 1103.1532 | J22: 1103.1532 | K22: 1103 | L22: 19 | M22: 17
A23: =1+A22 -> 2002 | B23: 591 | C23: 591.52228 | D23: 591.52228 | E23: 591.52228 | F23: 591.52228 | G23: 591.52228 | H23: 591.52228 | I23: 591.52228 | J23: 591.52228 | K23: 595 | L23: 29 | M23: 18
A24: =1+A23 -> 2003 | B24: 694 | C24: 789.26529 | D24: 864.8793 | E24: 1045.2942 | F24: 1052.9524 | G24: 1053.6022 | H24: 1053.6022 | I24: 1054.6784 | J24: 1059.3454 | K24: 1060 | L24: 35 | M24: 19
A25: =1+A24 -> 2004 | B25: 445 | C25: 549.3825 | D25: 630.33671 | E25: 643.46993 | F25: 666.13752 | G25: 683.6754 | H25: 683.6754 | I25: 688.4535 | J25: 776.1245 | K25: 776 | L25: 31 | M25: 23
... A33: =1+A32 -> 2012 | B33: 0 | C33: 0 | D33: 0 | E33: 0 | F33: 0 | G33: 1.297 | H33: 2.1695 | I33: 2.1695 | J33: 2.1695 | K33: 2 | L33: 1 | M33: 0
A34: =1+A33 -> 2013 | C34: 15 | D34: 14.68 | E34: 18.48188 | F34: 18.48188 | G34: 18.48188 | H34: 18.48188 | I34: 18.48188 | J34: 18.48188 | K34: 17 | L34: 1 | M34: 5
A35: =1+A34 -> 2014 | D35: 0 | E35: 14.71315 | F35: 48.86204 | G35: 57.70254 | H35: 57.70254 | I35: 57.70254 | J35: 57.70254 | K35: 58 | L35: 1 | M35: 2
A36: =1+A35 -> 2015 | E36: 0 | F36: 0 | G36: 0 | H36: 0 | I36: 0 | J36: 0 | K36: 0 | L36: 1 | M36: 2
A37: =1+A36 -> 2016 | F37: 0 | G37: 10 | H37: 10 | I37: 4 | J37: 4 | K37: 4 | L37: 1 | M37: 0
A38: =1+A37 -> 2017 | G38: 0 | H38: 0 | I38: 0 | J38: 0 | K38: 0 | L38: 1 | M38: 0
A39: =1+A38 -> 2018 | H39: 0 | I39: 0 | J39: 0 | K39: 1 | L39: 2 | M39: 1
A40: =1+A39 -> 2019 | I40: 0 | J40: 0 | K40: 0 | L40: 0 | M40: 0
A41: =1+A40 -> 2020 | J41: 0 | K41: 0 | L41: 1 | M41: 0
A42: =1+A41 -> 2021 | K42: 0 | L42: 0 | M42: 0
J43: 2020 | K43: =J43+1 -> 2021
I44: Total: | J44: =SUM(J12:J41) -> 16455.684 | K44: =SUM(K12:K42) -> 16603
J45: Total Payments during 2021: | K45: =K44-J44 -> 147.31624
J46: New Mexico Direct Losses Paid as shown in NAIC Annual Statement Schedule T: | K46: 147
J47: Difference: | K47: =K45-K46 -> 0.31624
...

Sheet Fidelity National Title Ins Co
A1: NEW MEXICO TITLE INSURANCE UNDERWRITERS STATISTICAL REPORT
A2: FORM 5: DIRECT PAID LOSS DEVELOPMENT
B3: For Calendar Year Ending December 31, 2021
A4: NEW MEXICO EXPERIENCE ONLY
E5: Insurance Company: | F5: Fidelity National Title Insurance Company
L6: Number of | M6: Number of
A7: Years in | L7: Claims | M7: Claims
A8: Which | L8: Closed | M8: Closed
A9: Policies | L9: With | M9: Without
A10: Were | F10: Part A: Cumulative Paid Losses and Allocated Loss Adjustment Expenses at Year End (000 omitted) | L10: Loss | M10: Loss
A11: Written | B11: 2012 | C11: =B11+1 -> 2013 | D11: =C11+1 -> 2014 | E11: =D11+1 -> 2015 | F11: =E11+1 -> 2016 | G11: =F11+1 -> 2017 | H11: =G11+1 -> 2018 | I11: =H11+1 -> 2019 | J11: =I11+1 -> 2020 | K11: =J11+1 -> 2021 | L11: Payment | M11: Payment
A12: Prior | B12: 8853 | C12: 8860 | D12: 8901 | E12: 8900 | F12: 8900 | G12: 8905 | H12: 8920 | I12: 8926 | J12: 8946 | K12: 8946 | L12: 652 | M12: 860
A13: 1992 | B13: 469 | C13: 469 | D13: 469 | E13: 469 | F13: 469 | G13: 469 | H13: 469 | I13: 469 | J13: 469 | K13: 469 | L13: 33 | M13: 31
A14: =1+A13 -> 1993 | B14: 359 | C14: 361.48116 | D14: 361.48116 | E14: 361.48116 | F14: 361.48116 | G14: 364 | H14: 396.9245 | I14: 397 | J14: 397 | K14: 397 | L14: 33 | M14: 32
A15: =1+A14 -> 1994 | B15: 315 | C15: 315 | D15: 321 | E15: 321.2675 | F15: 321.2675 | G15: 321 | H15: 321 | I15: 321 | J15: 321 | K15: 321 | L15: 26 | M15: 28
A16: =1+A15 -> 1995 | B16: 1606 | C16: 1606 | D16: 1606 | E16: 1606 | F16: 1606 | G16: 1606 | H16: 1606 | I16: 1606 | J16: 1606 | K16: 1606 | L16: 38 | M16: 45
A17: =1+A16 -> 1996 | B17: 1078 | C17: 1078 | D17: 1078 | E17: 1078 | F17: 1078 | G17: 1078 | H17: 1078 | I17: 1078 | J17: 1078 | K17: 1078 | L17: 33 | M17: 38
A18: =1+A17 -> 1997 | B18: 890 | C18: 899.6 | D18: 899.6 | E18: 903.75666 | F18: 906.95616 | G18: 930 | H18: 930.46072 | I18: 930 | J18: 930 | K18: 931 | L18: 53 | M18: 54
A19: =1+A18 -> 1998 | B19: 786 | C19: 786 | D19: 786 | E19: 843.55 | F19: 843.55 | G19: 844 | H19: 845.097 | I19: 845 | J19: 845 | K19: 845 | L19: 55 | M19: 61
A20: =1+A19 -> 1999 | B20: 849 | C20: 850.36213 | D20: 850.36213 | E20: 853.89046 | F20: 853.89046 | G20: 854 | H20: 854 | I20: 854 | J20: 854 | K20: 860 | L20: 50 | M20: 68
A21: =1+A20 -> 2000 | B21: 1102 | C21: 1147.159 | D21: 1157.9752 | E21: 1160.6402 | F21: 1160.6402 | G21: 1161 | H21: 1161 | I21: 1161 | J21: 1161 | K21: 1161 | L21: 58 | M21: 57
A22: =1+A21 -> 2001 | B22: 864 | C22: 894.13365 | D22: 894.33365 | E22: 849.85365 | F22: 849.85365 | G22: 852 | H22: 852.34666 | I22: 854 | J22: 855 | K22: 855 | L22: 55 | M22: 52
A23: =1+A22 -> 2002 | B23: 960 | C23: 964.15985 | D23: 987.64882 | E23: 1011.9643 | F23: 1013.6136 | G23: 1014 | H23: 1014 | I23: 1014 | J23: 1016 | K23: 1024 | L23: 58 | M23: 67
A24: =1+A23 -> 2003 | B24: 1639 | C24: 1650.4733 | D24: 1652.5973 | E24: 1652.6313 | F24: 1661.2823 | G24: 1672 | H24: 1672 | I24: 1676 | J24: 1699 | K24: 1700 | L24: 76 | M24: 88
A25: =1+A24 -> 2004 | B25: 1768 | C25: 1778.3819 | D25: 1786.4511 | E25: 1786.9631 | F25: 1794.4117 | G25: 1819 | H25: 1820.6233 | I25: 1829 | J25: 1836 | K25: 1874 | L25: 75 | M25: 75
... A33: =1+A32 -> 2012 | B33: 4 | C33: 10.4296 | D33: 12.04224 | E33: 228.16547 | F33: 799.70345 | G33: 837 | H33: 928.58207 | I33: 955 | J33: 1088 | K33: 1127 | L33: 17 | M33: 19
A34: =1+A33 -> 2013 | C34: 100 | D34: 151.86903 | E34: 183.65174 | F34: 215.13335 | G34: 270 | H34: 390.72802 | I34: 392 | J34: 403 | K34: 430 | L34: 22 | M34: 20
A35: =1+A34 -> 2014 | D35: 7.38154 | E35: 39.48737 | F35: 97.29922 | G35: 182 | H35: 189.35722 | I35: 195 | J35: 203 | K35: 234 | L35: 18 | M35: 9
A36: =1+A35 -> 2015 | E36: 7.5459 | F36: 243.87367 | G36: 280 | H36: 282.99282 | I36: 296 | J36: 304 | K36: 304 | L36: 16 | M36: 12
A37: =1+A36 -> 2016 | F37: 14.15249 | G37: 28 | H37: 130.04409 | I37: 205 | J37: 215 | K37: 239 | L37: 12 | M37: 19
A38: =1+A37 -> 2017 | G38: 0 | H38: 0.66109 | I38: 1 | J38: 1 | K38: 1 | L38: 3 | M38: 9
A39: =1+A38 -> 2018 | H39: 6.935 | I39: 165 | J39: 246 | K39: 407 | L39: 9 | M39: 3
A40: =1+A39 -> 2019 | I40: 53 | J40: 136 | K40: 145 | L40: 8 | M40: 5
A41: =1+A40 -> 2020 | J41: 52 | K41: 263 | L41: 6 | M41: 4
A42: =1+A41 -> 2021 | K42: 34 | L42: 0 | M42: 5
J43: 2020 | K43: =J43+1 -> 2021
I44: Total: | J44: =SUM(J12:J41) -> 34719 | K44: =SUM(K12:K42) -> 35287
J45: Total Payments during 2021: | K45: =K44-J44 -> 568
J46: New Mexico Direct Losses Paid as shown in NAIC Annual Statement Schedule T: | K46: 568
J47: Difference: | K47: =K45-K46 -> 0
...

Sheet First American Title Ins Co
A1: NEW MEXICO TITLE INSURANCE UNDERWRITERS STATISTICAL REPORT
A2: FORM 5: DIRECT PAID LOSS DEVELOPMENT
B3: For Calendar Year Ending December 31, 2021
A4: NEW MEXICO EXPERIENCE ONLY
E5: Insurance Company: | F5: First American Title Insurance Company
L6: Number of | M6: Number of
A7: Years in | L7: Claims | M7: Claims
A8: Which | L8: Closed | M8: Closed
A9: Policies | L9: With | M9: Without
A10: Were | F10: Part A: Cumulative Paid Losses and Allocated Loss Adjustment Expenses at Year End (000 omitted) | L10: Loss | M10: Loss
A11: Written | B11: 2012 | C11: =B11+1 -> 2013 | D11: =C11+1 -> 2014 | E11: =D11+1 -> 2015 | F11: =E11+1 -> 2016 | G11: =F11+1 -> 2017 | H11: =G11+1 -> 2018 | I11: =H11+1 -> 2019 | J11: =I11+1 -> 2020 | K11: =J11+1 -> 2021 | L11: Payment | M11: Payment
A12: Prior | B12: 3446 | C12: 3496 | D12: 3500 | E12: 3500 | F12: 3500 | G12: 3500 | H12: 3500 | I12: 3500 | J12: 3500 | K12: 3545 | L12: 160 | M12: 160
A13: 1992 | B13: 525 | C13: 525 | D13: 525 | E13: 525 | F13: 525 | G13: 525 | H13: 525 | I13: 525 | J13: 560 | K13: 560 | L13: 16 | M13: 25
A14: =1+A13 -> 1993 | B14: 1793 | C14: 1793 | D14: 1793 | E14: 1793 | F14: 1793 | G14: 1793 | H14: 1793 | I14: 1793 | J14: 1793 | K14: 1793 | L14: 23 | M14: 36
A15: =1+A14 -> 1994 | B15: 660 | C15: 660 | D15: 660 | E15: 660 | F15: 660 | G15: 660 | H15: 660 | I15: 660 | J15: 660 | K15: 660 | L15: 35 | M15: 44
A16: =1+A15 -> 1995 | B16: 758 | C16: 763 | D16: 763 | E16: 763 | F16: 763 | G16: 763 | H16: 763 | I16: 763 | J16: 763 | K16: 763 | L16: 31 | M16: 45
A17: =1+A16 -> 1996 | B17: 972 | C17: 972 | D17: 985 | E17: 985 | F17: 985 | G17: 985 | H17: 985 | I17: 985 | J17: 985 | K17: 985 | L17: 23 | M17: 64
A18: =1+A17 -> 1997 | B18: 763 | C18: 763 | D18: 763 | E18: 763 | F18: 763 | G18: 763 | H18: 766 | I18: 772 | J18: 772 | K18: 811 | L18: 30 | M18: 59
A19: =1+A18 -> 1998 | B19: 1077 | C19: 1077 | D19: 1077 | E19: 1077 | F19: 1077 | G19: 1077 | H19: 1077 | I19: 1077 | J19: 1077 | K19: 1077 | L19: 31 | M19: 70
A20: =1+A19 -> 1999 | B20: 5061 | C20: 5064 | D20: 5105 | E20: 5159 | F20: 5211 | G20: 5264 | H20: 5263 | I20: 5262 | J20: 5262 | K20: 5262 | L20: 33 | M20: 76
A21: =1+A20 -> 2000 | B21: 2152 | C21: 2167 | D21: 2173 | E21: 2176 | F21: 2188 | G21: 2198 | H21: 2198 | I21: 2209 | J21: 2209 | K21: 2209 | L21: 35 | M21: 78
A22: =1+A21 -> 2001 | B22: 900 | C22: 907 | D22: 929 | E22: 933 | F22: 933 | G22: 933 | H22: 941 | I22: 941 | J22: 941 | K22: 941 | L22: 43 | M22: 71
A23: =1+A22 -> 2002 | B23: 813 | C23: 822 | D23: 822 | E23: 822 | F23: 823 | G23: 870 | H23: 870 | I23: 870 | J23: 878 | K23: 878 | L23: 44 | M23: 68
A24: =1+A23 -> 2003 | B24: 1116 | C24: 1152 | D24: 1194 | E24: 1203 | F24: 1229 | G24: 1229 | H24: 1229 | I24: 1229 | J24: 1229 | K24: 1230 | L24: 62 | M24: 117
A25: =1+A24 -> 2004 | B25: 1406 | C25: 1534 | D25: 1535 | E25: 1535 | F25: 1535 | G25: 1539 | H25: 1539 | I25: 1539 | J25: 1539 | K25: 1539 | L25: 49 | M25: 109
... A33: =1+A32 -> 2012 | B33: 101 | C33: 101 | D33: 101 | E33: 107 | F33: 113 | G33: 115 | H33: 121 | I33: 123 | J33: 197 | K33: 197 | L33: 8 | M33: 29
A34: =1+A33 -> 2013 | C34: 76 | D34: 82 | E34: 125 | F34: 125 | G34: 125 | H34: 166 | I34: 166 | J34: 166 | K34: 172 | L34: 7 | M34: 24
A35: =1+A34 -> 2014 | D35: 55 | E35: 129 | F35: 410 | G35: 410 | H35: 416 | I35: 450 | J35: 450 | K35: 450 | L35: 7 | M35: 23
A36: =1+A35 -> 2015 | E36: 84 | F36: 150 | G36: 316 | H36: 346 | I36: 360 | J36: 360 | K36: 360 | L36: 7 | M36: 12
A37: =1+A36 -> 2016 | F37: 203 | G37: 207 | H37: 207 | I37: 220 | J37: 226 | K37: 226 | L37: 6 | M37: 15
A38: =1+A37 -> 2017 | G38: 22 | H38: 78 | I38: 388 | J38: 405 | K38: 405 | L38: 5 | M38: 14
A39: =1+A38 -> 2018 | H39: 0 | I39: 45 | J39: 54 | K39: 61 | L39: 5 | M39: 13
A40: =1+A39 -> 2019 | I40: 13 | J40: 17 | K40: 28 | L40: 1 | M40: 12
A41: =1+A40 -> 2020 | J41: 3 | K41: 41 | L41: 2 | M41: 14
A42: =1+A41 -> 2021 | K42: 1 | L42: 0 | M42: 5
J43: 2020 | K43: 2021
I44: Total: | J44: =SUM(J12:J41) -> 32351 | K44: =SUM(K12:K42) -> 32505
J45: Total Payments during 2021: | K45: =K44-J44 -> 154
J46: New Mexico Direct Losses Paid as shown in NAIC Annual Statement Schedule T: | K46: 154
J47: Difference: | K47: =K45-K46 -> 0
...

Sheet First National Title Ins Co
A1: NEW MEXICO TITLE INSURANCE UNDERWRITERS STATISTICAL REPORT
A2: FORM 5: DIRECT PAID LOSS DEVELOPMENT
B3: For Calendar Year Ending December 31, 2021
A4: NEW MEXICO EXPERIENCE ONLY
E5: Insurance Company: | F5: First National Title Insurance Commpany
L6: Number of | M6: Number of
A7: Years in | L7: Claims | M7: Claims
A8: Which | L8: Closed | M8: Closed
A9: Policies | L9: With | M9: Without
A10: Were | F10: Part A: Cumulative Paid Losses and Allocated Loss Adjustment Expenses at Year End (000 omitted) | L10: Loss | M10: Loss
A11: Written | B11: 2012 | C11: =B11+1 -> 2013 | D11: =C11+1 -> 2014 | E11: =D11+1 -> 2015 | F11: =E11+1 -> 2016 | G11: =F11+1 -> 2017 | H11: =G11+1 -> 2018 | I11: =H11+1 -> 2019 | J11: =I11+1 -> 2020 | K11: =J11+1 -> 2021 | L11: Payment | M11: Payment
A12: Prior
A13: 1992
A14: =1+A13 -> 1993
A15: =1+A14 -> 1994
A16: =1+A15 -> 1995
A17: =1+A16 -> 1996
A18: =1+A17 -> 1997
A19: =1+A18 -> 1998
A20: =1+A19 -> 1999
A21: =1+A20 -> 2000
A22: =1+A21 -> 2001
A23: =1+A22 -> 2002
A24: =1+A23 -> 2003
A25: =1+A24 -> 2004
... A37: =1+A36 -> 2016
A38: =1+A37 -> 2017 | M38: 1
A39: =1+A38 -> 2018 | J39: 3 | K39: 4 | M39: =1+1 -> 2
A40: =1+A39 -> 2019 | M40: 1
A41: =1+A40 -> 2020 | M41: 1
A42: =1+A41 -> 2021
J43: 2020 | K43: 2021
I44: Total: | J44: =SUM(J12:J41) -> 3 | K44: =SUM(K12:K42) -> 4
J45: Total Payments during 2021: | K45: =K44-J44 -> 1
J46: New Mexico Direct Losses Paid as shown in NAIC Annual Statement Schedule T: | K46: 1
J47: Difference: | K47: =K45-K46 -> 0
B48: Explanation for Difference (if any):
A52: Note: | B52: Use the same reporting instructions as for Schedule P - Part 2A of the NAIC Annual Statement,
B53: except that loss and ALAE should be DIRECT of REINSURANCE and should be NEW MEXICO claims only.
A56: Part B: Claims by Risk Code (000 omitted)
...

Sheet Investors Title Insurance Co
A1: NEW MEXICO TITLE INSURANCE UNDERWRITERS STATISTICAL REPORT
A2: FORM 5: DIRECT PAID LOSS DEVELOPMENT
B3: For Calendar Year Ending December 31, 2021
A4: NEW MEXICO EXPERIENCE ONLY
E5: Insurance Company: | F5: Investors Title Insurance Company
L6: Number of | M6: Number of
A7: Years in | L7: Claims | M7: Claims
A8: Which | L8: Closed | M8: Closed
A9: Policies | L9: With | M9: Without
A10: Were | F10: Part A: Cumulative Paid Losses and Allocated Loss Adjustment Expenses at Year End (000 omitted) | L10: Loss | M10: Loss
A11: Written | B11: 2012 | C11: =B11+1 -> 2013 | D11: =C11+1 -> 2014 | E11: =D11+1 -> 2015 | F11: =E11+1 -> 2016 | G11: =F11+1 -> 2017 | H11: =G11+1 -> 2018 | I11: =H11+1 -> 2019 | J11: =I11+1 -> 2020 | K11: =J11+1 -> 2021 | L11: Payment | M11: Payment
A12: Prior | B12: 0 | C12: 0 | D12: 0 | E12: 0 | F12: 0 | G12: 0 | H12: 0 | I12: 0 | J12: 0 | K12: 0 | L12: 0 | M12: 0
A13: 1992 | B13: 0 | C13: 0 | D13: 0 | E13: 0 | F13: 0 | G13: 0 | H13: 0 | I13: 0 | J13: 0 | K13: 0 | L13: 0 | M13: 0
A14: =1+A13 -> 1993 | B14: 0 | C14: 0 | D14: 0 | E14: 0 | F14: 0 | G14: 0 | H14: 0 | I14: 0 | J14: 0 | K14: 0 | L14: 0 | M14: 0
A15: =1+A14 -> 1994 | B15: 0 | C15: 0 | D15: 0 | E15: 0 | F15: 0 | G15: 0 | H15: 0 | I15: 0 | J15: 0 | K15: 0 | L15: 0 | M15: 0
A16: =1+A15 -> 1995 | B16: 0 | C16: 0 | D16: 0 | E16: 0 | F16: 0 | G16: 0 | H16: 0 | I16: 0 | J16: 0 | K16: 0 | L16: 0 | M16: 0
A17: =1+A16 -> 1996 | B17: 0 | C17: 0 | D17: 0 | E17: 0 | F17: 0 | G17: 0 | H17: 0 | I17: 0 | J17: 0 | K17: 0 | L17: 0 | M17: 0
A18: =1+A17 -> 1997 | B18: 0 | C18: 0 | D18: 0 | E18: 0 | F18: 0 | G18: 0 | H18: 0 | I18: 0 | J18: 0 | K18: 0 | L18: 0 | M18: 0
A19: =1+A18 -> 1998 | B19: 0 | C19: 0 | D19: 0 | E19: 0 | F19: 0 | G19: 0 | H19: 0 | I19: 0 | J19: 0 | K19: 0 | L19: 0 | M19: 0
A20: =1+A19 -> 1999 | B20: 0 | C20: 0 | D20: 0 | E20: 0 | F20: 0 | G20: 0 | H20: 0 | I20: 0 | J20: 0 | K20: 0 | L20: 0 | M20: 0
A21: =1+A20 -> 2000 | B21: 0 | C21: 0 | D21: 0 | E21: 0 | F21: 0 | G21: 0 | H21: 0 | I21: 0 | J21: 0 | K21: 0 | L21: 0 | M21: 0
A22: =1+A21 -> 2001 | B22: 0 | C22: 0 | D22: 0 | E22: 0 | F22: 0 | G22: 0 | H22: 0 | I22: 0 | J22: 0 | K22: 0 | L22: 0 | M22: 0
A23: =1+A22 -> 2002 | B23: 0 | C23: 0 | D23: 0 | E23: 0 | F23: 0 | G23: 0 | H23: 0 | I23: 0 | J23: 0 | K23: 0 | L23: 0 | M23: 0
A24: =1+A23 -> 2003 | B24: 0 | C24: 0 | D24: 0 | E24: 0 | F24: 0 | G24: 0 | H24: 0 | I24: 0 | J24: 0 | K24: 0 | L24: 0 | M24: 0
A25: =1+A24 -> 2004 | B25: 0 | C25: 0 | D25: 0 | E25: 0 | F25: 0 | G25: 0 | H25: 0 | I25: 0 | J25: 0 | K25: 0 | L25: 0 | M25: 0
... A33: =1+A32 -> 2012 | B33: 0 | C33: 0 | D33: 0 | E33: 0 | F33: 0 | G33: 0 | H33: 0 | I33: 0 | J33: 0 | K33: 0 | L33: 0 | M33: 0
A34: =1+A33 -> 2013 | C34: 0 | D34: 0 | E34: 0 | F34: 0 | G34: 0 | H34: 0 | I34: 0 | J34: 0 | K34: 0 | L34: 0 | M34: 0
A35: =1+A34 -> 2014 | D35: 0 | E35: 0 | F35: 0 | G35: 0 | H35: 0 | I35: 0 | J35: 0 | K35: 0 | L35: 0 | M35: 0
A36: =1+A35 -> 2015 | E36: 0 | F36: 0 | G36: 0 | H36: 0 | I36: 0 | J36: 0 | K36: 0 | L36: 0 | M36: 0
A37: =1+A36 -> 2016 | F37: 0 | G37: 0 | H37: 0 | I37: 0 | J37: 0 | K37: 0 | L37: 0 | M37: 0
A38: =1+A37 -> 2017 | G38: 0 | H38: 0 | I38: 0 | J38: 0 | K38: 0 | L38: 0 | M38: 0
A39: =1+A38 -> 2018 | H39: 0 | I39: 0 | J39: 0 | K39: 0 | L39: 0 | M39: 0
A40: =1+A39 -> 2019 | I40: 0 | J40: 0 | K40: 0 | L40: 0 | M40: 0
A41: =1+A40 -> 2020 | J41: 0 | K41: 0 | L41: 0 | M41: 0
A42: =1+A41 -> 2021 | K42: 0 | L42: 0 | M42: 0
J43: 2020 | K43: =J43+1 -> 2021
I44: Total: | J44: =SUM(J12:J41) -> 0 | K44: =SUM(K12:K42) -> 0
J45: Total Payments during 2021: | K45: =K44-J44 -> 0
J46: New Mexico Direct Losses Paid as shown in NAIC Annual Statement Schedule T: | K46: 0
J47: Difference: | K47: =K45-K46 -> 0
...

Sheet National Title Insurance of NY
A1: NEW MEXICO TITLE INSURANCE UNDERWRITERS STATISTICAL REPORT
A2: FORM 5: DIRECT PAID LOSS DEVELOPMENT
B3: For Calendar Year Ending December 31, 2021
A4: NEW MEXICO EXPERIENCE ONLY
E5: Insurance Company: | F5: National Title Insurance of New York Inc.
L6: Number of | M6: Number of
A7: Years in | L7: Claims | M7: Claims
A8: Which | L8: Closed | M8: Closed
A9: Policies | L9: With | M9: Without
A10: Were | F10: Part A: Cumulative Paid Losses and Allocated Loss Adjustment Expenses at Year End (000 omitted) | L10: Loss | M10: Loss
A11: Written | B11: 2012 | C11: =B11+1 -> 2013 | D11: =C11+1 -> 2014 | E11: =D11+1 -> 2015 | F11: =E11+1 -> 2016 | G11: =F11+1 -> 2017 | H11: =G11+1 -> 2018 | I11: =H11+1 -> 2019 | J11: =I11+1 -> 2020 | K11: =J11+1 -> 2021 | L11: Payment | M11: Payment
A12: Prior | B12: 0 | C12: 0 | D12: 0 | E12: 0 | F12: 0 | G12: 0 | H12: 0 | I12: 0 | J12: 0 | K12: 0 | L12: 0 | M12: 0
A13: 1992 | B13: 0 | C13: 0 | D13: 0 | E13: 0 | F13: 0 | G13: 0 | H13: 0 | I13: 0 | J13: 0 | K13: 0 | L13: 0 | M13: 0
A14: =1+A13 -> 1993 | B14: 0 | C14: 0 | D14: 0 | E14: 0 | F14: 0 | G14: 0 | H14: 0 | I14: 0 | J14: 0 | K14: 0 | L14: 0 | M14: 0
A15: =1+A14 -> 1994 | B15: 0 | C15: 0 | D15: 0 | E15: 0 | F15: 0 | G15: 0 | H15: 0 | I15: 0 | J15: 0 | K15: 0 | L15: 0 | M15: 0
A16: =1+A15 -> 1995 | B16: 0 | C16: 0 | D16: 0 | E16: 0 | F16: 0 | G16: 0 | H16: 0 | I16: 0 | J16: 0 | K16: 0 | L16: 0 | M16: 0
A17: =1+A16 -> 1996 | B17: 0 | C17: 0 | D17: 0 | E17: 0 | F17: 0 | G17: 0 | H17: 0 | I17: 0 | J17: 0 | K17: 0 | L17: 0 | M17: 0
A18: =1+A17 -> 1997 | B18: 0 | C18: 0 | D18: 0 | E18: 0 | F18: 0 | G18: 0 | H18: 0 | I18: 0 | J18: 0 | K18: 0 | L18: 0 | M18: 0
A19: =1+A18 -> 1998 | B19: 0 | C19: 0 | D19: 0 | E19: 0 | F19: 0 | G19: 0 | H19: 0 | I19: 0 | J19: 0 | K19: 0 | L19: 0 | M19: 0
A20: =1+A19 -> 1999 | B20: 0 | C20: 0 | D20: 0 | E20: 0 | F20: 0 | G20: 0 | H20: 0 | I20: 0 | J20: 0 | K20: 0 | L20: 0 | M20: 0
A21: =1+A20 -> 2000 | B21: 0 | C21: 0 | D21: 0 | E21: 0 | F21: 0 | G21: 0 | H21: 0 | I21: 0 | J21: 0 | K21: 0 | L21: 0 | M21: 0
A22: =1+A21 -> 2001 | B22: 0 | C22: 0 | D22: 0 | E22: 0 | F22: 0 | G22: 0 | H22: 0 | I22: 0 | J22: 0 | K22: 0 | L22: 0 | M22: 0
A23: =1+A22 -> 2002 | B23: 0 | C23: 0 | D23: 0 | E23: 0 | F23: 0 | G23: 0 | H23: 0 | I23: 0 | J23: 0 | K23: 0 | L23: 0 | M23: 0
A24: =1+A23 -> 2003 | B24: 0 | C24: 0 | D24: 0 | E24: 0 | F24: 0 | G24: 0 | H24: 0 | I24: 0 | J24: 0 | K24: 0 | L24: 0 | M24: 0
A25: =1+A24 -> 2004 | B25: 0 | C25: 0 | D25: 0 | E25: 0 | F25: 0 | G25: 0 | H25: 0 | I25: 0 | J25: 0 | K25: 0 | L25: 0 | M25: 0
... A33: =1+A32 -> 2012 | B33: 0 | C33: 0 | D33: 0 | E33: 0 | F33: 0 | G33: 0 | H33: 0 | I33: 0 | J33: 0 | K33: 0 | L33: 0 | M33: 0
A34: =1+A33 -> 2013 | C34: 0 | D34: 0 | E34: 0 | F34: 0 | G34: 0 | H34: 0 | I34: 0 | J34: 0 | K34: 0 | L34: 0 | M34: 0
A35: =1+A34 -> 2014 | D35: 0 | E35: 0 | F35: 0 | G35: 0 | H35: 0 | I35: 0 | J35: 0 | K35: 0 | L35: 0 | M35: 0
A36: =1+A35 -> 2015 | E36: 0 | F36: 0 | G36: 0 | H36: 0 | I36: 0 | J36: 0 | K36: 0 | L36: 0 | M36: 0
A37: =1+A36 -> 2016 | F37: 0 | G37: 0 | H37: 0 | I37: 0 | J37: 0 | K37: 0 | L37: 0 | M37: 0
A38: =1+A37 -> 2017 | G38: 0 | H38: 0 | I38: 0 | J38: 0 | K38: 0 | L38: 0 | M38: 0
A39: =1+A38 -> 2018 | H39: 0 | I39: 0 | J39: 0 | K39: 0 | L39: 0 | M39: 0
A40: =1+A39 -> 2019 | I40: 0 | J40: 0 | K40: 0 | L40: 0 | M40: 0
A41: =1+A40 -> 2020 | J41: 0 | K41: 0 | L41: 0 | M41: 0
A42: =1+A41 -> 2021 | K42: 0 | L42: 0 | M42: 0
J43: 2020 | K43: =J43+1 -> 2021
