Workbook
Name SCH_A: #REF!
Name SCH_A: #REF!
Name SCH_A: #REF!
Name SCH_A: #REF!
Name SCH_A: #REF!
Name SCH_A: #REF!
Name SCH_A: #REF!
Name SCH_A: #REF!
Name SCH_B: #REF!
Name SCH_B: #REF!
Name SCH_B: #REF!
Name SCH_B: #REF!
Name SCH_B: #REF!
Name SCH_B: #REF!
Name SCH_B: #REF!
Name SCH_B: #REF!
Name SCH_C: #REF!
Name SCH_C: #REF!
Name SCH_C: #REF!
Name SCH_C: #REF!
Name SCH_C: #REF!
Name SCH_C: #REF!
Name SCH_C: #REF!
Name SCH_C: #REF!
Name SCH_D: #REF!
Name SCH_D: #REF!
Name SCH_D: #REF!
Name SCH_D: #REF!
Name SCH_D: #REF!
Name SCH_D: #REF!
Name SCH_D: #REF!
Name SCH_D: #REF!
Name SCH_E: #REF!
Name SCH_E: #REF!
Name SCH_E: #REF!
Name SCH_E: #REF!
Name SCH_E: #REF!
Name SCH_E: #REF!
Name SCH_E: #REF!
Name SCH_E: #REF!
Name SCH_F: #REF!
Name SCH_F: #REF!
Name SCH_F: #REF!
Name SCH_F: #REF!
Name SCH_F: #REF!
Name SCH_F: #REF!
Name SCH_F: #REF!
Name SCH_F: #REF!
Name SCH_G: #REF!
Name SCH_G: #REF!
Name SCH_G: #REF!
Name SCH_G: #REF!
Name SCH_G: #REF!
Name SCH_G: #REF!
Name SCH_G: #REF!
Name SCH_G: #REF!
Name SCH_H: #REF!
Name SCH_H: #REF!
Name SCH_H: #REF!
Name SCH_H: #REF!

Sheet Aggregation
A1: Exhibit II
A2: SCHEDULE A OF THE NEW MEXICO TITLE INSURANCE AGENTS STATISTICAL REPORT
A3: Aggregated for all Affiliated Agents
A4: For the Year Ended December 31, 2021
A6: Agencies reporting: 7
C8: Part A: Revenue
C9: 1. | D9: Title insurance written premiums | E9: =ROUND(SUM('BNT of NM LLC:TCNM'!E18),0)+1 -> 56853405
C10: 2. | D10: Less: Remitted title insurance premiums | E10: =ROUND(SUM('BNT of NM LLC:TCNM'!E19),0) -> 11755944
C11: 3. | D11: Retained title insurance premiums | E11: =E9-E10 -> 45097461
C12: 4. | D12: Other income | E12: =ROUND(SUM('BNT of NM LLC:TCNM'!E21),0) -> 21880468
C13: 5. | D13: Total Revenue | E13: =E11+E12 -> 66977929
C15: Part B: Expenses
C16: 1. | D16: Employees' salaries and wages | E16: =ROUND(SUM('BNT of NM LLC:TCNM'!E25),0) -> 27849201
C17: 2. | D17: Owners' and partners' salaries and wages | E17: =ROUND(SUM('BNT of NM LLC:TCNM'!E26),0) -> 0
C18: 3. | D18: Employee benefits | E18: =ROUND(SUM('BNT of NM LLC:TCNM'!E27),0) -> 4700159
C19: 4. | D19: Rent | E19: =ROUND(SUM('BNT of NM LLC:TCNM'!E28),0) -> 2236792
C20: 5. | D20: Insurance | E20: =ROUND(SUM('BNT of NM LLC:TCNM'!E29),0) -> 116472
C21: 6. | D21: Legal expense | E21: =ROUND(SUM('BNT of NM LLC:TCNM'!E30),0) -> 38927
C22: 7. | D22: Licenses, taxes and fees | E22: =ROUND(SUM('BNT of NM LLC:TCNM'!E31),0) -> 288186
C23: 8. | D23: Title plant expense and maintenance | E23: =ROUND(SUM('BNT of NM LLC:TCNM'!E32),0) -> 2217921
C24: 9. | D24: Office supplies | E24: =ROUND(SUM('BNT of NM LLC:TCNM'!E33),0) -> 397976
C25: 10. | D25: Depreciation | E25: =ROUND(SUM('BNT of NM LLC:TCNM'!E34),0) -> 228816
C26: 11. | D26: Automobile expense | E26: =ROUND(SUM('BNT of NM LLC:TCNM'!E35),0) -> 51800
C27: 12. | D27: Communication expense | E27: =ROUND(SUM('BNT of NM LLC:TCNM'!E36),0) -> 463003
... C35: 20. | D35: Other expenses | E35: =ROUND(SUM('BNT of NM LLC:TCNM'!E44),0) -> 6258932
C36: 21. | D36: Total Expenses | E36: =SUM(E16:E35) -> 45894988
C38: Part C: Net Income for Ratemaking Purposes
C39: 1. | D39: Income (Loss) from Operations | E39: =E13-E36 -> 21082941
C41: Part D: Excluded Expenses
C42: 1. | D42: NMLTA lobbying expense | E42: =ROUND(SUM('BNT of NM LLC:TCNM'!E51),0) -> 961
C43: 2. | D43: Direct lobbying expense | E43: =ROUND(SUM('BNT of NM LLC:TCNM'!E52),0) -> 0
C44: 3. | D44: Political contributions | E44: =ROUND(SUM('BNT of NM LLC:TCNM'!E53),0) -> 30
C45: 4. | D45: State and federal income tax expense | E45: =ROUND(SUM('BNT of NM LLC:TCNM'!E54),0) -> 2664361
C46: 5. | D46: 1/2 of meals and entertainment expense | E46: =ROUND(SUM('BNT of NM LLC:TCNM'!E55),0) -> 14640
C47: 6. | D47: Penalties | E47: =ROUND(SUM('BNT of NM LLC:TCNM'!E56),0) -> 2911
C48: 7. | D48: Country club dues | E48: =ROUND(SUM('BNT of NM LLC:TCNM'!E57),0) -> 10100
C49: 8. | D49: Salaries in excess of salary cap | E49: =ROUND(SUM('BNT of NM LLC:TCNM'!E58),0) -> 0
C50: 9. | D50: Other excluded expenses | E50: =ROUND(SUM('BNT of NM LLC:TCNM'!E59),0) -> 35546
C51: 10. | D51: Total Excluded Expenses | E51: =SUM(E42:E50) -> 2728549
C53: Part E: Net Income
...

Sheet BNT of NM LLC
D1: NEW MEXICO TITLE INSURANCE AGENTS STATISTICAL REPORT
D2: SCHEDULE A: STATEMENT OF INCOME AND EXPENSES
D3: For the Calendar Year Ending December 31, 2021
C5: AGENCY NAME: | D5: BNT of New Mexico
C6: ADDRESS: | D6: 129 West Trade Street. 9th Floor Charlotte, NC 28202
C7: CONTACT NAME: | D7: Keith Lewis
A8: Check One:
B9: INDEPENDENT (NON-AFFILIATED) Title insurance agencies that are independently owned and write title insurance business
B10: one or more title insurance underwriters.
A12: x | B12: AFFILIATED Title insurance agencies with 10% or greater ownership by a title insurance underwriter, including wholly-owned agencies.
B14: DIRECT Agency-type operations performed by the home or branch office of a title insurance underwriter. This does NOT include
B15: wholly-owned agencies.
C17: Part A: Revenue
C18: 1. | D18: Title insurance written premiums (from Schedule B) | E18: 886414
C19: 2. | D19: Less: Remitted title insurance premiums (from Schedule B) | E19: 177683
C20: 3. | D20: Retained title insurance premiums (from Schedule B) | E20: 708731
C21: 4. | D21: Other income (from Schedule C) | E21: 501742
C22: 5. | D22: Total Revenue | E22: =SUM(E20:E21) -> 1210473
C24: Part B: Expenses
C25: 1. | D25: Employees' salaries and wages | E25: 46088
C26: 2. | D26: Owners' and partners' salaries and wages
C27: 3. | D27: Employee benefits | E27: 2486
C28: 4. | D28: Rent | E28: 18186
C29: 5. | D29: Insurance | E29: 888
C30: 6. | D30: Legal expense
C31: 7. | D31: Licenses, taxes and fees | E31: 563
C32: 8. | D32: Title plant expense and maintenance
C33: 9. | D33: Office supplies | E33: 4311
C34: 10. | D34: Depreciation
C35: 11. | D35: Automobile expense
C36: 12. | D36: Communication expense | E36: 6083
C37: 13. | D37: Education expense
C38: 14. | D38: Bad debts
C39: 15. | D39: Interest expense
C40: 16. | D40: Employee travel and lodging
C41: 17. | D41: Loss and loss adjustment expense (from Schedule D) | E41: 0
C42: 18. | D42: Accounting and auditing expense | E42: 3779
C43: 19. | D43: Public relations expense | E43: 20179
C44: 20. | D44: Other expenses (from Schedule E) | E44: 798959
C45: 21. | D45: Total Expenses | E45: =SUM(E25:E44) -> 901522
...

Sheet Dona Ana Title Company
D1: NEW MEXICO TITLE INSURANCE AGENTS STATISTICAL REPORT
D2: SCHEDULE A: STATEMENT OF INCOME AND EXPENSES
D3: For the Calendar Year Ending December 31, 2021
C5: AGENCY NAME: | D5: Dona Ana Title Company
C6: ADDRESS: | D6: 425B South Telshor, Las Cruces, NM 88011
C7: CONTACT NAME: | D7: Gary Sandoval
A8: Check One:
B9: INDEPENDENT (NON-AFFILIATED) Title insurance agencies that are independently owned and write title insurance business
B10: one or more title insurance underwriters.
A12: X | B12: AFFILIATED Title insurance agencies with 10% or greater ownership by a title insurance underwriter, including wholly-owned agencies.
B14: DIRECT Agency-type operations performed by the home or branch office of a title insurance underwriter. This does NOT include
B15: wholly-owned agencies.
C17: Part A: Revenue
C18: 1. | D18: Title insurance written premiums (from Schedule B) | E18: 5274312
C19: 2. | D19: Less: Remitted title insurance premiums (from Schedule B) | E19: 1134898
C20: 3. | D20: Retained title insurance premiums (from Schedule B) | E20: 4139414
C21: 4. | D21: Other income (from Schedule C) | E21: 1025584
C22: 5. | D22: Total Revenue | E22: =SUM(E20:E21) -> 5164998
C24: Part B: Expenses
C25: 1. | D25: Employees' salaries and wages | E25: 1979594
C26: 2. | D26: Owners' and partners' salaries and wages | E26: 0
C27: 3. | D27: Employee benefits | E27: 514479
C28: 4. | D28: Rent | E28: 428876
C29: 5. | D29: Insurance | E29: 412
C30: 6. | D30: Legal expense | E30: 0
C31: 7. | D31: Licenses, taxes and fees | E31: -49035
C32: 8. | D32: Title plant expense and maintenance | E32: 736090
C33: 9. | D33: Office supplies | E33: 36630
C34: 10. | D34: Depreciation | E34: 0
C35: 11. | D35: Automobile expense | E35: 5874
C36: 12. | D36: Communication expense | E36: 77003
... C44: 20. | D44: Other expenses (from Schedule E) | E44: 99968
C45: 21. | D45: Total Expenses | E45: =SUM(E25:E44) -> 3895905
C47: Part C: Net Income for Ratemaking Purposes
C48: 1. | D48: Income (Loss) from Operations | E48: =E22-E45 -> 1269093
C50: Part D: Excluded Expenses
C51: 1. | D51: NMLTA lobbying expense | E51: 489
C52: 2. | D52: Direct lobbying expense | E52: 0
C53: 3. | D53: Political contributions | E53: 0
C54: 4. | D54: State and federal income tax expense | E54: 0
...

Sheet Fidelity National Title of NM
D1: NEW MEXICO TITLE INSURANCE AGENTS STATISTICAL REPORT
D2: SCHEDULE A: STATEMENT OF INCOME AND EXPENSES
D3: For the Calendar Year Ending December 31, 2021
C5: AGENCY NAME: | D5: Fidelity National Title of New Mexico Inc.
C6: ADDRESS: | D6: 8500 Menaul NE Ste B150
C7: CONTACT NAME: | D7: Pam Walker
A8: Check One:
B9: INDEPENDENT (NON-AFFILIATED) Title insurance agencies that are independently owned and write title insurance business
B10: one or more title insurance underwriters.
A12: x | B12: AFFILIATED Title insurance agencies with 10% or greater ownership by a title insurance underwriter, including wholly-owned agencies.
B14: DIRECT Agency-type operations performed by the home or branch office of a title insurance underwriter. This does NOT include
B15: wholly-owned agencies.
C17: Part A: Revenue
C18: 1. | D18: Title insurance written premiums (from Schedule B) | E18: 32632006
C19: 2. | D19: Less: Remitted title insurance premiums (from Schedule B) | E19: 6526401
C20: 3. | D20: Retained title insurance premiums (from Schedule B) | E20: 26105605
C21: 4. | D21: Other income (from Schedule C) | E21: 11894075
C22: 5. | D22: Total Revenue | E22: =SUM(E20:E21) -> 37999680
C24: Part B: Expenses
C25: 1. | D25: Employees' salaries and wages | E25: 16230009
C26: 2. | D26: Owners' and partners' salaries and wages
C27: 3. | D27: Employee benefits | E27: 2452363
C28: 4. | D28: Rent | E28: 772531
C29: 5. | D29: Insurance | E29: 48220
C30: 6. | D30: Legal expense | E30: 33855
C31: 7. | D31: Licenses, taxes and fees | E31: 141913
C32: 8. | D32: Title plant expense and maintenance | E32: 924240
C33: 9. | D33: Office supplies | E33: 241931
C34: 10. | D34: Depreciation | E34: 98982
C35: 11. | D35: Automobile expense | E35: 3870
C36: 12. | D36: Communication expense | E36: 61358
C37: 13. | D37: Education expense | E37: 17805
C38: 14. | D38: Bad debts | E38: -150
C39: 15. | D39: Interest expense
C40: 16. | D40: Employee travel and lodging | E40: 46071
C41: 17. | D41: Loss and loss adjustment expense (from Schedule D) | E41: 344037
C42: 18. | D42: Accounting and auditing expense | E42: 9181
C43: 19. | D43: Public relations expense | E43: 235036
C44: 20. | D44: Other expenses (from Schedule E) | E44: 4400846
C45: 21. | D45: Total Expenses | E45: =SUM(E25:E44) -> 26062098
...

Sheet PGP Title, LLC
D1: NEW MEXICO TITLE INSURANCE AGENTS STATISTICAL REPORT
D2: SCHEDULE A: STATEMENT OF INCOME AND EXPENSES
D3: For the Calendar Year Ending December 31, 2021
C5: AGENCY NAME: | D5: PGP Title, LLC
C6: ADDRESS: | D6: 9111 Cypress Waters Blvd., Suite 200, Coppell, TX 75019
C7: CONTACT NAME: | D7: Greg Pattee
A8: Check One:
A9: x | B9: INDEPENDENT (NON-AFFILIATED) Title insurance agencies that are independently owned and write title insurance business
B10: one or more title insurance underwriters.
B12: AFFILIATED Title insurance agencies with 10% or greater ownership by a title insurance underwriter, including wholly-owned agencies.
B14: DIRECT Agency-type operations performed by the home or branch office of a title insurance underwriter. This does NOT include
B15: wholly-owned agencies.
C17: Part A: Revenue
C18: 1. | D18: Title insurance written premiums (from Schedule B) | E18: 848508.35
C19: 2. | D19: Less: Remitted title insurance premiums (from Schedule B) | E19: 169701.67
C20: 3. | D20: Retained title insurance premiums (from Schedule B) | E20: 678806.68
C21: 4. | D21: Other income (from Schedule C) | E21: 277681.95
C22: 5. | D22: Total Revenue | E22: =SUM(E20:E21) -> 956488.63
C24: Part B: Expenses
C25: 1. | D25: Employees' salaries and wages | E25: 203075.92
C26: 2. | D26: Owners' and partners' salaries and wages | E26: 0
C27: 3. | D27: Employee benefits | E27: 47350.78
C28: 4. | D28: Rent | E28: 22618.68
C29: 5. | D29: Insurance | E29: 0
C30: 6. | D30: Legal expense | E30: 0
C31: 7. | D31: Licenses, taxes and fees | E31: 989.48
C32: 8. | D32: Title plant expense and maintenance | E32: 124226.39
C33: 9. | D33: Office supplies | E33: 3463.06
C34: 10. | D34: Depreciation | E34: 0
C35: 11. | D35: Automobile expense | E35: 0
C36: 12. | D36: Communication expense | E36: 253.05
... C44: 20. | D44: Other expenses (from Schedule E) | E44: 12581
C45: 21. | D45: Total Expenses | E45: =SUM(E25:E44) -> 423783.36
C47: Part C: Net Income for Ratemaking Purposes
C48: 1. | D48: Income (Loss) from Operations | E48: =E22-E45 -> 532705.27
C50: Part D: Excluded Expenses
C51: 1. | D51: NMLTA lobbying expense
C52: 2. | D52: Direct lobbying expense
C53: 3. | D53: Political contributions
C54: 4. | D54: State and federal income tax expense
...

Sheet Santa Fe Abstract, LTD
D1: NEW MEXICO TITLE INSURANCE AGENTS STATISTICAL REPORT
D2: SCHEDULE A: STATEMENT OF INCOME AND EXPENSES
D3: For the Calendar Year Ending December 31, 2021
C5: AGENCY NAME: | D5: Santa Fe Abstract, LTD
C6: ADDRESS: | D6: 433 Paseo de Peralta, Santa Fe, NM 87501
C7: CONTACT NAME: | D7: GREGG ROBINSON
A8: Check One:
B9: INDEPENDENT (NON-AFFILIATED) Title insurance agencies that are independently owned and write title insurance business
B10: one or more title insurance underwriters.
A12: X | B12: AFFILIATED Title insurance agencies with 10% or greater ownership by a title insurance underwriter, including wholly-owned agencies.
B14: DIRECT Agency-type operations performed by the home or branch office of a title insurance underwriter. This does NOT include
B15: wholly-owned agencies.
C17: Part A: Revenue
C18: 1. | D18: Title insurance written premiums (from Schedule B) | E18: 1387164
C19: 2. | D19: Less: Remitted title insurance premiums (from Schedule B) | E19: 278908
C20: 3. | D20: Retained title insurance premiums (from Schedule B) | E20: 1108256
C21: 4. | D21: Other income (from Schedule C) | E21: 3399553
C22: 5. | D22: Total Revenue | E22: =SUM(E20:E21) -> 4507809
C24: Part B: Expenses
C25: 1. | D25: Employees' salaries and wages | E25: 1822650.5
C26: 2. | D26: Owners' and partners' salaries and wages
C27: 3. | D27: Employee benefits | E27: 368588.55
C28: 4. | D28: Rent | E28: 224319.06
C29: 5. | D29: Insurance | E29: 11578.37
C30: 6. | D30: Legal expense
C31: 7. | D31: Licenses, taxes and fees | E31: 79796.37
C32: 8. | D32: Title plant expense and maintenance | E32: 132496.44
C33: 9. | D33: Office supplies | E33: 26087.67
C34: 10. | D34: Depreciation | E34: 2965.48
C35: 11. | D35: Automobile expense | E35: 4206.56
C36: 12. | D36: Communication expense | E36: 46290.38
C37: 13. | D37: Education expense
C38: 14. | D38: Bad debts | E38: 290.87
C39: 15. | D39: Interest expense
C40: 16. | D40: Employee travel and lodging | E40: 2967.59
C41: 17. | D41: Loss and loss adjustment expense (from Schedule D) | E41: 15531
C42: 18. | D42: Accounting and auditing expense | E42: 5879.03
C43: 19. | D43: Public relations expense | E43: 17053.98
C44: 20. | D44: Other expenses (from Schedule E) | E44: 174803
C45: 21. | D45: Total Expenses | E45: =SUM(E25:E44) -> 2935504.9
...

Sheet Stewart Title of Albuquerque
D1: NEW MEXICO TITLE INSURANCE AGENTS STATISTICAL REPORT
D2: SCHEDULE A: STATEMENT OF INCOME AND EXPENSES
D3: For the Calendar Year Ending December 31, 2021
C5: AGENCY NAME: | D5: Stewart Title of Albuquerque,LLC
C6: ADDRESS: | D6: 7801 Academy Rd NE Suite 101, Albuquerque NM 87109
C7: CONTACT NAME: | D7: Joseph Rajunas III
A8: Check One:
B9: INDEPENDENT (NON-AFFILIATED) Title insurance agencies that are independently owned and write title insurance business
B10: one or more title insurance underwriters.
A12: X | B12: AFFILIATED Title insurance agencies with 10% or greater ownership by a title insurance underwriter, including wholly-owned agencies.
B14: DIRECT Agency-type operations performed by the home or branch office of a title insurance underwriter. This does NOT include
B15: wholly-owned agencies.
C17: Part A: Revenue
C18: 1. | D18: Title insurance written premiums (from Schedule B) | E18: 12443259
C19: 2. | D19: Less: Remitted title insurance premiums (from Schedule B) | E19: 2735403.1
C20: 3. | D20: Retained title insurance premiums (from Schedule B) | E20: 9707856.3
C21: 4. | D21: Other income (from Schedule C) | E21: 3911507.2
C22: 5. | D22: Total Revenue | E22: =SUM(E20:E21) -> 13619364
C24: Part B: Expenses
C25: 1. | D25: Employees' salaries and wages | E25: 6356750.7
C26: 2. | D26: Owners' and partners' salaries and wages
C27: 3. | D27: Employee benefits | E27: 1226360.1
C28: 4. | D28: Rent | E28: 586460.21
C29: 5. | D29: Insurance | E29: 40332.51
C30: 6. | D30: Legal expense | E30: 5072.46
C31: 7. | D31: Licenses, taxes and fees | E31: 9769.05
C32: 8. | D32: Title plant expense and maintenance | E32: 99497.75
C33: 9. | D33: Office supplies | E33: 62873.95
C34: 10. | D34: Depreciation | E34: 111433.34
C35: 11. | D35: Automobile expense | E35: 17023.96
C36: 12. | D36: Communication expense | E36: 201949.81
C37: 13. | D37: Education expense | E37: 11400.08
C38: 14. | D38: Bad debts | E38: 5585.74
C39: 15. | D39: Interest expense
C40: 16. | D40: Employee travel and lodging | E40: 12058.57
C41: 17. | D41: Loss and loss adjustment expense (from Schedule D) | E41: 66544.39
C42: 18. | D42: Accounting and auditing expense | E42: 6724.96
C43: 19. | D43: Public relations expense | E43: 93317.58
C44: 20. | D44: Other expenses (from Schedule E) | E44: 532842.02
C45: 21. | D45: Total Expenses | E45: =SUM(E25:E44) -> 9445997.2
...

Sheet TCNM
D1: NEW MEXICO TITLE INSURANCE AGENTS STATISTICAL REPORT
D2: SCHEDULE A: STATEMENT OF INCOME AND EXPENSES
D3: For the Calendar Year Ending December 31, 2021
C5: AGENCY NAME: | D5: TCNM, LLC
C6: ADDRESS: | D6: 119 S. Campo Street, Las Cruces, NM 88001
C7: CONTACT NAME: | D7: Melissa Gillette
A8: Check One:
B9: INDEPENDENT (NON-AFFILIATED) Title insurance agencies that are independently owned and write title insurance business
B10: one or more title insurance underwriters.
A12: X | B12: AFFILIATED Title insurance agencies with 10% or greater ownership by a title insurance underwriter, including wholly-owned agencies.
B14: DIRECT Agency-type operations performed by the home or branch office of a title insurance underwriter. This does NOT include
B15: wholly-owned agencies.
C17: Part A: Revenue
C18: 1. | D18: Title insurance written premiums (from Schedule B) | E18: 3381740
C19: 2. | D19: Less: Remitted title insurance premiums (from Schedule B) | E19: 732949
C20: 3. | D20: Retained title insurance premiums (from Schedule B) | E20: 2648791
C21: 4. | D21: Other income (from Schedule C) | E21: 870325
C22: 5. | D22: Total Revenue | E22: 3519116
C24: Part B: Expenses
C25: 1. | D25: Employees' salaries and wages | E25: 1211033
C26: 2. | D26: Owners' and partners' salaries and wages
C27: 3. | D27: Employee benefits | E27: 88532
C28: 4. | D28: Rent | E28: 183801
C29: 5. | D29: Insurance | E29: 15041
C30: 6. | D30: Legal expense
C31: 7. | D31: Licenses, taxes and fees | E31: 104190
C32: 8. | D32: Title plant expense and maintenance | E32: 201370
C33: 9. | D33: Office supplies | E33: 22679
C34: 10. | D34: Depreciation | E34: 15435
C35: 11. | D35: Automobile expense | E35: 20825
C36: 12. | D36: Communication expense | E36: 70066
C37: 13. | D37: Education expense
C38: 14. | D38: Bad debts
C39: 15. | D39: Interest expense | E39: 15827.21
C40: 16. | D40: Employee travel and lodging
C41: 17. | D41: Loss and loss adjustment expense (from Schedule D) | E41: 36595
C42: 18. | D42: Accounting and auditing expense | E42: 5849
C43: 19. | D43: Public relations expense
C44: 20. | D44: Other expenses (from Schedule E) | E44: 238933
C45: 21. | D45: Total Expenses | E45: =SUM(E25:E44) -> 2230176.2
...
