Workbook
Name SCH_A: #REF!
Name SCH_A: #REF!
Name SCH_A: #REF!
Name SCH_A: #REF!
Name SCH_B: #REF!
Name SCH_B: #REF!
Name SCH_B: #REF!
Name SCH_B: #REF!
Name SCH_C: #REF!
Name SCH_C: #REF!
Name SCH_C: #REF!
Name SCH_C: #REF!
Name SCH_D: #REF!
Name SCH_D: #REF!
Name SCH_D: #REF!
Name SCH_D: #REF!
Name SCH_E: #REF!
Name SCH_E: #REF!
Name SCH_E: #REF!
Name SCH_E: #REF!
Name SCH_F: #REF!
Name SCH_F: #REF!
Name SCH_F: #REF!
Name SCH_F: #REF!
Name SCH_G: #REF!
Name SCH_G: #REF!
Name SCH_G: #REF!
Name SCH_G: #REF!
Name SCH_H: #REF!
Name SCH_H: #REF!
Name SCH_H: #REF!
Name SCH_H: #REF!
Name SCH_I: #REF!
Name SCH_I: #REF!
Name SCH_I: #REF!
Name SCH_I: #REF!
Name SCH_J: #REF!
Name SCH_J: #REF!
Name SCH_J: #REF!
Name SCH_J: #REF!

Sheet Aggregation
A1: Exhibit III
A2: SCHEDULE A OF THE NEW MEXICO TITLE INSURANCE AGENTS STATISTICAL REPORT
A3: Aggregated for all Direct Operations
A4: For the Year Ended December 31, 2023
A6: Agencies reporting: 3
C8: Part A: Revenue
C9: 1. | D9: Title insurance written premiums | E9: =ROUND(SUM('First American Title Insurance:Stewart Title Guaranty Company'!E18),0) -> 16731867
C10: 2. | D10: Less: Remitted title insurance premiums | E10: =ROUND(SUM('First American Title Insurance:Stewart Title Guaranty Company'!E19),0) -> 4040981
C11: 3. | D11: Retained title insurance premiums | E11: =E9-E10 -> 12690886
C12: 4. | D12: Other income | E12: =ROUND(SUM('First American Title Insurance:Stewart Title Guaranty Company'!E21),0) -> 9004305
C13: 5. | D13: Total Revenue | E13: =SUM(E11:E12) -> 21695191
C15: Part B: Expenses
C16: 1. | D16: Employees' salaries and wages | E16: =ROUND(SUM('First American Title Insurance:Stewart Title Guaranty Company'!E25),0) -> 12280821
C17: 2. | D17: Owners' and partners' salaries and wages | E17: =ROUND(SUM('First American Title Insurance:Stewart Title Guaranty Company'!E26),0) -> 0
C18: 3. | D18: Employee benefits | E18: =ROUND(SUM('First American Title Insurance:Stewart Title Guaranty Company'!E27),0) -> 2788952
C19: 4. | D19: Rent | E19: =ROUND(SUM('First American Title Insurance:Stewart Title Guaranty Company'!E28),0) -> 1493402
C20: 5. | D20: Insurance | E20: =ROUND(SUM('First American Title Insurance:Stewart Title Guaranty Company'!E29),0) -> 61379
C21: 6. | D21: Legal expense | E21: =ROUND(SUM('First American Title Insurance:Stewart Title Guaranty Company'!E30),0) -> 1890
C22: 7. | D22: Licenses, taxes and fees | E22: =ROUND(SUM('First American Title Insurance:Stewart Title Guaranty Company'!E31),0) -> 483764
C23: 8. | D23: Title plant expense and maintenance | E23: =ROUND(SUM('First American Title Insurance:Stewart Title Guaranty Company'!E32),0) -> 1075729
C24: 9. | D24: Office supplies | E24: =ROUND(SUM('First American Title Insurance:Stewart Title Guaranty Company'!E33),0) -> 131012
C25: 10. | D25: Depreciation | E25: =ROUND(SUM('First American Title Insurance:Stewart Title Guaranty Company'!E34),0) -> 101008
C26: 11. | D26: Automobile expense | E26: =ROUND(SUM('First American Title Insurance:Stewart Title Guaranty Company'!E35),0) -> 45493
C27: 12. | D27: Communication expense | E27: =ROUND(SUM('First American Title Insurance:Stewart Title Guaranty Company'!E36),0) -> 193253
... C35: 20. | D35: Other expenses | E35: =ROUND(SUM('First American Title Insurance:Stewart Title Guaranty Company'!E44),0) -> 2415713
C36: 21. | D36: Total Expenses | E36: =SUM(E16:E35) -> 21477592
C38: Part C: Net Income for Ratemaking Purposes
C39: 1. | D39: Income (Loss) from Operations | E39: =E13-E36 -> 217599
C41: Part D: Excluded Expenses
C42: 1. | D42: NMLTA lobbying expense | E42: =ROUND(SUM('First American Title Insurance:Stewart Title Guaranty Company'!E51),0) -> 1554
C43: 2. | D43: Direct lobbying expense | E43: =ROUND(SUM('First American Title Insurance:Stewart Title Guaranty Company'!E52),0) -> 0
C44: 3. | D44: Political contributions | E44: =ROUND(SUM('First American Title Insurance:Stewart Title Guaranty Company'!E53),0) -> 0
C45: 4. | D45: State and federal income tax expense | E45: =ROUND(SUM('First American Title Insurance:Stewart Title Guaranty Company'!E54),0) -> 0
C46: 5. | D46: 1/2 of meals and entertainment expense | E46: =ROUND(SUM('First American Title Insurance:Stewart Title Guaranty Company'!E55),0) -> 5082
C47: 6. | D47: Penalties | E47: =ROUND(SUM('First American Title Insurance:Stewart Title Guaranty Company'!E56),0) -> 30
C48: 7. | D48: Country club dues | E48: =ROUND(SUM('First American Title Insurance:Stewart Title Guaranty Company'!E57),0) -> 8685
C49: 8. | D49: Salaries in excess of salary cap | E49: =ROUND(SUM('First American Title Insurance:Stewart Title Guaranty Company'!E58),0) -> 0
C50: 9. | D50: Other excluded expenses | E50: =ROUND(SUM('First American Title Insurance:Stewart Title Guaranty Company'!E59),0) -> 0
C51: 10. | D51: Total Excluded Expenses | E51: =SUM(E42:E50) -> 15351
C53: Part E: Net Income
...

Sheet First American Title Insurance
D1: NEW MEXICO TITLE INSURANCE AGENTS STATISTICAL REPORT
D2: SCHEDULE A: STATEMENT OF INCOME AND EXPENSES
D3: For the Calendar Year Ending December 31, 2023
C5: AGENCY NAME: | D5: First American Title Insurance Company
C6: ADDRESS: | D6: P.O. Box 4600, Scottsdale, Arizona 85261
C7: CONTACT NAME: | D7: Gary Sandoval
A8: Check One:
B9: INDEPENDENT (NON-AFFILIATED) Title insurance agencies that are independently owned and write title insurance business
B10: one or more title insurance underwriters.
B12: AFFILIATED Title insurance agencies with 10% or greater ownership by a title insurance underwriter, including wholly-owned agencies.
A14: x | B14: DIRECT Agency-type operations performed by the home or branch office of a title insurance underwriter. This does NOT include
B15: wholly-owned agencies.
C17: Part A: Revenue
C18: 1. | D18: Title insurance written premiums (from Schedule B) | E18: 10172944
C19: 2. | D19: Less: Remitted title insurance premiums (from Schedule B) | E19: 2729196
C20: 3. | D20: Retained title insurance premiums (from Schedule B) | E20: 7443747
C21: 4. | D21: Other income (from Schedule C) | E21: 5718796
C22: 5. | D22: Total Revenue | E22: =SUM(E20:E21) -> 13162543
C24: Part B: Expenses
C25: 1. | D25: Employees' salaries and wages | E25: 7074316.4
C26: 2. | D26: Owners' and partners' salaries and wages | E26: 0
C27: 3. | D27: Employee benefits | E27: 1616823
C28: 4. | D28: Rent | E28: 907282
C29: 5. | D29: Insurance | E29: 95
C30: 6. | D30: Legal expense | E30: 0
C31: 7. | D31: Licenses, taxes and fees | E31: 220154
C32: 8. | D32: Title plant expense and maintenance | E32: 910768
C33: 9. | D33: Office supplies | E33: 91182
C34: 10. | D34: Depreciation | E34: 30279
C35: 11. | D35: Automobile expense | E35: 18905
C36: 12. | D36: Communication expense | E36: 159793
... C44: 20. | D44: Other expenses (from Schedule E) | E44: 560683
C45: 21. | D45: Total Expenses | E45: =SUM(E25:E44) -> 11967189
C47: Part C: Net Income for Ratemaking Purposes
C48: 1. | D48: Income (Loss) from Operations | E48: =E22-E45 -> 1195353.6
C50: Part D: Excluded Expenses
C51: 1. | D51: NMLTA lobbying expense | E51: 637
C52: 2. | D52: Direct lobbying expense
C53: 3. | D53: Political contributions
C54: 4. | D54: State and federal income tax expense
...

Sheet Old Republic National Title Ins
D1: NEW MEXICO TITLE INSURANCE AGENTS STATISTICAL REPORT
D2: SCHEDULE A: STATEMENT OF INCOME AND EXPENSES
D3: For the Calendar Year Ending December 31, 2023
C5: AGENCY NAME: | D5: Old Republic National Title Insurance Company
C6: ADDRESS: | D6: 5501 Jefferson St. NE, Ste. 100, Albuquerque, NM 87109
C7: CONTACT NAME: | D7: Scott Stenzel
A8: Check One:
B9: INDEPENDENT (NON-AFFILIATED) Title insurance agencies that are independently owned and write title insurance business
B10: one or more title insurance underwriters.
B12: AFFILIATED Title insurance agencies with 10% or greater ownership by a title insurance underwriter, including wholly-owned agencies.
A14: X | B14: DIRECT Agency-type operations performed by the home or branch office of a title insurance underwriter. This does NOT include
B15: wholly-owned agencies.
C17: Part A: Revenue
C18: 1. | D18: Title insurance written premiums (from Schedule B) | E18: 6825069
C19: 2. | D19: Less: Remitted title insurance premiums (from Schedule B) | E19: 1365014
C20: 3. | D20: Retained title insurance premiums (from Schedule B) | E20: 5460055
C21: 4. | D21: Other income (from Schedule C) | E21: 3285509
C22: 5. | D22: Total Revenue | E22: =SUM(E20:E21) -> 8745564
C24: Part B: Expenses
C25: 1. | D25: Employees' salaries and wages | E25: 5206505
C26: 2. | D26: Owners' and partners' salaries and wages | E26: 0
C27: 3. | D27: Employee benefits | E27: 1172129
C28: 4. | D28: Rent | E28: 586120
C29: 5. | D29: Insurance | E29: 61284
C30: 6. | D30: Legal expense | E30: 1890
C31: 7. | D31: Licenses, taxes and fees | E31: 263610
C32: 8. | D32: Title plant expense and maintenance | E32: 164961
C33: 9. | D33: Office supplies | E33: 39830
C34: 10. | D34: Depreciation | E34: 70729
C35: 11. | D35: Automobile expense | E35: 26588
C36: 12. | D36: Communication expense | E36: 33460
... C42: 18. | D42: Accounting and auditing expense | E42: 1250
C43: 19. | D43: Public relations expense
C44: 20. | D44: Other expenses (from Schedule E) | E44: 1855030
C45: 21. | D45: Total Expenses | E45: =SUM(E25:E44) -> 9510403
C47: Part C: Net Income for Ratemaking Purposes
C48: 1. | D48: Income (Loss) from Operations | E48: =E22-E45 -> -764839
C50: Part D: Excluded Expenses
C51: 1. | D51: NMLTA lobbying expense | E51: 917
C52: 2. | D52: Direct lobbying expense | E52: 0
...

Sheet Stewart Title Guaranty Company
D1: NEW MEXICO TITLE INSURANCE AGENTS STATISTICAL REPORT
D2: SCHEDULE A: STATEMENT OF INCOME AND EXPENSES
D3: For the Calendar Year Ending December 31, 2023
C5: AGENCY NAME: | D5: Stewart Title Guaranty Company
C6: ADDRESS: | D6: 1360 Post Oak Boulevard Houston, TX 77056
C7: CONTACT NAME: | D7: Kim Peterson
A8: Check One:
B9: INDEPENDENT (NON-AFFILIATED) Title insurance agencies that are independently owned and write title insurance business
B10: one or more title insurance underwriters.
B12: AFFILIATED Title insurance agencies with 10% or greater ownership by a title insurance underwriter, including wholly-owned agencies.
A14: x | B14: DIRECT Agency-type operations performed by the home or branch office of a title insurance underwriter. This does NOT include
B15: wholly-owned agencies.
C17: Part A: Revenue
C18: 1. | D18: Title insurance written premiums (from Schedule B) | E18: -266146
C19: 2. | D19: Less: Remitted title insurance premiums (from Schedule B) | E19: -53229
C20: 3. | D20: Retained title insurance premiums (from Schedule B) | E20: -212917
C21: 4. | D21: Other income (from Schedule C) | E21: 0
C22: 5. | D22: Total Revenue | E22: =SUM(E20:E21) -> -212917
C24: Part B: Expenses
C25: 1. | D25: Employees' salaries and wages
C26: 2. | D26: Owners' and partners' salaries and wages
C27: 3. | D27: Employee benefits
C28: 4. | D28: Rent
C29: 5. | D29: Insurance
C30: 6. | D30: Legal expense
C31: 7. | D31: Licenses, taxes and fees
C32: 8. | D32: Title plant expense and maintenance
C33: 9. | D33: Office supplies
C34: 10. | D34: Depreciation
C35: 11. | D35: Automobile expense
C36: 12. | D36: Communication expense
... C40: 16. | D40: Employee travel and lodging
C41: 17. | D41: Loss and loss adjustment expense (from Schedule D) | E41: 0
C42: 18. | D42: Accounting and auditing expense
C43: 19. | D43: Public relations expense
C44: 20. | D44: Other expenses (from Schedule E) | E44: 0
C45: 21. | D45: Total Expenses | E45: =SUM(E25:E44) -> 0
C47: Part C: Net Income for Ratemaking Purposes
C48: 1. | D48: Income (Loss) from Operations | E48: =E22-E45 -> -212917
C50: Part D: Excluded Expenses
...
