Workbook

Sheet Aggregated
A1: Exhibit VIII
A2: FORM 3 OF THE NEW MEXICO TITLE INSURANCE UNDERWRITERS STATISTICAL REPORT
A3: Aggregated for all Underwriters
A4: For the Year Ended December 31, 2021
A6: NM | F6: Direct
A7: Form | B7: Transaction | D7: NMAC | E7: Number of | F7: Premiums
A8: No. | B8: Code | C8: Transaction Type | D8: Regulation | E8: Transactions | F8: Written
A9: 1, 2 | B9: 0001 | C9: Charge For Additional Chain Of Title | D9: 13.14.9.16 | E9: =ROUND(SUM('Agents National Title:WFG National Title Ins Co'!F12),0) -> 68 | F9: =ROUND(SUM('Agents National Title:WFG National Title Ins Co'!G12),0) -> -550
A10: 1, 2 | B10: 0002 | C10: Charge For Unusual Complexity | D10: 13.14.9.16 | E10: =ROUND(SUM('Agents National Title:WFG National Title Ins Co'!F13),0) -> 20 | F10: =ROUND(SUM('Agents National Title:WFG National Title Ins Co'!G13),0) -> 15982
A11: 1 | B11: 0003 | C11: Abstract Retirement Credit | D11: 13.14.9.24 | E11: =ROUND(SUM('Agents National Title:WFG National Title Ins Co'!F14),0) -> 2 | F11: =ROUND(SUM('Agents National Title:WFG National Title Ins Co'!G14),0) -> 318
A12: 2 | B12: 0004 | C12: Loan Policy - Mechanic's Lien Coverage With Evidence of Priority | D12: 13.14.5.12 | E12: =ROUND(SUM('Agents National Title:WFG National Title Ins Co'!F15),0) -> 70237 | F12: =ROUND(SUM('Agents National Title:WFG National Title Ins Co'!G15),0) -> 3603547
A13: 2 | B13: 0005 | C13: Loan Policy - Mechanic's Lien Coverage Without Evidence of Priority | D13: 13.14.5.12 | E13: =ROUND(SUM('Agents National Title:WFG National Title Ins Co'!F16),0) -> 418 | F13: =ROUND(SUM('Agents National Title:WFG National Title Ins Co'!G16),0) -> 536826
A14: 1 | B14: 0006 | C14: Owner's Policy - Mechanic's Lien Coverage - Filing Period Expired | D14: 13.14.5.12 | E14: =ROUND(SUM('Agents National Title:WFG National Title Ins Co'!F17),0) -> 5781 | F14: =ROUND(SUM('Agents National Title:WFG National Title Ins Co'!G17),0) -> 323592
A15: 1 | B15: 0007 | C15: Owner's Policy - Mechanic's Lien Coverage - Filing Period Not Expired | D15: 13.14.5.12 | E15: =ROUND(SUM('Agents National Title:WFG National Title Ins Co'!F18),0) -> 40 | F15: =ROUND(SUM('Agents National Title:WFG National Title Ins Co'!G18),0) -> 48073
A16: 1 | B16: 0008 | C16: Survey Coverage - Owner Policy | D16: 13.14.5.1C | E16: =ROUND(SUM('Agents National Title:WFG National Title Ins Co'!F19),0) -> 29263 | F16: =ROUND(SUM('Agents National Title:WFG National Title Ins Co'!G19),0) -> 4858627
A17: 22 | B17: 0009 | C17: Survey Coverage - Loan Policy | D17: 13.14.5.12C | E17: =ROUND(SUM('Agents National Title:WFG National Title Ins Co'!F20),0) -> 42157 | F17: =ROUND(SUM('Agents National Title:WFG National Title Ins Co'!G20),0) -> 2302024
A18: 1 | B18: 0010 | C18: Owner Pro Forma Policy | D18: 13.14.9.19C | E18: =ROUND(SUM('Agents National Title:WFG National Title Ins Co'!F21),0) -> 289 | F18: =ROUND(SUM('Agents National Title:WFG National Title Ins Co'!G21),0) -> 36978
A19: 2 | B19: 0011 | C19: Loan Pro Forma Policy | D19: 13.14.9.19C | E19: =ROUND(SUM('Agents National Title:WFG National Title Ins Co'!F22),0) -> 451 | F19: =ROUND(SUM('Agents National Title:WFG National Title Ins Co'!G22),0) -> 47470
A20: 1 | B20: 0012 | C20: Duplicate Original Policy | D20: None | E20: =ROUND(SUM('Agents National Title:WFG National Title Ins Co'!F23),0) -> 1004 | F20: =ROUND(SUM('Agents National Title:WFG National Title Ins Co'!G23),0) -> 48728
... A152: 2 | B152: 9240 | C152: Loan Policy - Statutory Rate (within 3 years - 40%) | D152: 59A-30-6.1 NMSA 1981 | E152: =ROUND(SUM('Agents National Title:WFG National Title Ins Co'!F155),0) -> 150 | F152: =ROUND(SUM('Agents National Title:WFG National Title Ins Co'!G155),0) -> 352861
D153: TOTAL: | E153: =SUM(E9:E152) -> 474894 | F153: =SUM(F9:F152) -> 169400285

Sheet Agents National Title
A1: NEW MEXICO TITLE INSURANCE UNDERWRITER'S STATISTICAL REPORT
A2: FORM 3: TRANSACTION REPORT
A3: For Calendar Year Ending December 31, 2021
A4: NEW MEXICO EXPERIENCE ONLY
C5: Insurance Company: | D5: Agents National Title Insurance Company | J5: For Underwriters That Charge Rates Below the Promulgated Rates
J7: Direct Premiums As If They Had Been Written at Promulgated Rates
H8: Dependent
A9: NM | B9: Trans- | G9: Direct | H9: on Basic
A10: Form | B10: action | E10: NMAC | F10: Number of | G10: Premiums | H10: Premium
A11: No. | B11: Code | C11: Transaction Type | E11: Regulation | F11: Transactions | G11: Written | H11: Rate?
A12: 1, 2 | B12: 0001 | C12: Charge For Additional Chain Of Title | E12: 13.14.9.16 | H12: No
A13: 1, 2 | B13: 0002 | C13: Charge For Unusual Complexity | E13: 13.14.9.16 | H13: Yes
A14: 1 | B14: 0003 | C14: Abstract Retirement Credit | E14: 13.14.9.24 | H14: Yes
A15: 2 | B15: 0004 | C15: Loan Policy - Mechanic's Lien Coverage With Evidence of Priority | E15: 13.14.5.12 | H15: No
A16: 2 | B16: 0005 | C16: Loan Policy - Mechanic's Lien Coverage Without Evidence of Priority | E16: 13.14.5.12 | H16: Yes
A17: 1 | B17: 0006 | C17: Owner's Policy - Mechanic's Lien Coverage - Filing Period Expired | E17: 13.14.5.12 | H17: No
A18: 1 | B18: 0007 | C18: Owner's Policy - Mechanic's Lien Coverage - Filing Period Not Expired | E18: 13.14.5.12 | H18: Yes
A19: 1 | B19: 0008 | C19: Survey Coverage - Owner Policy | E19: 13.14.5.1C | H19: Yes
A20: 22 | B20: 0009 | C20: Survey Coverage - Loan Policy | E20: 13.14.5.12C | H20: No
A21: 1 | B21: 0010 | C21: Owner Pro Forma Policy | E21: 13.14.9.19C | H21: No
A22: 2 | B22: 0011 | C22: Loan Pro Forma Policy | E22: 13.14.9.19C | H22: No
A23: 1 | B23: 0012 | C23: Duplicate Original Policy | E23: None | H23: No
A24: none | B24: 0013 | C24: Cancellation Fee | E24: 13.14.9.19B | H24: No
A25: 1 | B25: 0101 | C25: Owner’s Policy | E25: 13.14.9.20 | F25: 2 | G25: 1569 | H25: Yes
A26: 1 | B26: 0102 | C26: Owner’s Policy - With Bulk Rate | E26: 13.14.6.12 | H26: Yes
A27: 1 | B27: 0103 | C27: Multiple Owners on Same Land - Simultaneous Issue | E27: 13.14.9.32 | H27: Yes
A28: 1, 2 | B28: 0104 | C28: Replacement Policy | E28: 13.14.9.26 | H28: Yes
A29: 1 | B29: 0105 | C29: Owner's Policy After Foreclosure | E29: 13.14.9.28 | H29: Yes
A30: 1 | B30: 0106 | C30: Owner's Policy - Terminated Foreclosure | E30: 13.14.9.28 | H30: Yes
A31: 1 | B31: 0110 | C31: Owner's Policy - Reissue (3 years or more since previous owner's policy was issued) | E31: 13.14.6.11 | H31: Yes
A32: 1 | B32: 0115 | C32: Owner's Policy - Reissue (2 years or more but less than 3 years since previous owner's policy was issued) | E32: 13.14.6.11 | H32: Yes
A33: 1 | B33: 0120 | C33: Owner's Policy - Reissue (More than 1 year but less than 2 years since previous owner's policy was issued) | E33: 13.14.6.11 | H33: Yes
A34: 1 | B34: 0125 | C34: Owner's Policy - Reissue (1 y ear or less since previous owner's policy was issued) | E34: 13.14.6.11 | H34: Yes
A35: 2 | B35: 0201 | C35: Loan Policy - Single Issue | E35: 13.14.9.22 | H35: Yes
A36: 2 | B36: 0202 | C36: Loan Policy - Simultaneous Issue with Owner's Policy | E36: 13.14.9.22 | H36: No
A37: 2 | B37: 0203 | C37: Loan Policy - Second Mortgage or Subsequent Issue | E37: 13.14.9.36 | F37: 653 | G37: 801720 | H37: Yes
A38: 2 | B38: 0204 | C38: Replacement Loan Policy | E38: 13.14.9.26 | H38: Yes
A39: 2 | B39: 0205 | C39: Loan Policy With Two-Year Claims Made Limitation | E39: 13.14.9.40A | H39: No
A40: 2 | B40: 0206 | C40: Extension of Loan Policy with Two-Year Claims Made Limitation | E40: 13.14.9.40B | H40: No
A41: 2 | B41: 0240 | C41: Loan Policy - Substitution Rate (within 3 years - 40%) | E41: 13.14.9.39 | H41: Yes
...

Sheet Alamo Title Insurance Co
A1: NEW MEXICO TITLE INSURANCE UNDERWRITER'S STATISTICAL REPORT
A2: FORM 3: TRANSACTION REPORT
A3: For Calendar Year Ending December 31, 2021
A4: NEW MEXICO EXPERIENCE ONLY
C5: Insurance Company: | D5: Alamo Title Insurance | J5: For Underwriters That Charge Rates Below the Promulgated Rates
J7: Direct Premiums As If They Had Been Written at Promulgated Rates
H8: Dependent
A9: NM | B9: Trans- | G9: Direct | H9: on Basic
A10: Form | B10: action | E10: NMAC | F10: Number of | G10: Premiums | H10: Premium
A11: No. | B11: Code | C11: Transaction Type | E11: Regulation | F11: Transactions | G11: Written | H11: Rate?
A12: 1, 2 | B12: 0001 | C12: Charge For Additional Chain Of Title | E12: 13.14.9.16 | F12: 0 | G12: 0 | H12: No | J12: 0
A13: 1, 2 | B13: 0002 | C13: Charge For Unusual Complexity | E13: 13.14.9.16 | F13: 0 | G13: 0 | H13: Yes | J13: 0
A14: 1 | B14: 0003 | C14: Abstract Retirement Credit | E14: 13.14.9.24 | F14: 0 | G14: 0 | H14: Yes | J14: 0
A15: 2 | B15: 0004 | C15: Loan Policy - Mechanic's Lien Coverage With Evidence of Priority | E15: 13.14.5.12 | F15: 0 | G15: 0 | H15: No | J15: 0
A16: 2 | B16: 0005 | C16: Loan Policy - Mechanic's Lien Coverage Without Evidence of Priority | E16: 13.14.5.12 | F16: 0 | G16: 0 | H16: Yes | J16: 0
A17: 1 | B17: 0006 | C17: Owner's Policy - Mechanic's Lien Coverage - Filing Period Expired | E17: 13.14.5.12 | F17: 0 | G17: 0 | H17: No | J17: 0
A18: 1 | B18: 0007 | C18: Owner's Policy - Mechanic's Lien Coverage - Filing Period Not Expired | E18: 13.14.5.12 | F18: 0 | G18: 0 | H18: Yes | J18: 0
A19: 1 | B19: 0008 | C19: Survey Coverage - Owner Policy | E19: 13.14.5.1C | F19: 0 | G19: 0 | H19: Yes | J19: 0
A20: 22 | B20: 0009 | C20: Survey Coverage - Loan Policy | E20: 13.14.5.12C | F20: 0 | G20: 0 | H20: No | J20: 0
A21: 1 | B21: 0010 | C21: Owner Pro Forma Policy | E21: 13.14.9.19C | F21: 0 | G21: 0 | H21: No | J21: 0
A22: 2 | B22: 0011 | C22: Loan Pro Forma Policy | E22: 13.14.9.19C | F22: 0 | G22: 0 | H22: No | J22: 0
A23: 1 | B23: 0012 | C23: Duplicate Original Policy | E23: None | F23: 0 | G23: 0 | H23: No | J23: 0
... A155: 2 | B155: 9280 | C155: Loan Policy - Statutory Rate (more than 10 years, less than 20 - 80%) | E155: 59A-30-6.1 NMSA 1978 | F155: 0 | G155: 0 | H155: Yes | J155: 0
E156: TOTAL: | F156: =SUM(F12:F155) -> 0 | G156: =SUM(G12:G155) -> 0 | J156: =SUM(J12:J155) -> 0
F158: Crosscheck with Form 1: | G158: 0
F159: Difference: | G159: =G158-G156 -> 0
B160: Explanation for Difference (if any):

Sheet Alliant National Title Ins Co
A1: NEW MEXICO TITLE INSURANCE UNDERWRITER'S STATISTICAL REPORT
A2: FORM 3: TRANSACTION REPORT
A3: For Calendar Year Ending December 31, 2021
A4: NEW MEXICO EXPERIENCE ONLY
C5: Insurance Company: | D5: Alliant National Title Insurance Company, Inc. | J5: For Underwriters That Charge Rates Below the Promulgated Rates
J7: Direct Premiums As If They Had Been Written at Promulgated Rates
H8: Dependent
A9: NM | B9: Trans- | G9: Direct | H9: on Basic
A10: Form | B10: action | E10: NMAC | F10: Number of | G10: Premiums | H10: Premium
A11: No. | B11: Code | C11: Transaction Type | E11: Regulation | F11: Transactions | G11: Written | H11: Rate?
A12: 1, 2 | B12: 0001 | C12: Charge For Additional Chain Of Title | E12: 13.14.9.16 | H12: No
A13: 1, 2 | B13: 0002 | C13: Charge For Unusual Complexity | E13: 13.14.9.16 | F13: 4 | G13: 1086 | H13: Yes
A14: 1 | B14: 0003 | C14: Abstract Retirement Credit | E14: 13.14.9.24 | H14: Yes
A15: 2 | B15: 0004 | C15: Loan Policy - Mechanic's Lien Coverage With Evidence of Priority | E15: 13.14.5.12 | F15: 1318 | G15: 58840 | H15: No
A16: 2 | B16: 0005 | C16: Loan Policy - Mechanic's Lien Coverage Without Evidence of Priority | E16: 13.14.5.12 | H16: Yes
A17: 1 | B17: 0006 | C17: Owner's Policy - Mechanic's Lien Coverage - Filing Period Expired | E17: 13.14.5.12 | F17: 217 | G17: 10763 | H17: No
A18: 1 | B18: 0007 | C18: Owner's Policy - Mechanic's Lien Coverage - Filing Period Not Expired | E18: 13.14.5.12 | H18: Yes
A19: 1 | B19: 0008 | C19: Survey Coverage - Owner Policy | E19: 13.14.5.1C | F19: 397 | G19: 57022 | H19: Yes
A20: 22 | B20: 0009 | C20: Survey Coverage - Loan Policy | E20: 13.14.5.12C | F20: 37 | G20: 1850 | H20: No
A21: 1 | B21: 0010 | C21: Owner Pro Forma Policy | E21: 13.14.9.19C | F21: 1 | G21: 100 | H21: No
A22: 2 | B22: 0011 | C22: Loan Pro Forma Policy | E22: 13.14.9.19C | H22: No
A23: 1 | B23: 0012 | C23: Duplicate Original Policy | E23: None | F23: =12+987 -> 999 | G23: 48508 | H23: No
A24: none | B24: 0013 | C24: Cancellation Fee | E24: 13.14.9.19B | H24: No
A25: 1 | B25: 0101 | C25: Owner’s Policy | E25: 13.14.9.20 | F25: 864 | G25: 1072513 | H25: Yes
A26: 1 | B26: 0102 | C26: Owner’s Policy - With Bulk Rate | E26: 13.14.6.12 | F26: 267 | G26: 347394 | H26: Yes
A27: 1 | B27: 0103 | C27: Multiple Owners on Same Land - Simultaneous Issue | E27: 13.14.9.32 | H27: Yes
A28: 1, 2 | B28: 0104 | C28: Replacement Policy | E28: 13.14.9.26 | F28: 1 | G28: 978 | H28: Yes
A29: 1 | B29: 0105 | C29: Owner's Policy After Foreclosure | E29: 13.14.9.28 | H29: Yes
A30: 1 | B30: 0106 | C30: Owner's Policy - Terminated Foreclosure | E30: 13.14.9.28 | H30: Yes
A31: 1 | B31: 0110 | C31: Owner's Policy - Reissue (3 years or more since previous owner's policy was issued) | E31: 13.14.6.11 | F31: 267 | G31: 407914 | H31: Yes
A32: 1 | B32: 0115 | C32: Owner's Policy - Reissue (2 years or more but less than 3 years since previous owner's policy was issued) | E32: 13.14.6.11 | F32: 49 | G32: 80405 | H32: Yes
A33: 1 | B33: 0120 | C33: Owner's Policy - Reissue (More than 1 year but less than 2 years since previous owner's policy was issued) | E33: 13.14.6.11 | F33: 34 | G33: 52709 | H33: Yes
A34: 1 | B34: 0125 | C34: Owner's Policy - Reissue (1 y ear or less since previous owner's policy was issued) | E34: 13.14.6.11 | F34: 31 | G34: 37803 | H34: Yes
A35: 2 | B35: 0201 | C35: Loan Policy - Single Issue | E35: 13.14.9.22 | F35: 369 | G35: 284512 | H35: Yes
A36: 2 | B36: 0202 | C36: Loan Policy - Simultaneous Issue with Owner's Policy | E36: 13.14.9.22 | F36: 537 | G36: 82543 | H36: No
A37: 2 | B37: 0203 | C37: Loan Policy - Second Mortgage or Subsequent Issue | E37: 13.14.9.36 | F37: 24 | G37: 15739 | H37: Yes
A38: 2 | B38: 0204 | C38: Replacement Loan Policy | E38: 13.14.9.26 | F38: 21 | G38: 11487 | H38: Yes
A39: 2 | B39: 0205 | C39: Loan Policy With Two-Year Claims Made Limitation | E39: 13.14.9.40A | H39: No
A40: 2 | B40: 0206 | C40: Extension of Loan Policy with Two-Year Claims Made Limitation | E40: 13.14.9.40B | H40: No
A41: 2 | B41: 0240 | C41: Loan Policy - Substitution Rate (within 3 years - 40%) | E41: 13.14.9.39 | F41: 125 | G41: 83661 | H41: Yes
...

Sheet American Digital Title Ins Co
A1: NEW MEXICO TITLE INSURANCE UNDERWRITER'S STATISTICAL REPORT
A2: FORM 3: TRANSACTION REPORT
A3: For Calendar Year Ending December 31, 2021
A4: NEW MEXICO EXPERIENCE ONLY
C5: Insurance Company: | D5: American Digital Title Insurance Company | J5: For Underwriters That Charge Rates Below the Promulgated Rates
J7: Direct Premiums As If They Had Been Written at Promulgated Rates
H8: Dependent
A9: NM | B9: Trans- | G9: Direct | H9: on Basic
A10: Form | B10: action | E10: NMAC | F10: Number of | G10: Premiums | H10: Premium
A11: No. | B11: Code | C11: Transaction Type | E11: Regulation | F11: Transactions | G11: Written | H11: Rate?
A12: none | B12: 0001 | C12: Charge For Additional Chain Of Title | E12: 13.14.9.16 | F12: 0 | G12: 0 | H12: No | J12: 0
A13: none | B13: 0002 | C13: Charge For Unplatted Tract Of Unusual Complexity | E13: 13.14.9.16 | F13: 0 | G13: 0 | H13: Yes | J13: 0
A14: none | B14: 0003 | C14: Abstract Retirement Credit | E14: 13.14.9.24 | F14: 0 | G14: 0 | H14: Yes | J14: 0
A15: none | B15: 0004 | C15: Loan Policy - Mechanic's Lien Coverage With Evidence of Priority | E15: 13.14.9.40E | F15: 0 | G15: 0 | H15: No | J15: 0
A16: none | B16: 0005 | C16: Loan Policy - Mechanic's Lien Coverage Without Evidence of Priority | E16: 13.14.9.40E | F16: 0 | G16: 0 | H16: Yes | J16: 0
A17: none | B17: 0006 | C17: Owner's Policy - Mechanic's Lien Coverage - Filing Period Expired | E17: 13.14.10.9A | F17: 0 | G17: 0 | H17: No | J17: 0
A18: none | B18: 0007 | C18: Owner's Policy - Mechanic's Lien Coverage - Filing Period Not Expired | E18: 13.14.10.9B | F18: 0 | G18: 0 | H18: Yes | J18: 0
A19: none | B19: 0008 | C19: Survey Coverage Endorsement | E19: 13.14.10.10 | F19: 0 | G19: 0 | H19: Yes | J19: 0
A20: none | B20: 0009 | C20: Duplicate Original Policy | E20: 13.14.9.33 | F20: 0 | G20: 0 | H20: No | J20: 0
A21: none | B21: 0010 | C21: Owner Pro Forma Policy | E21: 13.14.5.13 | F21: 0 | G21: 0 | H21: No | J21: 0
A22: none | B22: 0011 | C22: Loan Pro Forma Policy | E22: 13.14.5.13 | F22: 0 | G22: 0 | H22: No | J22: 0
A23: none | B23: 0012 | C23: Duplicate Original Policy | E23: 13.14.9.33 | F23: 0 | G23: 0 | H23: No | J23: 0
... A152: 2 | B152: 9280 | C152: Loan Policy - Statutory Rate (more than 10 years, less than 20 - 80%) | E152: 59A-30-6.1 NMSA 1978 | F152: 0 | G152: 0 | H152: Yes | J152: 0
E153: TOTAL: | F153: =SUM(F12:F152) -> 0 | G153: =SUM(G12:G152) -> 0 | J153: =SUM(J12:J152) -> 0
F155: Crosscheck with Form 1: | G155: 0
F156: Difference: | G156: =G155-G153 -> 0
B157: Explanation for Difference (if any):

Sheet AmTrust Title Insurance Company
A1: NEW MEXICO TITLE INSURANCE UNDERWRITER'S STATISTICAL REPORT
A2: FORM 3: TRANSACTION REPORT
A3: For Calendar Year Ending December 31, 2021
A4: NEW MEXICO EXPERIENCE ONLY
C5: Insurance Company: | D5: AmTrust Title Insurance Company | J5: For Underwriters That Charge Rates Below the Promulgated Rates
J7: Direct Premiums As If They Had Been Written at Promulgated Rates
H8: Dependent
A9: NM | B9: Trans- | G9: Direct | H9: on Basic
A10: Form | B10: action | E10: NMAC | F10: Number of | G10: Premiums | H10: Premium
A11: No. | B11: Code | C11: Transaction Type | E11: Regulation | F11: Transactions | G11: Written | H11: Rate?
A12: 1, 2 | B12: 0001 | C12: Charge For Additional Chain Of Title | E12: 13.14.9.16 | H12: No
A13: 1, 2 | B13: 0002 | C13: Charge For Unusual Complexity | E13: 13.14.9.16 | H13: Yes
A14: 1 | B14: 0003 | C14: Abstract Retirement Credit | E14: 13.14.9.24 | H14: Yes
A15: 2 | B15: 0004 | C15: Loan Policy - Mechanic's Lien Coverage With Evidence of Priority | E15: 13.14.5.12 | H15: No
A16: 2 | B16: 0005 | C16: Loan Policy - Mechanic's Lien Coverage Without Evidence of Priority | E16: 13.14.5.12 | H16: Yes
A17: 1 | B17: 0006 | C17: Owner's Policy - Mechanic's Lien Coverage - Filing Period Expired | E17: 13.14.5.12 | H17: No
A18: 1 | B18: 0007 | C18: Owner's Policy - Mechanic's Lien Coverage - Filing Period Not Expired | E18: 13.14.5.12 | H18: Yes
A19: 1 | B19: 0008 | C19: Survey Coverage - Owner Policy | E19: 13.14.5.1C | H19: Yes
A20: 22 | B20: 0009 | C20: Survey Coverage - Loan Policy | E20: 13.14.5.12C | H20: No
A21: 1 | B21: 0010 | C21: Owner Pro Forma Policy | E21: 13.14.9.19C | H21: No
A22: 2 | B22: 0011 | C22: Loan Pro Forma Policy | E22: 13.14.9.19C | H22: No
A23: 1 | B23: 0012 | C23: Duplicate Original Policy | E23: None | H23: No
A24: none | B24: 0013 | C24: Cancellation Fee | E24: 13.14.9.19B | H24: No
A25: 1 | B25: 0101 | C25: Owner’s Policy | E25: 13.14.9.20 | F25: 2 | G25: 120892 | H25: Yes
A26: 1 | B26: 0102 | C26: Owner’s Policy - With Bulk Rate | E26: 13.14.6.12 | H26: Yes
A27: 1 | B27: 0103 | C27: Multiple Owners on Same Land - Simultaneous Issue | E27: 13.14.9.32 | H27: Yes
A28: 1, 2 | B28: 0104 | C28: Replacement Policy | E28: 13.14.9.26 | H28: Yes
A29: 1 | B29: 0105 | C29: Owner's Policy After Foreclosure | E29: 13.14.9.28 | H29: Yes
A30: 1 | B30: 0106 | C30: Owner's Policy - Terminated Foreclosure | E30: 13.14.9.28 | H30: Yes
A31: 1 | B31: 0110 | C31: Owner's Policy - Reissue (3 years or more since previous owner's policy was issued) | E31: 13.14.6.11 | H31: Yes
A32: 1 | B32: 0115 | C32: Owner's Policy - Reissue (2 years or more but less than 3 years since previous owner's policy was issued) | E32: 13.14.6.11 | H32: Yes
A33: 1 | B33: 0120 | C33: Owner's Policy - Reissue (More than 1 year but less than 2 years since previous owner's policy was issued) | E33: 13.14.6.11 | H33: Yes
A34: 1 | B34: 0125 | C34: Owner's Policy - Reissue (1 y ear or less since previous owner's policy was issued) | E34: 13.14.6.11 | H34: Yes
A35: 2 | B35: 0201 | C35: Loan Policy - Single Issue | E35: 13.14.9.22 | H35: Yes
A36: 2 | B36: 0202 | C36: Loan Policy - Simultaneous Issue with Owner's Policy | E36: 13.14.9.22 | H36: No
A37: 2 | B37: 0203 | C37: Loan Policy - Second Mortgage or Subsequent Issue | E37: 13.14.9.36 | H37: Yes
... A77: 28 | B77: 2800 | C77: Non-Imputation - Full Equity Transfer Endorsement (ALTA 15-06) | E77: None | H77: No
A78: 28.1 | B78: 2801 | C78: Non-Imputation - Additional Interest Endorsement (ALTA 15.1-06) | E78: None | F78: 1 | G78: 40000 | H78: No
A79: 28.2 | B79: 2802 | C79: Non-Imputation - Partial Equity Transfer Endorsement (ALTA 15.2-06) | E79: None | H79: No
A80: 29 | B80: 2900 | C80: Environmental Protection Lien Endorsement (ALTA 8.1) | E80: None | H80: No
...

Sheet Chicago Title Insurance Co
A1: NEW MEXICO TITLE INSURANCE UNDERWRITER'S STATISTICAL REPORT
A2: FORM 3: TRANSACTION REPORT
A3: For Calendar Year Ending December 31, 2021
A4: NEW MEXICO EXPERIENCE ONLY
C5: Insurance Company: | D5: Chicago Title Insurance Company | J5: For Underwriters That Charge Rates Below the Promulgated Rates
J7: Direct Premiums As If They Had Been Written at Promulgated Rates
H8: Dependent
A9: NM | B9: Trans- | G9: Direct | H9: on Basic
A10: Form | B10: action | E10: NMAC | F10: Number of | G10: Premiums | H10: Premium
A11: No. | B11: Code | C11: Transaction Type | E11: Regulation | F11: Transactions | G11: Written | H11: Rate?
A12: 1, 2 | B12: 0001 | C12: Charge For Additional Chain Of Title | E12: 13.14.9.16 | F12: 0 | G12: 0 | H12: No | J12: 0
A13: 1, 2 | B13: 0002 | C13: Charge For Unusual Complexity | E13: 13.14.9.16 | F13: 2 | G13: 1256 | H13: Yes | J13: 0
A14: 1 | B14: 0003 | C14: Abstract Retirement Credit | E14: 13.14.9.24 | F14: 0 | G14: 0 | H14: Yes | J14: 0
A15: 2 | B15: 0004 | C15: Loan Policy - Mechanic's Lien Coverage With Evidence of Priority | E15: 13.14.5.12 | F15: 3298 | G15: 164875 | H15: No | J15: 0
A16: 2 | B16: 0005 | C16: Loan Policy - Mechanic's Lien Coverage Without Evidence of Priority | E16: 13.14.5.12 | F16: 4 | G16: 7440 | H16: Yes | J16: 0
A17: 1 | B17: 0006 | C17: Owner's Policy - Mechanic's Lien Coverage - Filing Period Expired | E17: 13.14.5.12 | F17: 226 | G17: 11300 | H17: No | J17: 0
A18: 1 | B18: 0007 | C18: Owner's Policy - Mechanic's Lien Coverage - Filing Period Not Expired | E18: 13.14.5.12 | F18: 6 | G18: 3017 | H18: Yes | J18: 0
A19: 1 | B19: 0008 | C19: Survey Coverage - Owner Policy | E19: 13.14.5.1C | F19: 3429 | G19: 574967 | H19: Yes | J19: 0
A20: 22 | B20: 0009 | C20: Survey Coverage - Loan Policy | E20: 13.14.5.12C | F20: 0 | G20: 0 | H20: No | J20: 0
A21: 1 | B21: 0010 | C21: Owner Pro Forma Policy | E21: 13.14.9.19C | F21: 36 | G21: 3600 | H21: No | J21: 0
A22: 2 | B22: 0011 | C22: Loan Pro Forma Policy | E22: 13.14.9.19C | F22: 43 | G22: 4280 | H22: No | J22: 0
A23: 1 | B23: 0012 | C23: Duplicate Original Policy | E23: None | F23: 0 | G23: 0 | H23: No | J23: 0
... A155: 2 | B155: 9280 | C155: Loan Policy - Statutory Rate (more than 10 years, less than 20 - 80%) | E155: 59A-30-6.1 NMSA 1978 | F155: 0 | G155: 0 | H155: Yes | J155: 0
E156: TOTAL: | F156: =SUM(F12:F155) -> 23919 | G156: =SUM(G12:G155) -> 12200240 | J156: =SUM(J12:J155) -> 0
F158: Crosscheck with Form 1: | G158: 12200240
F159: Difference: | G159: =G158-G156 -> 0
B160: Explanation for Difference (if any):

Sheet Commonwealth Land Title Ins Co
A1: NEW MEXICO TITLE INSURANCE UNDERWRITER'S STATISTICAL REPORT
A2: FORM 3: TRANSACTION REPORT
A3: For Calendar Year Ending December 31, 2021
A4: NEW MEXICO EXPERIENCE ONLY
C5: Insurance Company: | D5: Commonwealth Land Title Insurance Company | J5: For Underwriters That Charge Rates Below the Promulgated Rates
J7: Direct Premiums As If They Had Been Written at Promulgated Rates
H8: Dependent
A9: NM | B9: Trans- | G9: Direct | H9: on Basic
A10: Form | B10: action | E10: NMAC | F10: Number of | G10: Premiums | H10: Premium
A11: No. | B11: Code | C11: Transaction Type | E11: Regulation | F11: Transactions | G11: Written | H11: Rate?
A12: none | B12: 0001 | C12: Charge For Additional Chain Of Title | E12: 13.14.9.16 | F12: 0 | G12: 0 | H12: No | J12: 0
A13: none | B13: 0002 | C13: Charge For Unplatted Tract Of Unusual Complexity | E13: 13.14.9.16 | F13: 0 | G13: 0 | H13: Yes | J13: 0
A14: none | B14: 0003 | C14: Abstract Retirement Credit | E14: 13.14.9.24 | F14: 0 | G14: 0 | H14: Yes | J14: 0
A15: none | B15: 0004 | C15: Loan Policy - Mechanic's Lien Coverage With Evidence of Priority | E15: 13.14.9.40E | F15: 1148 | G15: 57400 | H15: No | J15: 0
A16: none | B16: 0005 | C16: Loan Policy - Mechanic's Lien Coverage Without Evidence of Priority | E16: 13.14.9.40E | F16: 0 | G16: 0 | H16: Yes | J16: 0
A17: none | B17: 0006 | C17: Owner's Policy - Mechanic's Lien Coverage - Filing Period Expired | E17: 13.14.10.9A | F17: 86 | G17: 4250 | H17: No | J17: 0
A18: none | B18: 0007 | C18: Owner's Policy - Mechanic's Lien Coverage - Filing Period Not Expired | E18: 13.14.10.9B | F18: 2 | G18: 1234 | H18: Yes | J18: 0
A19: none | B19: 0008 | C19: Survey Coverage Endorsement | E19: 13.14.10.10 | F19: 1175 | G19: 166776.51 | H19: Yes | J19: 0
A20: none | B20: 0009 | C20: Duplicate Original Policy | E20: 13.14.9.33 | F20: 0 | G20: 0 | H20: No | J20: 0
A21: none | B21: 0010 | C21: Owner Pro Forma Policy | E21: 13.14.5.13 | F21: 17 | G21: 1700 | H21: No | J21: 0
A22: none | B22: 0011 | C22: Loan Pro Forma Policy | E22: 13.14.5.13 | F22: 21 | G22: 2100 | H22: No | J22: 0
A23: none | B23: 0012 | C23: Duplicate Original Policy | E23: 13.14.9.33 | F23: 0 | G23: 0 | H23: No | J23: 0
... A155: 2 | B155: 9280 | C155: Loan Policy - Statutory Rate (more than 10 years, less than 20 - 80%) | E155: 59A-30-6.1 NMSA 1978 | F155: 0 | G155: 0 | H155: Yes | J155: 0
E156: TOTAL: | F156: =SUM(F12:F155) -> 8610 | G156: =SUM(G12:G155) -> 3682784.8 | J156: =SUM(J12:J155) -> 0
F158: Crosscheck with Form 1: | G158: 3682785
F159: Difference: | G159: =G158-G156 -> 0.18
B160: Explanation for Difference (if any):

Sheet Fidelity National Title Ins Co
A1: NEW MEXICO TITLE INSURANCE UNDERWRITER'S STATISTICAL REPORT
A2: FORM 3: TRANSACTION REPORT
A3: For Calendar Year Ending December 31, 2021
A4: NEW MEXICO EXPERIENCE ONLY
C5: Insurance Company: | D5: Fidelity National Title Insurance Company | J5: For Underwriters That Charge Rates Below the Promulgated Rates
J7: Direct Premiums As If They Had Been Written at Promulgated Rates
H8: Dependent
A9: NM | B9: Trans- | G9: Direct | H9: on Basic
A10: Form | B10: action | E10: NMAC | F10: Number of | G10: Premiums | H10: Premium
A11: No. | B11: Code | C11: Transaction Type | E11: Regulation | F11: Transactions | G11: Written | H11: Rate?
A12: 1, 2 | B12: 0001 | C12: Charge For Additional Chain Of Title | E12: 13.14.9.16 | F12: 0 | G12: 0 | H12: No | J12: 0
A13: 1, 2 | B13: 0002 | C13: Charge For Unusual Complexity | E13: 13.14.9.16 | F13: 1 | G13: 1400 | H13: Yes | J13: 0
A14: 1 | B14: 0003 | C14: Abstract Retirement Credit | E14: 13.14.9.24 | F14: 0 | G14: 0 | H14: Yes | J14: 0
A15: 2 | B15: 0004 | C15: Loan Policy - Mechanic's Lien Coverage With Evidence of Priority | E15: 13.14.5.12 | F15: 19781 | G15: 989018 | H15: No | J15: 0
A16: 2 | B16: 0005 | C16: Loan Policy - Mechanic's Lien Coverage Without Evidence of Priority | E16: 13.14.5.12 | F16: 6 | G16: 9816 | H16: Yes | J16: 0
A17: 1 | B17: 0006 | C17: Owner's Policy - Mechanic's Lien Coverage - Filing Period Expired | E17: 13.14.5.12 | F17: 1006 | G17: 50300 | H17: No | J17: 0
A18: 1 | B18: 0007 | C18: Owner's Policy - Mechanic's Lien Coverage - Filing Period Not Expired | E18: 13.14.5.12 | F18: 15 | G18: 13432 | H18: Yes | J18: 0
A19: 1 | B19: 0008 | C19: Survey Coverage - Owner Policy | E19: 13.14.5.1C | F19: 19918 | G19: 1512663 | H19: Yes | J19: 0
A20: 22 | B20: 0009 | C20: Survey Coverage - Loan Policy | E20: 13.14.5.12C | F20: 2 | G20: 130 | H20: No | J20: 0
A21: 1 | B21: 0010 | C21: Owner Pro Forma Policy | E21: 13.14.9.19C | F21: 66 | G21: 6600 | H21: No | J21: 0
A22: 2 | B22: 0011 | C22: Loan Pro Forma Policy | E22: 13.14.9.19C | F22: 103 | G22: 10300 | H22: No | J22: 0
A23: 1 | B23: 0012 | C23: Duplicate Original Policy | E23: None | F23: 0 | G23: 0 | H23: No | J23: 0
... A155: 2 | B155: 9280 | C155: Loan Policy - Statutory Rate (more than 10 years, less than 20 - 80%) | E155: 59A-30-6.1 NMSA 1978 | F155: 0 | G155: 0 | H155: Yes | J155: 0
E156: TOTAL: | F156: =SUM(F12:F155) -> 133626 | G156: =SUM(G12:G155) -> 41059249 | J156: =SUM(J12:J155) -> 0
F158: Crosscheck with Form 1: | G158: 41059243
F159: Difference: | G159: =G158-G156 -> -6

Sheet First American Title Ins Co
A1: NEW MEXICO TITLE INSURANCE UNDERWRITER'S STATISTICAL REPORT
A2: FORM 3: TRANSACTION REPORT
A3: For Calendar Year Ending December 31, 2021
A4: NEW MEXICO EXPERIENCE ONLY
C5: Insurance Company: | D5: First American Title Insurance Company | J5: For Underwriters That Charge Rates Below the Promulgated Rates
J7: Direct Premiums As If They Had Been Written at Promulgated Rates
H8: Dependent
A9: NM | B9: Trans- | G9: Direct | H9: on Basic
A10: Form | B10: action | E10: NMAC | F10: Number of | G10: Premiums | H10: Premium
A11: No. | B11: Code | C11: Transaction Type | E11: Regulation | F11: Transactions | G11: Written | H11: Rate?
A12: 1, 2 | B12: 0001 | C12: Charge For Additional Chain Of Title | E12: 13.14.9.16 | F12: 5 | G12: 250 | H12: No
A13: 1, 2 | B13: 0002 | C13: Charge For Unusual Complexity | E13: 13.14.9.16 | F13: 3 | G13: 6125 | H13: Yes
A14: 1 | B14: 0003 | C14: Abstract Retirement Credit | E14: 13.14.9.24 | H14: Yes
A15: 2 | B15: 0004 | C15: Loan Policy - Mechanic's Lien Coverage With Evidence of Priority | E15: 13.14.5.12 | F15: 14841 | G15: 741070 | H15: No
A16: 2 | B16: 0005 | C16: Loan Policy - Mechanic's Lien Coverage Without Evidence of Priority | E16: 13.14.5.12 | F16: 20 | G16: 312690 | H16: Yes
A17: 1 | B17: 0006 | C17: Owner's Policy - Mechanic's Lien Coverage - Filing Period Expired | E17: 13.14.5.12 | F17: 1978 | G17: 98775 | H17: No
A18: 1 | B18: 0007 | C18: Owner's Policy - Mechanic's Lien Coverage - Filing Period Not Expired | E18: 13.14.5.12 | F18: 10 | G18: 18298 | H18: Yes
A19: 1 | B19: 0008 | C19: Survey Coverage - Owner Policy | E19: 13.14.5.1C | F19: 1871 | G19: 1128402 | H19: Yes
A20: 22 | B20: 0009 | C20: Survey Coverage - Loan Policy | E20: 13.14.5.12C | F20: 13640 | G20: 681845 | H20: No
A21: 1 | B21: 0010 | C21: Owner Pro Forma Policy | E21: 13.14.9.19C | F21: 129 | G21: 12850 | H21: No
A22: 2 | B22: 0011 | C22: Loan Pro Forma Policy | E22: 13.14.9.19C | F22: 210 | G22: 20950 | H22: No
A23: 1 | B23: 0012 | C23: Duplicate Original Policy | E23: None | F23: 1 | G23: 25 | H23: No
A24: none | B24: 0013 | C24: Cancellation Fee | E24: 13.14.9.19B | F24: 222 | G24: 14684 | H24: No
A25: 1 | B25: 0101 | C25: Owner’s Policy | E25: 13.14.9.20 | F25: 7093 | G25: 11886390 | H25: Yes
A26: 1 | B26: 0102 | C26: Owner’s Policy - With Bulk Rate | E26: 13.14.6.12 | F26: 1544 | G26: 1690339 | H26: Yes
... A39: 2 | B39: 0205 | C39: Loan Policy With Two-Year Claims Made Limitation | E39: 13.14.9.40A | F39: 520 | G39: 402616 | H39: No
A40: 2 | B40: 0206 | C40: Extension of Loan Policy with Two-Year Claims Made Limitation | E40: 13.14.9.40B | H40: No
A41: 2 | B41: 0240 | C41: Loan Policy - Substitution Rate (within 3 years - 40%) | E41: 13.14.9.39 | F41: 2315 | G41: 1426132 | H41: Yes
A42: 2 | B42: 0250 | C42: Loan Policy - Substitution Rate (more than 3 years, less than 5 - 50%) | E42: 13.14.9.39 | F42: 1243 | G42: 883867 | H42: Yes
A43: 2 | B43: 0260 | C43: Loan Policy - Substitution Rate (more than 5 years, less than 10 - 60%) | E43: 13.14.9.39 | F43: 1245 | G43: 1081026 | H43: Yes
A44: 2 | B44: 0280 | C44: Loan Policy - Substitution Rate (more than 10 years, less than 20 - 80%) | E44: 13.14.9.39 | F44: 439 | G44: 417878 | H44: Yes
A45: 6 | B45: 0600 | C45: Commitment for Title Insurance | E45: 13.14.9.19A | F45: 21301 | G45: 2129330 | H45: No
A46: 9 | B46: 0900 | C46: Notice of Availability of Owner's Title Insurance | E46: None | H46: No
A47: 10 | B47: 1000 | C47: Facultative Reinsurance Agreement | E47: None | H47: No
A48: 11 | B48: 1101 | C48: Construction Loan Extension Endorsement | E48: 13.14.9.40A | H48: No
A49: 11 | B49: 1104 | C49: Correction/Multipurpose Endorsement | E49: 13.14.8.8 | F49: 39 | G49: 975 | H49: No
A50: 11 | B50: 1105 | C50: Renewal, Extension and Partial Release Endorsement | E50: None | F50: 15 | G50: 840 | H50: No
A51: 11 | B51: 1106 | C51: Extension of Commitment for Title Insurance | E51: 13.14.9.19A | F51: 5 | G51: 350 | H51: No
A52: 11 | B52: 1108 | C52: Increase in Coverage | E52: 13.14.6.8C | H52: Yes
A53: 12 | B53: 1200 | C53: Condominium Endorsement - Assessments Priority (ALTA 4-06)(Rev:10-16-08) | E53: 13.14.8.42 | F53: 275 | G53: 6875 | H53: No
...

Sheet First National Title Ins Co
A1: NEW MEXICO TITLE INSURANCE UNDERWRITER'S STATISTICAL REPORT
A2: FORM 3: TRANSACTION REPORT
A3: For Calendar Year Ending December 31, 2021
A4: NEW MEXICO EXPERIENCE ONLY
C5: Insurance Company: | D5: First National Title Insurance Company | J5: For Underwriters That Charge Rates Below the Promulgated Rates
J7: Direct Premiums As If They Had Been Written at Promulgated Rates
H8: Dependent
A9: NM | B9: Trans- | G9: Direct | H9: on Basic
A10: Form | B10: action | E10: NMAC | F10: Number of | G10: Premiums | H10: Premium
A11: No. | B11: Code | C11: Transaction Type | E11: Regulation | F11: Transactions | G11: Written | H11: Rate?
A12: 1, 2 | B12: 0001 | C12: Charge For Additional Chain Of Title | E12: 13.14.9.16 | H12: No
A13: 1, 2 | B13: 0002 | C13: Charge For Unusual Complexity | E13: 13.14.9.16 | H13: Yes
A14: 1 | B14: 0003 | C14: Abstract Retirement Credit | E14: 13.14.9.24 | H14: Yes
A15: 2 | B15: 0004 | C15: Loan Policy - Mechanic's Lien Coverage With Evidence of Priority | E15: 13.14.5.12 | F15: 765 | G15: 38300 | H15: No
A16: 2 | B16: 0005 | C16: Loan Policy - Mechanic's Lien Coverage Without Evidence of Priority | E16: 13.14.5.12 | H16: Yes
A17: 1 | B17: 0006 | C17: Owner's Policy - Mechanic's Lien Coverage - Filing Period Expired | E17: 13.14.5.12 | F17: 413 | G17: 20585 | H17: No
A18: 1 | B18: 0007 | C18: Owner's Policy - Mechanic's Lien Coverage - Filing Period Not Expired | E18: 13.14.5.12 | H18: Yes
A19: 1 | B19: 0008 | C19: Survey Coverage - Owner Policy | E19: 13.14.5.1C | F19: 431 | G19: 214803 | H19: Yes
A20: 22 | B20: 0009 | C20: Survey Coverage - Loan Policy | E20: 13.14.5.12C | F20: 699 | G20: 34980 | H20: No
A21: 1 | B21: 0010 | C21: Owner Pro Forma Policy | E21: 13.14.9.19C | H21: No
A22: 2 | B22: 0011 | C22: Loan Pro Forma Policy | E22: 13.14.9.19C | H22: No
A23: 1 | B23: 0012 | C23: Duplicate Original Policy | E23: None | H23: No
A24: none | B24: 0013 | C24: Cancellation Fee | E24: 13.14.9.19B | F24: 8 | G24: 200 | H24: No
A25: 1 | B25: 0101 | C25: Owner’s Policy | E25: 13.14.9.20 | F25: 739 | G25: 1569195 | H25: Yes
A26: 1 | B26: 0102 | C26: Owner’s Policy - With Bulk Rate | E26: 13.14.6.12 | F26: 20 | G26: 22694 | H26: Yes
A27: 1 | B27: 0103 | C27: Multiple Owners on Same Land - Simultaneous Issue | E27: 13.14.9.32 | H27: Yes
A28: 1, 2 | B28: 0104 | C28: Replacement Policy | E28: 13.14.9.26 | H28: Yes
A29: 1 | B29: 0105 | C29: Owner's Policy After Foreclosure | E29: 13.14.9.28 | H29: Yes
A30: 1 | B30: 0106 | C30: Owner's Policy - Terminated Foreclosure | E30: 13.14.9.28 | H30: Yes
A31: 1 | B31: 0110 | C31: Owner's Policy - Reissue (3 years or more since previous owner's policy was issued) | E31: 13.14.6.11 | F31: 198 | G31: 299314 | H31: Yes
A32: 1 | B32: 0115 | C32: Owner's Policy - Reissue (2 years or more but less than 3 years since previous owner's policy was issued) | E32: 13.14.6.11 | F32: 37 | G32: 53184 | H32: Yes
A33: 1 | B33: 0120 | C33: Owner's Policy - Reissue (More than 1 year but less than 2 years since previous owner's policy was issued) | E33: 13.14.6.11 | F33: 34 | G33: 72331 | H33: Yes
A34: 1 | B34: 0125 | C34: Owner's Policy - Reissue (1 y ear or less since previous owner's policy was issued) | E34: 13.14.6.11 | F34: 33 | G34: 39834 | H34: Yes
A35: 2 | B35: 0201 | C35: Loan Policy - Single Issue | E35: 13.14.9.22 | F35: 90 | G35: 140369 | H35: Yes
A36: 2 | B36: 0202 | C36: Loan Policy - Simultaneous Issue with Owner's Policy | E36: 13.14.9.22 | F36: 527 | G36: 64280 | H36: No
A37: 2 | B37: 0203 | C37: Loan Policy - Second Mortgage or Subsequent Issue | E37: 13.14.9.36 | F37: 16 | G37: 16469 | H37: Yes
A38: 2 | B38: 0204 | C38: Replacement Loan Policy | E38: 13.14.9.26 | F38: 1 | G38: 737 | H38: Yes
A39: 2 | B39: 0205 | C39: Loan Policy With Two-Year Claims Made Limitation | E39: 13.14.9.40A | F39: 20 | G39: 6363 | H39: No
A40: 2 | B40: 0206 | C40: Extension of Loan Policy with Two-Year Claims Made Limitation | E40: 13.14.9.40B | F40: 1 | G40: 996 | H40: No
A41: 2 | B41: 0240 | C41: Loan Policy - Substitution Rate (within 3 years - 40%) | E41: 13.14.9.39 | F41: 99 | G41: 39022 | H41: Yes
...

Sheet Investors Title Insurance Co
A1: NEW MEXICO TITLE INSURANCE UNDERWRITER'S STATISTICAL REPORT
A2: FORM 3: TRANSACTION REPORT
A3: For Calendar Year Ending December 31, 2021
A4: NEW MEXICO EXPERIENCE ONLY
C5: Insurance Company: | D5: Investors Title Insurance Company | J5: For Underwriters That Charge Rates Below the Promulgated Rates
J7: Direct Premiums As If They Had Been Written at Promulgated Rates
H8: Dependent
A9: NM | B9: Trans- | G9: Direct | H9: on Basic
A10: Form | B10: action | E10: NMAC | F10: Number of | G10: Premiums | H10: Premium
A11: No. | B11: Code | C11: Transaction Type | E11: Regulation | F11: Transactions | G11: Written | H11: Rate?
A12: 1, 2 | B12: 0001 | C12: Charge For Additional Chain Of Title | E12: 13.14.9.16 | F12: 0 | G12: 0 | H12: No | J12: 0
A13: 1, 2 | B13: 0002 | C13: Charge For Unusual Complexity | E13: 13.14.9.16 | F13: 0 | G13: 0 | H13: Yes | J13: 0
A14: 1 | B14: 0003 | C14: Abstract Retirement Credit | E14: 13.14.9.24 | F14: 0 | G14: 0 | H14: Yes | J14: 0
A15: 2 | B15: 0004 | C15: Loan Policy - Mechanic's Lien Coverage With Evidence of Priority | E15: 13.14.5.12 | F15: 0 | G15: 0 | H15: No | J15: 0
A16: 2 | B16: 0005 | C16: Loan Policy - Mechanic's Lien Coverage Without Evidence of Priority | E16: 13.14.5.12 | F16: 0 | G16: 0 | H16: Yes | J16: 0
A17: 1 | B17: 0006 | C17: Owner's Policy - Mechanic's Lien Coverage - Filing Period Expired | E17: 13.14.5.12 | F17: 0 | G17: 0 | H17: No | J17: 0
A18: 1 | B18: 0007 | C18: Owner's Policy - Mechanic's Lien Coverage - Filing Period Not Expired | E18: 13.14.5.12 | F18: 0 | G18: 0 | H18: Yes | J18: 0
A19: 1 | B19: 0008 | C19: Survey Coverage - Owner Policy | E19: 13.14.5.1C | F19: 0 | G19: 0 | H19: Yes | J19: 0
A20: 22 | B20: 0009 | C20: Survey Coverage - Loan Policy | E20: 13.14.5.12C | F20: 0 | G20: 0 | H20: No | J20: 0
A21: 1 | B21: 0010 | C21: Owner Pro Forma Policy | E21: 13.14.9.19C | F21: 0 | G21: 0 | H21: No | J21: 0
A22: 2 | B22: 0011 | C22: Loan Pro Forma Policy | E22: 13.14.9.19C | F22: 0 | G22: 0 | H22: No | J22: 0
A23: 1 | B23: 0012 | C23: Duplicate Original Policy | E23: None | F23: 0 | G23: 0 | H23: No | J23: 0
... A155: 2 | B155: 9280 | C155: Loan Policy - Statutory Rate (more than 10 years, less than 20 - 80%) | E155: 59A-30-6.1 NMSA 1978 | F155: 0 | G155: 0 | H155: Yes | J155: 0
E156: TOTAL: | F156: =SUM(F12:F155) -> 0 | G156: =SUM(G12:G155) -> 0 | J156: =SUM(J12:J155) -> 0
F158: Crosscheck with Form 1: | G158: 0
F159: Difference: | G159: =G158-G156 -> 0
B162: Explanation for Difference (if any):

Sheet National Title Insurance of NY 
A1: NEW MEXICO TITLE INSURANCE UNDERWRITER'S STATISTICAL REPORT
A2: FORM 3: TRANSACTION REPORT
A3: For Calendar Year Ending December 31, 2021
A4: NEW MEXICO EXPERIENCE ONLY
C5: Insurance Company: | D5: National Title Insurance of New York Inc. | J5: For Underwriters That Charge Rates Below the Promulgated Rates
J7: Direct Premiums As If They Had Been Written at Promulgated Rates
H8: Dependent
A9: NM | B9: Trans- | G9: Direct | H9: on Basic
A10: Form | B10: action | E10: NMAC | F10: Number of | G10: Premiums | H10: Premium
A11: No. | B11: Code | C11: Transaction Type | E11: Regulation | F11: Transactions | G11: Written | H11: Rate?
A12: 1, 2 | B12: 0001 | C12: Charge For Additional Chain Of Title | E12: 13.14.9.16 | F12: 0 | G12: 0 | H12: No | J12: 0
A13: 1, 2 | B13: 0002 | C13: Charge For Unusual Complexity | E13: 13.14.9.16 | F13: 0 | G13: 0 | H13: Yes | J13: 0
A14: 1 | B14: 0003 | C14: Abstract Retirement Credit | E14: 13.14.9.24 | F14: 0 | G14: 0 | H14: Yes | J14: 0
A15: 2 | B15: 0004 | C15: Loan Policy - Mechanic's Lien Coverage With Evidence of Priority | E15: 13.14.5.12 | F15: 0 | G15: 0 | H15: No | J15: 0
A16: 2 | B16: 0005 | C16: Loan Policy - Mechanic's Lien Coverage Without Evidence of Priority | E16: 13.14.5.12 | F16: 0 | G16: 0 | H16: Yes | J16: 0
A17: 1 | B17: 0006 | C17: Owner's Policy - Mechanic's Lien Coverage - Filing Period Expired | E17: 13.14.5.12 | F17: 0 | G17: 0 | H17: No | J17: 0
A18: 1 | B18: 0007 | C18: Owner's Policy - Mechanic's Lien Coverage - Filing Period Not Expired | E18: 13.14.5.12 | F18: 0 | G18: 0 | H18: Yes | J18: 0
A19: 1 | B19: 0008 | C19: Survey Coverage - Owner Policy | E19: 13.14.5.1C | F19: 0 | G19: 0 | H19: Yes | J19: 0
A20: 22 | B20: 0009 | C20: Survey Coverage - Loan Policy | E20: 13.14.5.12C | F20: 0 | G20: 0 | H20: No | J20: 0
A21: 1 | B21: 0010 | C21: Owner Pro Forma Policy | E21: 13.14.9.19C | F21: 0 | G21: 0 | H21: No | J21: 0
A22: 2 | B22: 0011 | C22: Loan Pro Forma Policy | E22: 13.14.9.19C | F22: 0 | G22: 0 | H22: No | J22: 0
A23: 1 | B23: 0012 | C23: Duplicate Original Policy | E23: None | F23: 0 | G23: 0 | H23: No | J23: 0
... A155: 2 | B155: 9280 | C155: Loan Policy - Statutory Rate (more than 10 years, less than 20 - 80%) | E155: 59A-30-6.1 NMSA 1978 | F155: 0 | G155: 0 | H155: Yes | J155: 0
F157: Crosscheck with Form 1: | G157: 0
F158: Difference: | G158: =G157-G155 -> 0
B159: Explanation for Difference (if any):

Sheet North American Title Ins
A1: NEW MEXICO TITLE INSURANCE UNDERWRITER'S STATISTICAL REPORT
A2: FORM 3: TRANSACTION REPORT
A3: For Calendar Year Ending December 31, 2021
A4: NEW MEXICO EXPERIENCE ONLY
C5: Insurance Company: | D5: North American Title Insurance Company | J5: For Underwriters That Charge Rates Below the Promulgated Rates
J7: Direct Premiums As If They Had Been Written at Promulgated Rates
H8: Dependent
A9: NM | B9: Trans- | G9: Direct | H9: on Basic
A10: Form | B10: action | E10: NMAC | F10: Number of | G10: Premiums | H10: Premium
A11: No. | B11: Code | C11: Transaction Type | E11: Regulation | F11: Transactions | G11: Written | H11: Rate?
A12: 1, 2 | B12: 0001 | C12: Charge For Additional Chain Of Title | E12: 13.14.9.16 | F12: 0 | G12: 0 | H12: No | J12: 0
A13: 1, 2 | B13: 0002 | C13: Charge For Unusual Complexity | E13: 13.14.9.16 | F13: 0 | G13: 0 | H13: Yes | J13: 0
A14: 1 | B14: 0003 | C14: Abstract Retirement Credit | E14: 13.14.9.24 | F14: 0 | G14: 0 | H14: Yes | J14: 0
A15: 2 | B15: 0004 | C15: Loan Policy - Mechanic's Lien Coverage With Evidence of Priority | E15: 13.14.5.12 | F15: 0 | G15: 0 | H15: No | J15: 0
A16: 2 | B16: 0005 | C16: Loan Policy - Mechanic's Lien Coverage Without Evidence of Priority | E16: 13.14.5.12 | F16: 0 | G16: 0 | H16: Yes | J16: 0
A17: 1 | B17: 0006 | C17: Owner's Policy - Mechanic's Lien Coverage - Filing Period Expired | E17: 13.14.5.12 | F17: 0 | G17: 0 | H17: No | J17: 0
A18: 1 | B18: 0007 | C18: Owner's Policy - Mechanic's Lien Coverage - Filing Period Not Expired | E18: 13.14.5.12 | F18: 0 | G18: 0 | H18: Yes | J18: 0
A19: 1 | B19: 0008 | C19: Survey Coverage - Owner Policy | E19: 13.14.5.1C | F19: 0 | G19: 0 | H19: Yes | J19: 0
A20: 22 | B20: 0009 | C20: Survey Coverage - Loan Policy | E20: 13.14.5.12C | F20: 0 | G20: 0 | H20: No | J20: 0
A21: 1 | B21: 0010 | C21: Owner Pro Forma Policy | E21: 13.14.9.19C | F21: 0 | G21: 0 | H21: No | J21: 0
A22: 2 | B22: 0011 | C22: Loan Pro Forma Policy | E22: 13.14.9.19C | F22: 0 | G22: 0 | H22: No | J22: 0
A23: 1 | B23: 0012 | C23: Duplicate Original Policy | E23: None | F23: 0 | G23: 0 | H23: No | J23: 0
... A155: 2 | B155: 9280 | C155: Loan Policy - Statutory Rate (more than 10 years, less than 20 - 80%) | E155: 59A-30-6.1 NMSA 1978 | F155: 0 | G155: 0 | H155: Yes | J155: 0
E156: TOTAL: | F156: =SUM(F12:F155) -> 0 | G156: =SUM(G12:G155) -> 0 | J156: =SUM(J12:J155) -> 0
F158: Crosscheck with Form 1: | G158: 0
F159: Difference: | G159: =G158-G156 -> 0
B160: Explanation for Difference (if any):

Sheet Old Republic National Title Ins
A1: NEW MEXICO TITLE INSURANCE UNDERWRITER'S STATISTICAL REPORT
A2: FORM 3: TRANSACTION REPORT
A3: For Calendar Year Ending December 31, 2021
A4: NEW MEXICO EXPERIENCE ONLY
C5: Insurance Company: | D5: Old Republic National Title Insurance Company | J5: For Underwriters That Charge Rates Below the Promulgated Rates
J7: Direct Premiums As If They Had Been Written at Promulgated Rates
H8: Dependent
A9: NM | B9: Trans- | G9: Direct | H9: on Basic
A10: Form | B10: action | E10: NMAC | F10: Number of | G10: Premiums | H10: Premium
A11: No. | B11: Code | C11: Transaction Type | E11: Regulation | F11: Transactions | G11: Written | H11: Rate?
A12: 1, 2 | B12: 0001 | C12: Charge For Additional Chain Of Title | E12: 13.14.9.16 | F12: 0 | G12: 0 | H12: No | J12: 0
A13: 1, 2 | B13: 0002 | C13: Charge For Unusual Complexity | E13: 13.14.9.16 | F13: 0 | G13: 0 | H13: Yes | J13: 0
A14: 1 | B14: 0003 | C14: Abstract Retirement Credit | E14: 13.14.9.24 | F14: 0 | G14: 0 | H14: Yes | J14: 0
A15: 2 | B15: 0004 | C15: Loan Policy - Mechanic's Lien Coverage With Evidence of Priority | E15: 13.14.5.12 | F15: 18433 | G15: 921574 | H15: No | J15: 0
A16: 2 | B16: 0005 | C16: Loan Policy - Mechanic's Lien Coverage Without Evidence of Priority | E16: 13.14.5.12 | F16: 380 | G16: 194025 | H16: Yes | J16: 0
A17: 1 | B17: 0006 | C17: Owner's Policy - Mechanic's Lien Coverage - Filing Period Expired | E17: 13.14.5.12 | F17: 988 | G17: 49400 | H17: No | J17: 0
A18: 1 | B18: 0007 | C18: Owner's Policy - Mechanic's Lien Coverage - Filing Period Not Expired | E18: 13.14.5.12 | F18: 7 | G18: 8496 | H18: Yes | J18: 0
A19: 1 | B19: 0008 | C19: Survey Coverage - Owner Policy | E19: 13.14.5.1C | F19: 965 | G19: 552968 | H19: Yes | J19: 0
A20: 22 | B20: 0009 | C20: Survey Coverage - Loan Policy | E20: 13.14.5.12C | F20: 17981 | G20: 925386 | H20: No | J20: 0
A21: 1 | B21: 0010 | C21: Owner Pro Forma Policy | E21: 13.14.9.19C | F21: 13 | G21: 1300 | H21: No | J21: 0
A22: 2 | B22: 0011 | C22: Loan Pro Forma Policy | E22: 13.14.9.19C | F22: 14 | G22: 2500 | H22: No | J22: 0
A23: 1 | B23: 0012 | C23: Duplicate Original Policy | E23: None | F23: 3 | G23: 195 | H23: No | J23: 0
... A155: 2 | B155: 9280 | C155: Loan Policy - Statutory Rate (more than 10 years, less than 20 - 80%) | E155: 59A-30-6.1 NMSA 1978 | F155: 62 | G155: 51619 | H155: Yes | J155: 0
E156: TOTAL: | F156: =SUM(F12:F155) -> 107449 | G156: =SUM(G12:G155) -> 34166530 | J156: =SUM(J12:J155) -> 0
F158: Crosscheck with Form 1: | G158: 32175862
F159: Difference: | G159: =G158-G156 -> -1990668
B160: Explanation for Difference (if any):
C161: Timing difference between the statistical premium reported based on detail policy information and the booking of the policy register amounts in the general ledger premium totals. The timing difference is
C162: made up of both premium booked in 2020 with corresponding policy detail information keyed in 2021 offset by premium booked in 2021 with policy detail being keyed in 2022.

Sheet Premier Land Title Insurance Co
A1: NEW MEXICO TITLE INSURANCE UNDERWRITER'S STATISTICAL REPORT
A2: FORM 3: TRANSACTION REPORT
A3: For Calendar Year Ending December 31, 2021
A4: NEW MEXICO EXPERIENCE ONLY
C5: Insurance Company: | D5: Premier Land Title Insurance Company | J5: For Underwriters That Charge Rates Below the Promulgated Rates
J7: Direct Premiums As If They Had Been Written at Promulgated Rates
H8: Dependent
A9: NM | B9: Trans- | G9: Direct | H9: on Basic
A10: Form | B10: action | E10: NMAC | F10: Number of | G10: Premiums | H10: Premium
A11: No. | B11: Code | C11: Transaction Type | E11: Regulation | F11: Transactions | G11: Written | H11: Rate?
A12: 1, 2 | B12: 0001 | C12: Charge For Additional Chain Of Title | E12: 13.14.9.16 | H12: No
A13: 1, 2 | B13: 0002 | C13: Charge For Unusual Complexity | E13: 13.14.9.16 | H13: Yes
A14: 1 | B14: 0003 | C14: Abstract Retirement Credit | E14: 13.14.9.24 | H14: Yes
A15: 2 | B15: 0004 | C15: Loan Policy - Mechanic's Lien Coverage With Evidence of Priority | E15: 13.14.5.12 | F15: 379 | G15: 18950 | H15: No
A16: 2 | B16: 0005 | C16: Loan Policy - Mechanic's Lien Coverage Without Evidence of Priority | E16: 13.14.5.12 | H16: Yes
A17: 1 | B17: 0006 | C17: Owner's Policy - Mechanic's Lien Coverage - Filing Period Expired | E17: 13.14.5.12 | F17: 9 | G17: 11580 | H17: No
A18: 1 | B18: 0007 | C18: Owner's Policy - Mechanic's Lien Coverage - Filing Period Not Expired | E18: 13.14.5.12 | H18: Yes
A19: 1 | B19: 0008 | C19: Survey Coverage - Owner Policy | E19: 13.14.5.1C | F19: 387 | G19: 22398.35 | H19: Yes
A20: 22 | B20: 0009 | C20: Survey Coverage - Loan Policy | E20: 13.14.5.12C | H20: No
A21: 1 | B21: 0010 | C21: Owner Pro Forma Policy | E21: 13.14.9.19C | H21: No
A22: 2 | B22: 0011 | C22: Loan Pro Forma Policy | E22: 13.14.9.19C | H22: No
A23: 1 | B23: 0012 | C23: Duplicate Original Policy | E23: None | H23: No
A24: none | B24: 0013 | C24: Cancellation Fee | E24: 13.14.9.19B | H24: No
A25: 1 | B25: 0101 | C25: Owner’s Policy | E25: 13.14.9.20 | H25: Yes
A26: 1 | B26: 0102 | C26: Owner’s Policy - With Bulk Rate | E26: 13.14.6.12 | F26: 417 | G26: 687623 | H26: Yes
A27: 1 | B27: 0103 | C27: Multiple Owners on Same Land - Simultaneous Issue | E27: 13.14.9.32 | H27: Yes
A28: 1, 2 | B28: 0104 | C28: Replacement Policy | E28: 13.14.9.26 | H28: Yes
A29: 1 | B29: 0105 | C29: Owner's Policy After Foreclosure | E29: 13.14.9.28 | H29: Yes
A30: 1 | B30: 0106 | C30: Owner's Policy - Terminated Foreclosure | E30: 13.14.9.28 | H30: Yes
A31: 1 | B31: 0110 | C31: Owner's Policy - Reissue (3 years or more since previous owner's policy was issued) | E31: 13.14.6.11 | H31: Yes
A32: 1 | B32: 0115 | C32: Owner's Policy - Reissue (2 years or more but less than 3 years since previous owner's policy was issued) | E32: 13.14.6.11 | H32: Yes
A33: 1 | B33: 0120 | C33: Owner's Policy - Reissue (More than 1 year but less than 2 years since previous owner's policy was issued) | E33: 13.14.6.11 | H33: Yes
A34: 1 | B34: 0125 | C34: Owner's Policy - Reissue (1 y ear or less since previous owner's policy was issued) | E34: 13.14.6.11 | H34: Yes
A35: 2 | B35: 0201 | C35: Loan Policy - Single Issue | E35: 13.14.9.22 | F35: 13 | G35: 7293 | H35: Yes
A36: 2 | B36: 0202 | C36: Loan Policy - Simultaneous Issue with Owner's Policy | E36: 13.14.9.22 | F36: 372 | G36: 37820 | H36: No
A37: 2 | B37: 0203 | C37: Loan Policy - Second Mortgage or Subsequent Issue | E37: 13.14.9.36 | H37: Yes
A38: 2 | B38: 0204 | C38: Replacement Loan Policy | E38: 13.14.9.26 | H38: Yes
A39: 2 | B39: 0205 | C39: Loan Policy With Two-Year Claims Made Limitation | E39: 13.14.9.40A | H39: No
A40: 2 | B40: 0206 | C40: Extension of Loan Policy with Two-Year Claims Made Limitation | E40: 13.14.9.40B | H40: No
A41: 2 | B41: 0240 | C41: Loan Policy - Substitution Rate (within 3 years - 40%) | E41: 13.14.9.39 | H41: Yes
...

Sheet Radian Title Insurance Inc
A1: NEW MEXICO TITLE INSURANCE UNDERWRITER'S STATISTICAL REPORT
A2: FORM 3: TRANSACTION REPORT
A3: For Calendar Year Ending December 31, 2021
A4: NEW MEXICO EXPERIENCE ONLY
C5: Insurance Company: | D5: Radian Title Insurance Inc. | J5: For Underwriters That Charge Rates Below the Promulgated Rates
J7: Direct Premiums As If They Had Been Written at Promulgated Rates
H8: Dependent
A9: NM | B9: Trans- | G9: Direct | H9: on Basic
A10: Form | B10: action | E10: NMAC | F10: Number of | G10: Premiums | H10: Premium
A11: No. | B11: Code | C11: Transaction Type | E11: Regulation | F11: Transactions | G11: Written | H11: Rate?
A12: 1, 2 | B12: 0001 | C12: Charge For Additional Chain Of Title | E12: 13.14.9.16 | H12: No
A13: 1, 2 | B13: 0002 | C13: Charge For Unusual Complexity | E13: 13.14.9.16 | H13: Yes
A14: 1 | B14: 0003 | C14: Abstract Retirement Credit | E14: 13.14.9.24 | H14: Yes
A15: 2 | B15: 0004 | C15: Loan Policy - Mechanic's Lien Coverage With Evidence of Priority | E15: 13.14.5.12 | H15: No
A16: 2 | B16: 0005 | C16: Loan Policy - Mechanic's Lien Coverage Without Evidence of Priority | E16: 13.14.5.12 | H16: Yes
A17: 1 | B17: 0006 | C17: Owner's Policy - Mechanic's Lien Coverage - Filing Period Expired | E17: 13.14.5.12 | H17: No
A18: 1 | B18: 0007 | C18: Owner's Policy - Mechanic's Lien Coverage - Filing Period Not Expired | E18: 13.14.5.12 | H18: Yes
A19: 1 | B19: 0008 | C19: Survey Coverage - Owner Policy | E19: 13.14.5.1C | H19: Yes
A20: 22 | B20: 0009 | C20: Survey Coverage - Loan Policy | E20: 13.14.5.12C | H20: No
A21: 1 | B21: 0010 | C21: Owner Pro Forma Policy | E21: 13.14.9.19C | H21: No
A22: 2 | B22: 0011 | C22: Loan Pro Forma Policy | E22: 13.14.9.19C | H22: No
A23: 1 | B23: 0012 | C23: Duplicate Original Policy | E23: None | H23: No
... A155: 2 | B155: 9280 | C155: Loan Policy - Statutory Rate (more than 10 years, less than 20 - 80%) | E155: 59A-30-6.1 NMSA 1978 | H155: Yes
E156: TOTAL: | F156: =SUM(F12:F155) -> 0 | G156: =SUM(G12:G155) -> 0 | J156: =SUM(J12:J155) -> 0
F158: Crosscheck with Form 1: | G158: 0
F159: Difference: | G159: =G158-G156 -> 0
B160: Explanation for Difference (if any):

Sheet Stewart Title Guaranty Company
A1: NEW MEXICO TITLE INSURANCE UNDERWRITER'S STATISTICAL REPORT
A2: FORM 3: TRANSACTION REPORT
A3: For Calendar Year Ending December 31, 2021
A4: NEW MEXICO EXPERIENCE ONLY
C5: Insurance Company: | D5: Stewart Title Guaranty Company | J5: For Underwriters That Charge Rates Below the Promulgated Rates
J7: Direct Premiums As If They Had Been Written at Promulgated Rates
H8: Dependent
A9: NM | B9: Trans- | G9: Direct | H9: on Basic
A10: Form | B10: action | E10: NMAC | F10: Number of | G10: Premiums | H10: Premium
A11: No. | B11: Code | C11: Transaction Type | E11: Regulation | F11: Transactions | G11: Written | H11: Rate?
A12: 1, 2 | B12: 0001 | C12: Charge For Additional Chain Of Title | E12: 13.14.9.16 | F12: 63 | G12: -1300 | H12: No
A13: 1, 2 | B13: 0002 | C13: Charge For Unusual Complexity | E13: 13.14.9.16 | F13: 10 | G13: 5609 | H13: Yes
A14: 1 | B14: 0003 | C14: Abstract Retirement Credit | E14: 13.14.9.24 | F14: 2 | G14: 318 | H14: Yes
A15: 2 | B15: 0004 | C15: Loan Policy - Mechanic's Lien Coverage With Evidence of Priority | E15: 13.14.5.12 | F15: 10168 | G15: 506770 | H15: No
A16: 2 | B16: 0005 | C16: Loan Policy - Mechanic's Lien Coverage Without Evidence of Priority | E16: 13.14.5.12 | F16: 8 | G16: 12855 | H16: Yes
A17: 1 | B17: 0006 | C17: Owner's Policy - Mechanic's Lien Coverage - Filing Period Expired | E17: 13.14.5.12 | F17: 858 | G17: 46839 | H17: No
A18: 1 | B18: 0007 | C18: Owner's Policy - Mechanic's Lien Coverage - Filing Period Not Expired | E18: 13.14.5.12 | F18: 0 | G18: 0 | H18: Yes
A19: 1 | B19: 0008 | C19: Survey Coverage - Owner Policy | E19: 13.14.5.1C | F19: 679 | G19: 458204 | H19: Yes
A20: 22 | B20: 0009 | C20: Survey Coverage - Loan Policy | E20: 13.14.5.12C | F20: 9703 | G20: 564891 | H20: No
A21: 1 | B21: 0010 | C21: Owner Pro Forma Policy | E21: 13.14.9.19C | F21: 23 | G21: 2300 | H21: No
A22: 2 | B22: 0011 | C22: Loan Pro Forma Policy | E22: 13.14.9.19C | F22: 58 | G22: 6625 | H22: No
A23: 1 | B23: 0012 | C23: Duplicate Original Policy | E23: None | F23: 1 | G23: 0 | H23: No
... A155: 2 | B155: 9280 | C155: Loan Policy - Statutory Rate (more than 10 years, less than 20 - 80%) | E155: 59A-30-6.1 NMSA 1978 | F155: -1 | G155: -784 | H155: Yes
E156: TOTAL: | F156: 68960 | G156: 24883122 | J156: 0
F158: Crosscheck with Form 1: | G158: 24578045
F159: Difference: | G159: -305077
B160: Explanation for Difference (if any):
C161: The difference of $(305,077) relates to the current year impact of accruals for unreported policies.

Sheet Title Resources Guaranty Co
A1: NEW MEXICO TITLE INSURANCE UNDERWRITER'S STATISTICAL REPORT
A2: FORM 3: TRANSACTION REPORT
A3: For Calendar Year Ending December 31, 2021
A4: NEW MEXICO EXPERIENCE ONLY
C5: Insurance Company: | D5: Title Resources Guaranty Company | J5: For Underwriters That Charge Rates Below the Promulgated Rates
J7: Direct Premiums As If They Had Been Written at Promulgated Rates
H8: Dependent
A9: NM | B9: Trans- | G9: Direct | H9: on Basic
A10: Form | B10: action | E10: NMAC | F10: Number of | G10: Premiums | H10: Premium
A11: No. | B11: Code | C11: Transaction Type | E11: Regulation | F11: Transactions | G11: Written | H11: Rate?
A12: 1, 2 | B12: 0001 | C12: Charge For Additional Chain Of Title | E12: 13.14.9.16 | H12: No
A13: 1, 2 | B13: 0002 | C13: Charge For Unusual Complexity | E13: 13.14.9.16 | H13: Yes
A14: 1 | B14: 0003 | C14: Abstract Retirement Credit | E14: 13.14.9.24 | H14: Yes
A15: 2 | B15: 0004 | C15: Loan Policy - Mechanic's Lien Coverage With Evidence of Priority | E15: 13.14.5.12 | F15: 106 | G15: 5300 | H15: No
A16: 2 | B16: 0005 | C16: Loan Policy - Mechanic's Lien Coverage Without Evidence of Priority | E16: 13.14.5.12 | H16: Yes
A17: 1 | B17: 0006 | C17: Owner's Policy - Mechanic's Lien Coverage - Filing Period Expired | E17: 13.14.5.12 | H17: No
A18: 1 | B18: 0007 | C18: Owner's Policy - Mechanic's Lien Coverage - Filing Period Not Expired | E18: 13.14.5.12 | H18: Yes
A19: 1 | B19: 0008 | C19: Survey Coverage - Owner Policy | E19: 13.14.5.1C | F19: 11 | G19: 550 | H19: Yes
A20: 22 | B20: 0009 | C20: Survey Coverage - Loan Policy | E20: 13.14.5.12C | F20: 95 | G20: 4750 | H20: No
A21: 1 | B21: 0010 | C21: Owner Pro Forma Policy | E21: 13.14.9.19C | H21: No
A22: 2 | B22: 0011 | C22: Loan Pro Forma Policy | E22: 13.14.9.19C | H22: No
A23: 1 | B23: 0012 | C23: Duplicate Original Policy | E23: None | H23: No
A24: none | B24: 0013 | C24: Cancellation Fee | E24: 13.14.9.19B | H24: No
A25: 1 | B25: 0101 | C25: Owner’s Policy | E25: 13.14.9.20 | H25: Yes
A26: 1 | B26: 0102 | C26: Owner’s Policy - With Bulk Rate | E26: 13.14.6.12 | F26: 114 | G26: 154365 | H26: Yes
A27: 1 | B27: 0103 | C27: Multiple Owners on Same Land - Simultaneous Issue | E27: 13.14.9.32 | H27: Yes
A28: 1, 2 | B28: 0104 | C28: Replacement Policy | E28: 13.14.9.26 | H28: Yes
A29: 1 | B29: 0105 | C29: Owner's Policy After Foreclosure | E29: 13.14.9.28 | H29: Yes
A30: 1 | B30: 0106 | C30: Owner's Policy - Terminated Foreclosure | E30: 13.14.9.28 | H30: Yes
A31: 1 | B31: 0110 | C31: Owner's Policy - Reissue (3 years or more since previous owner's policy was issued) | E31: 13.14.6.11 | H31: Yes
A32: 1 | B32: 0115 | C32: Owner's Policy - Reissue (2 years or more but less than 3 years since previous owner's policy was issued) | E32: 13.14.6.11 | H32: Yes
A33: 1 | B33: 0120 | C33: Owner's Policy - Reissue (More than 1 year but less than 2 years since previous owner's policy was issued) | E33: 13.14.6.11 | H33: Yes
A34: 1 | B34: 0125 | C34: Owner's Policy - Reissue (1 y ear or less since previous owner's policy was issued) | E34: 13.14.6.11 | H34: Yes
A35: 2 | B35: 0201 | C35: Loan Policy - Single Issue | E35: 13.14.9.22 | H35: Yes
A36: 2 | B36: 0202 | C36: Loan Policy - Simultaneous Issue with Owner's Policy | E36: 13.14.9.22 | F36: 106 | G36: 12537.84 | H36: No
A37: 2 | B37: 0203 | C37: Loan Policy - Second Mortgage or Subsequent Issue | E37: 13.14.9.36 | H37: Yes
A38: 2 | B38: 0204 | C38: Replacement Loan Policy | E38: 13.14.9.26 | H38: Yes
A39: 2 | B39: 0205 | C39: Loan Policy With Two-Year Claims Made Limitation | E39: 13.14.9.40A | H39: No
A40: 2 | B40: 0206 | C40: Extension of Loan Policy with Two-Year Claims Made Limitation | E40: 13.14.9.40B | H40: No
A41: 2 | B41: 0240 | C41: Loan Policy - Substitution Rate (within 3 years - 40%) | E41: 13.14.9.39 | H41: Yes
...

Sheet Westcor Land Title
A1: NEW MEXICO TITLE INSURANCE UNDERWRITER'S STATISTICAL REPORT
A2: FORM 3: TRANSACTION REPORT
