Workbook

Sheet Aggregation
B1: Exhibit IX
A2: FORM 4 OF THE NEW MEXICO TITLE INSURANCE UNDERWRITERS STATISTICAL REPORT
A3: Aggregated for all Underwriters
B4: For the Year Ended December 31, 2023
B7: Liability Range ($000) | E7: Direct
C8: But no | D8: Number of | E8: Premiums
B9: More than | C9: more than | D9: Transactions | E9: Written
B10: 0 | C10: 4.5 | D10: =ROUND(SUM('Agents National Title:WFG National Title Insurance Co'!D10),0) -> 2388 | E10: =ROUND(SUM('Agents National Title:WFG National Title Insurance Co'!E10),0) -> 2038158
B11: 4.5 | C11: 10 | D11: =ROUND(SUM('Agents National Title:WFG National Title Insurance Co'!D11),0) -> 564 | E11: =ROUND(SUM('Agents National Title:WFG National Title Insurance Co'!E11),0) -> 99303
B12: 10 | C12: 20 | D12: =ROUND(SUM('Agents National Title:WFG National Title Insurance Co'!D12),0) -> 1053 | E12: =ROUND(SUM('Agents National Title:WFG National Title Insurance Co'!E12),0) -> 232353
B13: 20 | C13: 30 | D13: =ROUND(SUM('Agents National Title:WFG National Title Insurance Co'!D13),0) -> 1143 | E13: =ROUND(SUM('Agents National Title:WFG National Title Insurance Co'!E13),0) -> 305351
B14: 30 | C14: 40 | D14: =ROUND(SUM('Agents National Title:WFG National Title Insurance Co'!D14),0) -> 1122 | E14: =ROUND(SUM('Agents National Title:WFG National Title Insurance Co'!E14),0) -> 360616
B15: 40 | C15: 50 | D15: =ROUND(SUM('Agents National Title:WFG National Title Insurance Co'!D15),0) -> 1162 | E15: =ROUND(SUM('Agents National Title:WFG National Title Insurance Co'!E15),0) -> 431360
B16: 50 | C16: 60 | D16: =ROUND(SUM('Agents National Title:WFG National Title Insurance Co'!D16),0) -> 1129 | E16: =ROUND(SUM('Agents National Title:WFG National Title Insurance Co'!E16),0) -> 450575
B17: 60 | C17: 70 | D17: =ROUND(SUM('Agents National Title:WFG National Title Insurance Co'!D17),0) -> 1063 | E17: =ROUND(SUM('Agents National Title:WFG National Title Insurance Co'!E17),0) -> 464652
B18: 70 | C18: 80 | D18: =ROUND(SUM('Agents National Title:WFG National Title Insurance Co'!D18),0) -> 1154 | E18: =ROUND(SUM('Agents National Title:WFG National Title Insurance Co'!E18),0) -> 544378
B19: 80 | C19: 90 | D19: =ROUND(SUM('Agents National Title:WFG National Title Insurance Co'!D19),0) -> 1138 | E19: =ROUND(SUM('Agents National Title:WFG National Title Insurance Co'!E19),0) -> 564045
B20: 90 | C20: 100 | D20: =ROUND(SUM('Agents National Title:WFG National Title Insurance Co'!D20),0) -> 1194 | E20: =ROUND(SUM('Agents National Title:WFG National Title Insurance Co'!E20),0) -> 619183
B21: 100 | C21: 200 | D21: =ROUND(SUM('Agents National Title:WFG National Title Insurance Co'!D21),0) -> 13863 | E21: =ROUND(SUM('Agents National Title:WFG National Title Insurance Co'!E21),0) -> 8976843
... B35: 75000 | C35: 100000 | D35: =ROUND(SUM('Agents National Title:WFG National Title Insurance Co'!D35),0) -> 100 | E35: =ROUND(SUM('Agents National Title:WFG National Title Insurance Co'!E35),0) -> 3643876
B36: Over 100,000 | D36: =ROUND(SUM('Agents National Title:WFG National Title Insurance Co'!D36),0) -> 603 | E36: =ROUND(SUM('Agents National Title:WFG National Title Insurance Co'!E36),0) -> 20592797
B37: All | D37: =SUM(D10:D36) -> 67508 | E37: =SUM(E10:E36) -> 110501874

Sheet Agents National Title
A1: NEW MEXICO TITLE INSURANCE UNDERWRITERS STATISTICAL REPORT
A2: FORM 4: PREMIUM DISTRIBUTION BY LIABILITY RANGE
A3: For Calendar Year Ending December 31, 2023
A4: NEW MEXICO EXPERIENCE ONLY
C5: Insurance Company: | D5: Agents National Title Insurance Company
D6: Transactions that are Dependent on the Basic Premium Rate
B7: Liability Range ($000) | E7: Direct
C8: But no | D8: Number of | E8: Premiums
B9: More than | C9: more than | D9: Transactions | E9: Written
B10: 0 | C10: 4.5 | D10: 0 | E10: 0
B11: 4.5 | C11: 10 | D11: 0 | E11: 0
B12: 10 | C12: 20 | D12: 0 | E12: 0
B13: 20 | C13: 30 | D13: 0 | E13: 0
B14: 30 | C14: 40 | D14: 0 | E14: 0
B15: 40 | C15: 50 | D15: 1 | E15: 367
B16: 50 | C16: 60 | D16: 0 | E16: 0
B17: 60 | C17: 70 | D17: 0 | E17: 0
B18: 70 | C18: 80 | D18: 3 | E18: 1805
B19: 80 | C19: 90 | D19: 0 | E19: 0
B20: 90 | C20: 100 | D20: 0 | E20: 0
B21: 100 | C21: 200 | D21: 18 | E21: 18184
... B35: 75000 | C35: 100000 | D35: 0 | E35: 0
B36: Over 100,000 | D36: 0 | E36: 0
B37: All | D37: =SUM(D10:D36) -> 65 | E37: =SUM(E10:E36) -> 100180
C39: Crosscheck with Form 3: | D39: 65 | E39: 100180
C40: Difference: | D40: =D37-D39 -> 0 | E40: =E37-E39 -> 0
A41: Explanation for Difference (if any):
A44: Note: Include all transactions listed as "Yes" in the "Dependent on Basic Premium Rate" column of Form 3.

Sheet Alamo Title Insurance
A1: NEW MEXICO TITLE INSURANCE UNDERWRITERS STATISTICAL REPORT
A2: FORM 4: PREMIUM DISTRIBUTION BY LIABILITY RANGE
A3: For Calendar Year Ending December 31, 2023
A4: NEW MEXICO EXPERIENCE ONLY
C5: Insurance Company: | D5: Alamo Title Insurance
D6: Transactions that are Dependent on the Basic Premium Rate
B7: Liability Range ($000) | E7: Direct
C8: But no | D8: Number of | E8: Premiums
B9: More than | C9: more than | D9: Transactions | E9: Written
B10: 0 | C10: 4.5 | D10: 0 | E10: 0
B11: 4.5 | C11: 10 | D11: 0 | E11: 0
B12: 10 | C12: 20 | D12: 0 | E12: 0
B13: 20 | C13: 30 | D13: 0 | E13: 0
B14: 30 | C14: 40 | D14: 0 | E14: 0
B15: 40 | C15: 50 | D15: 0 | E15: 0
B16: 50 | C16: 60 | D16: 0 | E16: 0
B17: 60 | C17: 70 | D17: 0 | E17: 0
B18: 70 | C18: 80 | D18: 0 | E18: 0
B19: 80 | C19: 90 | D19: 0 | E19: 0
B20: 90 | C20: 100 | D20: 0 | E20: 0
B21: 100 | C21: 200 | D21: 0 | E21: 0
... B35: 75000 | C35: 100000 | D35: 0 | E35: 0
B36: Over 100,000 | D36: 0 | E36: 0
B37: All | D37: =SUM(D10:D36) -> 0 | E37: =SUM(E10:E36) -> 0
C39: Crosscheck with Form 3: | D39: 0 | E39: 0
C40: Difference: | D40: =D37-D39 -> 0 | E40: =E37-E39 -> 0
A41: Explanation for Difference (if any):
A44: Note: Include all transactions listed as "Yes" in the "Dependent on Basic Premium Rate" column of Form 3.

Sheet Alliant National Title Ins Co
A1: NEW MEXICO TITLE INSURANCE UNDERWRITERS STATISTICAL REPORT
A2: FORM 4: PREMIUM DISTRIBUTION BY LIABILITY RANGE
A3: For Calendar Year Ending December 31, 2023
A4: NEW MEXICO EXPERIENCE ONLY
C5: Insurance Company: | D5: Alliant National Title Insurance Company, Inc.
D6: Transactions that are Dependent on the Basic Premium Rate
B7: Liability Range ($000) | E7: Direct
C8: But no | D8: Number of | E8: Premiums
B9: More than | C9: more than | D9: Transactions | E9: Written
B10: 0 | C10: 4.5 | D10: 16 | E10: 3672
B11: 4.5 | C11: 10 | D11: 20 | E11: 3189
B12: 10 | C12: 20 | D12: 44 | E12: 8572
B13: 20 | C13: 30 | D13: 61 | E13: 15980
B14: 30 | C14: 40 | D14: 62 | E14: 19147
B15: 40 | C15: 50 | D15: 60 | E15: 22428
B16: 50 | C16: 60 | D16: 71 | E16: 23949
B17: 60 | C17: 70 | D17: 51 | E17: 22488
B18: 70 | C18: 80 | D18: 48 | E18: 23497
B19: 80 | C19: 90 | D19: 42 | E19: 21919
B20: 90 | C20: 100 | D20: 37 | E20: 17257
B21: 100 | C21: 200 | D21: 392 | E21: 261642
... B35: 75000 | C35: 100000 | D35: 0 | E35: 0
B36: Over 100,000 | D36: 0 | E36: 0
B37: All | D37: =SUM(D10:D36) -> 2171 | E37: =SUM(E10:E36) -> 2257282.2
C39: Crosscheck with Form 3: | D39: 2171 | E39: 2257282
C40: Difference: | D40: =D37-D39 -> 0 | E40: =E37-E39 -> 0.2
A41: Explanation for Difference (if any):
A42: N/A - No differences
A44: Note: Include all transactions listed as "Yes" in the "Dependent on Basic Premium Rate" column of Form 3.

Sheet American Digital Title Ins Co
A1: NEW MEXICO TITLE INSURANCE UNDERWRITERS STATISTICAL REPORT
A2: FORM 4: PREMIUM DISTRIBUTION BY LIABILITY RANGE
A3: For Calendar Year Ending December 31, 2023
A4: NEW MEXICO EXPERIENCE ONLY
C5: Insurance Company: | D5: American Digital Title Insurance Company
D6: Transactions that are Dependent on the Basic Premium Rate
B7: Liability Range ($000) | E7: Direct
C8: But no | D8: Number of | E8: Premiums
B9: More than | C9: more than | D9: Transactions | E9: Written
B10: 0 | C10: 4.5 | D10: 0 | E10: 0
B11: 4.5 | C11: 10 | D11: 0 | E11: 0
B12: 10 | C12: 20 | D12: 0 | E12: 0
B13: 20 | C13: 30 | D13: 0 | E13: 0
B14: 30 | C14: 40 | D14: 0 | E14: 0
B15: 40 | C15: 50 | D15: 0 | E15: 0
B16: 50 | C16: 60 | D16: 0 | E16: 0
B17: 60 | C17: 70 | D17: 0 | E17: 0
B18: 70 | C18: 80 | D18: 0 | E18: 0
B19: 80 | C19: 90 | D19: 0 | E19: 0
B20: 90 | C20: 100 | D20: 0 | E20: 0
B21: 100 | C21: 200 | D21: 0 | E21: 0
... B35: 75000 | C35: 100000 | D35: 0 | E35: 0
B36: Over 100,000 | D36: 0 | E36: 0
B37: All | D37: =SUM(D10:D36) -> 0 | E37: =SUM(E10:E36) -> 0
C39: Crosscheck with Form 3: | D39: 0 | E39: 0
C40: Difference: | D40: =D37-D39 -> 0 | E40: =E37-E39 -> 0
A41: Explanation for Difference (if any):
A44: Note: Include all transactions listed as "Yes" in the "Dependent on Basic Premium Rate" column of Form 3.

Sheet AmTrust Title Insurance Co
A1: NEW MEXICO TITLE INSURANCE UNDERWRITERS STATISTICAL REPORT
A2: FORM 4: PREMIUM DISTRIBUTION BY LIABILITY RANGE
A3: For Calendar Year Ending December 31, 2023
A4: NEW MEXICO EXPERIENCE ONLY
C5: Insurance Company: | D5: AmTrust Title Insurance Company
D6: Transactions that are Dependent on the Basic Premium Rate
B7: Liability Range ($000) | E7: Direct
C8: But no | D8: Number of | E8: Premiums
B9: More than | C9: more than | D9: Transactions | E9: Written
B10: 0 | C10: 4.5 | D10: 0 | E10: 0
B11: 4.5 | C11: 10 | D11: 0 | E11: 0
B12: 10 | C12: 20 | D12: 0 | E12: 0
B13: 20 | C13: 30 | D13: 0 | E13: 0
B14: 30 | C14: 40 | D14: 0 | E14: 0
B15: 40 | C15: 50 | D15: 0 | E15: 0
B16: 50 | C16: 60 | D16: 0 | E16: 0
B17: 60 | C17: 70 | D17: 0 | E17: 0
B18: 70 | C18: 80 | D18: 0 | E18: 0
B19: 80 | C19: 90 | D19: 0 | E19: 0
B20: 90 | C20: 100 | D20: 0 | E20: 0
B21: 100 | C21: 200 | D21: 1 | E21: 963
... B35: 75000 | C35: 100000 | D35: 0 | E35: 0
B36: Over 100,000 | D36: 69 | E36: 13320267
B37: All | D37: =SUM(D10:D36) -> 92 | E37: =SUM(E10:E36) -> 13416891
C39: Crosscheck with Form 3: | D39: 92 | E39: 13416891
C40: Difference: | D40: =D37-D39 -> 0 | E40: =E37-E39 -> 0
A41: Explanation for Difference (if any):
A44: Note: Include all transactions listed as "Yes" in the "Dependent on Basic Premium Rate" column of Form 3.

Sheet Chicago Title Insurance Co
A1: NEW MEXICO TITLE INSURANCE UNDERWRITERS STATISTICAL REPORT
A2: FORM 4: PREMIUM DISTRIBUTION BY LIABILITY RANGE
A3: For Calendar Year Ending December 31, 2023
A4: NEW MEXICO EXPERIENCE ONLY
C5: Insurance Company: | D5: Chicago Title Insurance Company
D6: Transactions that are Dependent on the Basic Premium Rate
B7: Liability Range ($000) | E7: Direct
C8: But no | D8: Number of | E8: Premiums
B9: More than | C9: more than | D9: Transactions | E9: Written
B10: 0 | C10: 4.5 | D10: 25 | E10: 5080
B11: 4.5 | C11: 10 | D11: 19 | E11: 3071
B12: 10 | C12: 20 | D12: 59 | E12: 11854
B13: 20 | C13: 30 | D13: 72 | E13: 19484
B14: 30 | C14: 40 | D14: 66 | E14: 22088
B15: 40 | C15: 50 | D15: 91 | E15: 34284
B16: 50 | C16: 60 | D16: 78 | E16: 29812
B17: 60 | C17: 70 | D17: 82 | E17: 33727
B18: 70 | C18: 80 | D18: 76 | E18: 29535
B19: 80 | C19: 90 | D19: 77 | E19: 38729
B20: 90 | C20: 100 | D20: 96 | E20: 45912
B21: 100 | C21: 200 | D21: 1197 | E21: 674431
... B35: 75000 | C35: 100000 | D35: 23 | E35: 683449
B36: Over 100,000 | D36: 54 | E36: 2764106
B37: All | D37: =SUM(D10:D36) -> 4270 | E37: =SUM(E10:E36) -> 8770523
C39: Crosscheck with Form 3: | D39: 4270 | E39: 8770523
C40: Difference: | D40: =D37-D39 -> 0 | E40: =E37-E39 -> 0
A41: Explanation for Difference (if any):
A44: Note: Include all transactions listed as "Yes" in the "Dependent on Basic Premium Rate" column of Form 3.

Sheet Commonwealth Land Title Ins Co
A1: NEW MEXICO TITLE INSURANCE UNDERWRITERS STATISTICAL REPORT
A2: FORM 4: PREMIUM DISTRIBUTION BY LIABILITY RANGE
A3: For Calendar Year Ending December 31, 2023
A4: NEW MEXICO EXPERIENCE ONLY
C5: Insurance Company: | D5: Commonwealth Land Title Insurance Company
D6: Transactions that are Dependent on the Basic Premium Rate
B7: Liability Range ($000) | E7: Direct
C8: But no | D8: Number of | E8: Premiums
B9: More than | C9: more than | D9: Transactions | E9: Written
B10: 0 | C10: 4.5 | D10: 9 | E10: 870
B11: 4.5 | C11: 10 | D11: 14 | E11: 2229
B12: 10 | C12: 20 | D12: 31 | E12: 6364
B13: 20 | C13: 30 | D13: 44 | E13: 11230
B14: 30 | C14: 40 | D14: 46 | E14: 13964
B15: 40 | C15: 50 | D15: 37 | E15: 14013
B16: 50 | C16: 60 | D16: 42 | E16: 15429
B17: 60 | C17: 70 | D17: 52 | E17: 21087
B18: 70 | C18: 80 | D18: 48 | E18: 21351
B19: 80 | C19: 90 | D19: 43 | E19: 19246
B20: 90 | C20: 100 | D20: 35 | E20: 15205
B21: 100 | C21: 200 | D21: 464 | E21: 252742
... B35: 75000 | C35: 100000 | D35: 31 | E35: 995187
B36: Over 100,000 | D36: 23 | E36: 910292
B37: All | D37: =SUM(D10:D36) -> 1944 | E37: =SUM(E10:E36) -> 4707394
C39: Crosscheck with Form 3: | D39: 1944 | E39: 4707394
C40: Difference: | D40: =D37-D39 -> 0 | E40: =E37-E39 -> 0
A41: Explanation for Difference (if any):
A44: Note: Include all transactions listed as "Yes" in the "Dependent on Basic Premium Rate" column of Form 3.

Sheet DHI Title Insurance Company
A1: NEW MEXICO TITLE INSURANCE UNDERWRITERS STATISTICAL REPORT
A2: FORM 4: PREMIUM DISTRIBUTION BY LIABILITY RANGE
A3: For Calendar Year Ending December 31, 2023
A4: NEW MEXICO EXPERIENCE ONLY
C5: Insurance Company: | D5: DHI Title Insurance Company
D6: Transactions that are Dependent on the Basic Premium Rate
B7: Liability Range ($000) | E7: Direct
C8: But no | D8: Number of | E8: Premiums
B9: More than | C9: more than | D9: Transactions | E9: Written
B10: 0 | C10: 4.5 | D10: 0 | E10: 0
B11: 4.5 | C11: 10 | D11: 0 | E11: 0
B12: 10 | C12: 20 | D12: 0 | E12: 0
B13: 20 | C13: 30 | D13: 0 | E13: 0
B14: 30 | C14: 40 | D14: 0 | E14: 0
B15: 40 | C15: 50 | D15: 0 | E15: 0
B16: 50 | C16: 60 | D16: 0 | E16: 0
B17: 60 | C17: 70 | D17: 0 | E17: 0
B18: 70 | C18: 80 | D18: 0 | E18: 0
B19: 80 | C19: 90 | D19: 0 | E19: 0
B20: 90 | C20: 100 | D20: 0 | E20: 0
B21: 100 | C21: 200 | D21: 0 | E21: 0
... B35: 75000 | C35: 100000 | D35: 0 | E35: 0
B36: Over 100,000 | D36: 402 | E36: 297595
B37: All | D37: =SUM(D10:D36) -> 402 | E37: =SUM(E10:E36) -> 297595
C39: Crosscheck with Form 3: | D39: 402 | E39: 297595
C40: Difference: | D40: =D37-D39 -> 0 | E40: =E37-E39 -> 0
A41: Explanation for Difference (if any):
A42: NA
A44: Note: Include all transactions listed as "Yes" in the "Dependent on Basic Premium Rate" column of Form 3.

Sheet Doma Title Insurance Inc
A1: NEW MEXICO TITLE INSURANCE UNDERWRITERS STATISTICAL REPORT
A2: FORM 4: PREMIUM DISTRIBUTION BY LIABILITY RANGE
A3: For Calendar Year Ending December 31, 2023
A4: NEW MEXICO EXPERIENCE ONLY
C5: Insurance Company: | D5: Doma Title Insurance, Inc.
D6: Transactions that are Dependent on the Basic Premium Rate
B7: Liability Range ($000) | E7: Direct
C8: But no | D8: Number of | E8: Premiums
B9: More than | C9: more than | D9: Transactions | E9: Written
B10: 0 | C10: 4.5 | D10: 0 | E10: 0
B11: 4.5 | C11: 10 | D11: 0 | E11: 0
B12: 10 | C12: 20 | D12: 0 | E12: 0
B13: 20 | C13: 30 | D13: 0 | E13: 0
B14: 30 | C14: 40 | D14: 0 | E14: 0
B15: 40 | C15: 50 | D15: 0 | E15: 0
B16: 50 | C16: 60 | D16: 0 | E16: 0
B17: 60 | C17: 70 | D17: 0 | E17: 0
B18: 70 | C18: 80 | D18: 0 | E18: 0
B19: 80 | C19: 90 | D19: 0 | E19: 0
B20: 90 | C20: 100 | D20: 0 | E20: 0
B21: 100 | C21: 200 | D21: 0 | E21: 0
... B35: 75000 | C35: 100000 | D35: 0 | E35: 0
B36: Over 100,000 | D36: 0 | E36: 0
B37: All | D37: =SUM(D10:D36) -> 0 | E37: =SUM(E10:E36) -> 0
C39: Crosscheck with Form 3: | D39: 0 | E39: 0
C40: Difference: | D40: =D37-D39 -> 0 | E40: =E37-E39 -> 0
A41: Explanation for Difference (if any):
A44: Note: Include all transactions listed as "Yes" in the "Dependent on Basic Premium Rate" column of Form 3.

Sheet Fidelity National Title Ins Co
A1: NEW MEXICO TITLE INSURANCE UNDERWRITERS STATISTICAL REPORT
A2: FORM 4: PREMIUM DISTRIBUTION BY LIABILITY RANGE
A3: For Calendar Year Ending December 31, 2023
A4: NEW MEXICO EXPERIENCE ONLY
C5: Insurance Company: | D5: Fidelity National Title Insurance Company
D6: Transactions that are Dependent on the Basic Premium Rate
B7: Liability Range ($000) | E7: Direct
C8: But no | D8: Number of | E8: Premiums
B9: More than | C9: more than | D9: Transactions | E9: Written
B10: 0 | C10: 4.5 | D10: 95 | E10: 17640
B11: 4.5 | C11: 10 | D11: 107 | E11: 17010
B12: 10 | C12: 20 | D12: 234 | E12: 46346
B13: 20 | C13: 30 | D13: 275 | E13: 71219
B14: 30 | C14: 40 | D14: 260 | E14: 79206
B15: 40 | C15: 50 | D15: 297 | E15: 101945
B16: 50 | C16: 60 | D16: 300 | E16: 111941
B17: 60 | C17: 70 | D17: 269 | E17: 108234
B18: 70 | C18: 80 | D18: 337 | E18: 140750
B19: 80 | C19: 90 | D19: 320 | E19: 141475
B20: 90 | C20: 100 | D20: 378 | E20: 160258
B21: 100 | C21: 200 | D21: 4534 | E21: 2278055
... B35: 75000 | C35: 100000 | D35: 32 | E35: 969992
B36: Over 100,000 | D36: 55 | E36: 3300537
B37: All | D37: =SUM(D10:D36) -> 22635 | E37: =SUM(E10:E36) -> 26350267
C39: Crosscheck with Form 3: | D39: 22635 | E39: 26350267
C40: Difference: | D40: =D37-D39 -> 0 | E40: =E37-E39 -> 0
A41: Explanation for Difference (if any):
A44: Note: Include all transactions listed as "Yes" in the "Dependent on Basic Premium Rate" column of Form 3.

Sheet First American Title Ins Co
A1: NEW MEXICO TITLE INSURANCE UNDERWRITERS STATISTICAL REPORT
A2: FORM 4: PREMIUM DISTRIBUTION BY LIABILITY RANGE
A3: For Calendar Year Ending December 31, 2023
A4: NEW MEXICO EXPERIENCE ONLY
C5: Insurance Company: | D5: First American Title Insurance Company
D6: Transactions that are Dependent on the Basic Premium Rate
B7: Liability Range ($000) | E7: Direct
C8: But no | D8: Number of | E8: Premiums
B9: More than | C9: more than | D9: Transactions | E9: Written
B10: 0 | C10: 4.5 | D10: 134 | E10: 22338
B11: 4.5 | C11: 10 | D11: 149 | E11: 24712
B12: 10 | C12: 20 | D12: 307 | E12: 81314
B13: 20 | C13: 30 | D13: 321 | E13: 85257
B14: 30 | C14: 40 | D14: 322 | E14: 105133.45
B15: 40 | C15: 50 | D15: 328 | E15: 123788
B16: 50 | C16: 60 | D16: 309 | E16: 128299
B17: 60 | C17: 70 | D17: 308 | E17: 137883
B18: 70 | C18: 80 | D18: 289 | E18: 144155.4
B19: 80 | C19: 90 | D19: 313 | E19: 154755.36
B20: 90 | C20: 100 | D20: 281 | E20: 154700.15
B21: 100 | C21: 200 | D21: 2848 | E21: 2159808.1
... B35: 75000 | C35: 100000 | D35: 14 | E35: 995247.93
B36: Over 100,000
B37: All | D37: =SUM(D10:D36) -> 14778 | E37: =SUM(E10:E36) -> 24171221
C39: Crosscheck with Form 3: | D39: 14778 | E39: 24171221
C40: Difference: | D40: =D37-D39 -> 0 | E40: =E37-E39 -> -0.32
A41: Explanation for Difference (if any):
A44: Note: Include all transactions listed as "Yes" in the "Dependent on Basic Premium Rate" column of Form 3.

Sheet First National Title Ins Co
A1: NEW MEXICO TITLE INSURANCE UNDERWRITERS STATISTICAL REPORT
A2: FORM 4: PREMIUM DISTRIBUTION BY LIABILITY RANGE
A3: For Calendar Year Ending December 31, 2023
A4: NEW MEXICO EXPERIENCE ONLY
C5: Insurance Company: | D5: First National Title Insursance Company
D6: Transactions that are Dependent on the Basic Premium Rate
B7: Liability Range ($000) | E7: Direct
C8: But no | D8: Number of | E8: Premiums
B9: More than | C9: more than | D9: Transactions | E9: Written
B10: 0 | C10: 4.5 | D10: 4 | E10: 684
B11: 4.5 | C11: 10 | D11: 18 | E11: 2474
B12: 10 | C12: 20 | D12: 22 | E12: 4697
B13: 20 | C13: 30 | D13: 12 | E13: 2882
B14: 30 | C14: 40 | D14: 20 | E14: 6217
B15: 40 | C15: 50 | D15: 14 | E15: 5391
B16: 50 | C16: 60 | D16: 15 | E16: 7526
B17: 60 | C17: 70 | D17: 14 | E17: 6388
B18: 70 | C18: 80 | D18: 11 | E18: 6641.5
B19: 80 | C19: 90 | D19: 24 | E19: 13069
B20: 90 | C20: 100 | D20: 18 | E20: 18021
B21: 100 | C21: 200 | D21: 209 | E21: 174055
... B35: 75000 | C35: 100000 | D35: 0 | E35: 0
B36: Over 100,000 | D36: 0 | E36: 0
B37: All | D37: =SUM(D10:D36) -> 1401 | E37: =SUM(E10:E36) -> 2488657.3
C39: Crosscheck with Form 3: | D39: 1401 | E39: 2488657.3
C40: Difference: | D40: =D37-D39 -> 0 | E40: =E37-E39 -> 0
A41: Explanation for Difference (if any):
A44: Note: Include all transactions listed as "Yes" in the "Dependent on Basic Premium Rate" column of Form 3.

Sheet Investors Title Insurance Co
A1: NEW MEXICO TITLE INSURANCE UNDERWRITERS STATISTICAL REPORT
A2: FORM 4: PREMIUM DISTRIBUTION BY LIABILITY RANGE
A3: For Calendar Year Ending December 31, 2023
A4: NEW MEXICO EXPERIENCE ONLY
C5: Insurance Company: | D5: Investors Title Insurance Company
D6: Transactions that are Dependent on the Basic Premium Rate
B7: Liability Range ($000) | E7: Direct
C8: But no | D8: Number of | E8: Premiums
B9: More than | C9: more than | D9: Transactions | E9: Written
B10: 0 | C10: 4.5 | D10: 0 | E10: 0
B11: 4.5 | C11: 10 | D11: 0 | E11: 0
B12: 10 | C12: 20 | D12: 0 | E12: 0
B13: 20 | C13: 30 | D13: 0 | E13: 0
B14: 30 | C14: 40 | D14: 0 | E14: 0
B15: 40 | C15: 50 | D15: 0 | E15: 0
B16: 50 | C16: 60 | D16: 0 | E16: 0
B17: 60 | C17: 70 | D17: 0 | E17: 0
B18: 70 | C18: 80 | D18: 0 | E18: 0
B19: 80 | C19: 90 | D19: 0 | E19: 0
B20: 90 | C20: 100 | D20: 0 | E20: 0
B21: 100 | C21: 200 | D21: 0 | E21: 0
... B35: 75000 | C35: 100000 | D35: 0 | E35: 0
B36: Over 100,000 | D36: 0 | E36: 0
B37: All | D37: =SUM(D10:D36) -> 0 | E37: =SUM(E10:E36) -> 0
C39: Crosscheck with Form 3: | D39: 0 | E39: 0
C40: Difference: | D40: =D37-D39 -> 0 | E40: =E37-E39 -> 0
A41: Explanation for Difference (if any):
A44: Note: Include all transactions listed as "Yes" in the "Dependent on Basic Premium Rate" column of Form 3.

Sheet National Title Insurance of NY
A1: NEW MEXICO TITLE INSURANCE UNDERWRITERS STATISTICAL REPORT
A2: FORM 4: PREMIUM DISTRIBUTION BY LIABILITY RANGE
A3: For Calendar Year Ending December 31, 2023
A4: NEW MEXICO EXPERIENCE ONLY
C5: Insurance Company: | D5: National Title Insurance of New York Inc.
D6: Transactions that are Dependent on the Basic Premium Rate
B7: Liability Range ($000) | E7: Direct
C8: But no | D8: Number of | E8: Premiums
B9: More than | C9: more than | D9: Transactions | E9: Written
B10: 0 | C10: 4.5 | D10: 0 | E10: 0
B11: 4.5 | C11: 10 | D11: 0 | E11: 0
B12: 10 | C12: 20 | D12: 0 | E12: 0
B13: 20 | C13: 30 | D13: 0 | E13: 0
B14: 30 | C14: 40 | D14: 0 | E14: 0
B15: 40 | C15: 50 | D15: 0 | E15: 0
B16: 50 | C16: 60 | D16: 0 | E16: 0
B17: 60 | C17: 70 | D17: 0 | E17: 0
B18: 70 | C18: 80 | D18: 0 | E18: 0
B19: 80 | C19: 90 | D19: 0 | E19: 0
B20: 90 | C20: 100 | D20: 0 | E20: 0
B21: 100 | C21: 200 | D21: 0 | E21: 0
... B35: 75000 | C35: 100000 | D35: 0 | E35: 0
B36: Over 100,000 | D36: 0 | E36: 0
B37: All | D37: =SUM(D10:D36) -> 0 | E37: =SUM(E10:E36) -> 0
C39: Crosscheck with Form 3: | D39: 0 | E39: 0
C40: Difference: | D40: =D37-D39 -> 0 | E40: =E37-E39 -> 0
A41: Explanation for Difference (if any):
A44: Note: Include all transactions listed as "Yes" in the "Dependent on Basic Premium Rate" column of Form 3.

Sheet Old Republic National Title Ins
A1: NEW MEXICO TITLE INSURANCE UNDERWRITERS STATISTICAL REPORT
A2: FORM 4: PREMIUM DISTRIBUTION BY LIABILITY RANGE
A3: For Calendar Year Ending December 31, 2023
A4: NEW MEXICO EXPERIENCE ONLY
C5: Insurance Company: | D5: Old Republic National Title Insurance Company
D6: Transactions that are Dependent on the Basic Premium Rate
B7: Liability Range ($000) | E7: Direct
C8: But no | D8: Number of | E8: Premiums
B9: More than | C9: more than | D9: Transactions | E9: Written
B10: 0 | C10: 4.5 | D10: 213 | E10: 112101
B11: 4.5 | C11: 10 | D11: 96 | E11: 15320
B12: 10 | C12: 20 | D12: 167 | E12: 33622
B13: 20 | C13: 30 | D13: 150 | E13: 39921
B14: 30 | C14: 40 | D14: 138 | E14: 45655
B15: 40 | C15: 50 | D15: 150 | E15: 56316
B16: 50 | C16: 60 | D16: 160 | E16: 63958
B17: 60 | C17: 70 | D17: 142 | E17: 65412
B18: 70 | C18: 80 | D18: 172 | E18: 84635
B19: 80 | C19: 90 | D19: 150 | E19: 79622
B20: 90 | C20: 100 | D20: 157 | E20: 92164
B21: 100 | C21: 200 | D21: 1561 | E21: 1172415
... B35: 75000 | C35: 100000 | D35: 0 | E35: 0
B36: Over 100,000 | D36: 0 | E36: 0
B37: All | D37: =SUM(D10:D36) -> 8150 | E37: =SUM(E10:E36) -> 11918919
C39: Crosscheck with Form 3: | D39: 8150 | E39: 11918919
C40: Difference: | D40: =D37-D39 -> 0 | E40: =E37-E39 -> 0
A41: Explanation for Difference (if any):
A44: Note: Include all transactions listed as "Yes" in the "Dependent on Basic Premium Rate" column of Form 3.

Sheet Premier Land Title Insurance Co
A1: NEW MEXICO TITLE INSURANCE UNDERWRITERS STATISTICAL REPORT
A2: FORM 4: PREMIUM DISTRIBUTION BY LIABILITY RANGE
A3: For Calendar Year Ending December 31, 2023
A4: NEW MEXICO EXPERIENCE ONLY
C5: Insurance Company: | D5: Premier Land Title Insurance Company
D6: Transactions that are Dependent on the Basic Premium Rate
B7: Liability Range ($000) | E7: Direct
C8: But no | D8: Number of | E8: Premiums
B9: More than | C9: more than | D9: Transactions | E9: Written
B10: 0 | C10: 4.5 | D10: 0 | E10: 0
B11: 4.5 | C11: 10 | D11: 5 | E11: 8667
B12: 10 | C12: 20 | D12: 1 | E12: 218
B13: 20 | C13: 30 | D13: 0 | E13: 0
B14: 30 | C14: 40 | D14: 0 | E14: 0
B15: 40 | C15: 50 | D15: 0 | E15: 0
B16: 50 | C16: 60 | D16: 0 | E16: 0
B17: 60 | C17: 70 | D17: 0 | E17: 0
B18: 70 | C18: 80 | D18: 0 | E18: 0
B19: 80 | C19: 90 | D19: 0 | E19: 0
B20: 90 | C20: 100 | D20: 0 | E20: 0
B21: 100 | C21: 200 | D21: 0 | E21: 0
... B35: 75000 | C35: 100000 | D35: 0 | E35: 0
B36: Over 100,000 | D36: 0 | E36: 0
B37: All | D37: =SUM(D10:D36) -> 411 | E37: =SUM(E10:E36) -> 773027
C39: Crosscheck with Form 3: | D39: 411 | E39: 773027
C40: Difference: | D40: =D37-D39 -> 0 | E40: =E37-E39 -> 0
A41: Explanation for Difference (if any):
A44: Note: Include all transactions listed as "Yes" in the "Dependent on Basic Premium Rate" column of Form 3.

Sheet Radian Title Insurance Inc
A1: NEW MEXICO TITLE INSURANCE UNDERWRITERS STATISTICAL REPORT
A2: FORM 4: PREMIUM DISTRIBUTION BY LIABILITY RANGE
A3: For Calendar Year Ending December 31, 2023
A4: NEW MEXICO EXPERIENCE ONLY
C5: Insurance Company: | D5: Radian Title Insurance Inc.
D6: Transactions that are Dependent on the Basic Premium Rate
B7: Liability Range ($000) | E7: Direct
C8: But no | D8: Number of | E8: Premiums
B9: More than | C9: more than | D9: Transactions | E9: Written
B10: 0 | C10: 4.5 | D10: 0 | E10: 0
B11: 4.5 | C11: 10 | D11: 0 | E11: 0
B12: 10 | C12: 20 | D12: 0 | E12: 0
B13: 20 | C13: 30 | D13: 0 | E13: 0
B14: 30 | C14: 40 | D14: 0 | E14: 0
B15: 40 | C15: 50 | D15: 0 | E15: 0
B16: 50 | C16: 60 | D16: 0 | E16: 0
B17: 60 | C17: 70 | D17: 0 | E17: 0
B18: 70 | C18: 80 | D18: 0 | E18: 0
B19: 80 | C19: 90 | D19: 0 | E19: 0
B20: 90 | C20: 100 | D20: 0 | E20: 0
B21: 100 | C21: 200 | D21: 0 | E21: 0
... B35: 75000 | C35: 100000 | D35: 0 | E35: 0
B36: Over 100,000 | D36: 0 | E36: 0
B37: All | D37: =SUM(D10:D36) -> 0 | E37: =SUM(E10:E36) -> 0
C39: Crosscheck with Form 3: | D39: 0 | E39: 0
C40: Difference: | D40: =D37-D39 -> 0 | E40: =E37-E39 -> 0
A41: Explanation for Difference (if any):
A44: Note: Include all transactions listed as "Yes" in the "Dependent on Basic Premium Rate" column of Form 3.

Sheet Stewart Title Guaranty Company
A1: NEW MEXICO TITLE INSURANCE UNDERWRITERS STATISTICAL REPORT
A2: FORM 4: PREMIUM DISTRIBUTION BY LIABILITY RANGE
A3: For Calendar Year Ending December 31, 2023
A4: NEW MEXICO EXPERIENCE ONLY
C5: Insurance Company: | D5: Stewart Title Guaranty Company
D6: Transactions that are Dependent on the Basic Premium Rate
B7: Liability Range ($000) | E7: Direct
C8: But no | D8: Number of | E8: Premiums
B9: More than | C9: more than | D9: Transactions | E9: Written
B10: 0 | C10: 4.5 | D10: =54+1794 -> 1848 | E10: =9358+1859128 -> 1868486
B11: 4.5 | C11: 10 | D11: 97 | E11: 16166
B12: 10 | C12: 20 | D12: 106 | E12: 22124
B13: 20 | C13: 30 | D13: 120 | E13: 34538
B14: 30 | C14: 40 | D14: 117 | E14: 38018
B15: 40 | C15: 50 | D15: 120 | E15: 46628.6
B16: 50 | C16: 60 | D16: 79 | E16: 35483.14
B17: 60 | C17: 70 | D17: 84 | E17: 39415.41
B18: 70 | C18: 80 | D18: 104 | E18: 55317.44
B19: 80 | C19: 90 | D19: 110 | E19: 59565.03
B20: 90 | C20: 100 | D20: 123 | E20: 72127.37
B21: 100 | C21: 200 | D21: 2070 | E21: 1503322.8
B22: 200 | C22: 300 | D22: 1794 | E22: 1741228.7
... B35: 75000 | C35: 100000 | D35: 0 | E35: 0
B36: Over 100,000 | D36: 0 | E36: 0
B37: All | D37: =SUM(D10:D36) -> 8684 | E37: =SUM(E10:E36) -> 12045987
C39: Crosscheck with Form 3: | D39: 8684 | E39: 12045987
C40: Difference: | D40: =D37-D39 -> 0 | E40: =E37-E39 -> 0.3
A41: Explanation for Difference (if any):
A44: Note: Include all transactions listed as "Yes" in the "Dependent on Basic Premium Rate" column of Form 3.

Sheet Title Resources Guaranty Co
A1: NEW MEXICO TITLE INSURANCE UNDERWRITERS STATISTICAL REPORT
A2: FORM 4: PREMIUM DISTRIBUTION BY LIABILITY RANGE
A3: For Calendar Year Ending December 31, 2023
A4: NEW MEXICO EXPERIENCE ONLY
C5: Insurance Company: | D5: Title Resources Guaranty Company
D6: Transactions that are Dependent on the Basic Premium Rate
B7: Liability Range ($000) | E7: Direct
C8: But no | D8: Number of | E8: Premiums
B9: More than | C9: more than | D9: Transactions | E9: Written
B10: 0 | C10: 4.5 | D10: 0 | E10: 0
B11: 4.5 | C11: 10 | D11: 0 | E11: 0
B12: 10 | C12: 20 | D12: 0 | E12: 0
B13: 20 | C13: 30 | D13: 0 | E13: 0
B14: 30 | C14: 40 | D14: 0 | E14: 0
B15: 40 | C15: 50 | D15: 0 | E15: 0
B16: 50 | C16: 60 | D16: 0 | E16: 0
B17: 60 | C17: 70 | D17: 0 | E17: 0
B18: 70 | C18: 80 | D18: 0 | E18: 0
B19: 80 | C19: 90 | D19: 0 | E19: 0
B20: 90 | C20: 100 | D20: 1 | E20: 656
B21: 100 | C21: 200 | D21: 1 | E21: 897
... B35: 75000 | C35: 100000 | D35: 0 | E35: 0
B36: Over 100,000 | D36: 0 | E36: 0
B37: All | D37: =SUM(D10:D36) -> 132 | E37: =SUM(E10:E36) -> 181410
C39: Crosscheck with Form 3: | D39: 132 | E39: 181410
C40: Difference: | D40: =D37-D39 -> 0 | E40: =E37-E39 -> 0
A41: Explanation for Difference (if any):
A44: Note: Include all transactions listed as "Yes" in the "Dependent on Basic Premium Rate" column of Form 3.

Sheet Westcor Land Title Insurance Co
A1: NEW MEXICO TITLE INSURANCE UNDERWRITERS STATISTICAL REPORT
A2: FORM 4: PREMIUM DISTRIBUTION BY LIABILITY RANGE
A3: For Calendar Year Ending December 31, 2023
A4: NEW MEXICO EXPERIENCE ONLY
C5: Insurance Company: | D5: Westcor Land Title Insurance Company
D6: Transactions that are Dependent on the Basic Premium Rate
B7: Liability Range ($000) | E7: Direct
C8: But no | D8: Number of | E8: Premiums
B9: More than | C9: more than | D9: Transactions | E9: Written
B10: 0 | C10: 4.5 | D10: 6 | E10: 996
B11: 4.5 | C11: 10 | D11: 5 | E11: 830
B12: 10 | C12: 20 | D12: 16 | E12: 3495
B13: 20 | C13: 30 | D13: 12 | E13: 3112
B14: 30 | C14: 40 | D14: 16 | E14: 5375
B15: 40 | C15: 50 | D15: 7 | E15: 2680
B16: 50 | C16: 60 | D16: 9 | E16: 3926
B17: 60 | C17: 70 | D17: 9 | E17: 3975.25
B18: 70 | C18: 80 | D18: 11 | E18: 5156
B19: 80 | C19: 90 | D19: 11 | E19: 6764
B20: 90 | C20: 100 | D20: 12 | E20: 6276.13
B21: 100 | C21: 200 | D21: 98 | E21: 66152.8
... B35: 75000 | C35: 100000 | D35: 0 | E35: 0
B36: Over 100,000 | D36: 0 | E36: 0
B37: All | D37: =SUM(D10:D36) -> 309 | E37: =SUM(E10:E36) -> 248450.16
C39: Crosscheck with Form 3: | D39: 309 | E39: 248450
C40: Difference: | D40: =D37-D39 -> 0 | E40: =E37-E39 -> 0.16
A41: Explanation for Difference (if any):
A44: Note: Include all transactions listed as "Yes" in the "Dependent on Basic Premium Rate" column of Form 3.

Sheet WFG National Title Insurance Co
A1: NEW MEXICO TITLE INSURANCE UNDERWRITERS STATISTICAL REPORT
A2: FORM 4: PREMIUM DISTRIBUTION BY LIABILITY RANGE
A3: For Calendar Year Ending December 31, 2023
A4: NEW MEXICO EXPERIENCE ONLY
C5: Insurance Company: | D5: WFG National Title Insurance Company
D6: Transactions that are Dependent on the Basic Premium Rate
B7: Liability Range ($000) | E7: Direct
C8: But no | D8: Number of | E8: Premiums
B9: More than | C9: more than | D9: Transactions | E9: Written
B10: 0 | C10: 4.5 | D10: 38 | E10: 6291
B11: 4.5 | C11: 10 | D11: 34 | E11: 5635
B12: 10 | C12: 20 | D12: 66 | E12: 13747.4
B13: 20 | C13: 30 | D13: 76 | E13: 21728
B14: 30 | C14: 40 | D14: 75 | E14: 25812.1
B15: 40 | C15: 50 | D15: 57 | E15: 23519
B16: 50 | C16: 60 | D16: 66 | E16: 30252.05
B17: 60 | C17: 70 | D17: 52 | E17: 26042
B18: 70 | C18: 80 | D18: 55 | E18: 31535.1
B19: 80 | C19: 90 | D19: 48 | E19: 28901.1
B20: 90 | C20: 100 | D20: 56 | E20: 36606.1
B21: 100 | C21: 200 | D21: 470 | E21: 414175.45
... B35: 75000 | C35: 100000 | D35: 0 | E35: 0
B36: Over 100,000 | D36: 0 | E36: 0
B37: All | D37: =SUM(D10:D36) -> 2064 | E37: =SUM(E10:E36) -> 2774070.5
C39: Crosscheck with Form 3: | D39: 2064 | E39: 2774070
C40: Difference: | D40: =D37-D39 -> 0 | E40: =E37-E39 -> 0.45
A41: Explanation for Difference (if any):
A44: Note: Include all transactions listed as "Yes" in the "Dependent on Basic Premium Rate" column of Form 3.
