Workbook

Sheet Affidavit
E1: NEW MEXICO TITLE INSURANCE UNDERWRITERS STATISTICAL REPORT
E2: AFFIDAVIT
E3: ='Form 1'!A3 -> For Calendar Year Ending December 31, 2021
A6: THE STATE OF | C6: Missouri
A8: THE COUNTY OF | C8: Boone
A12: I, Elizabeth Blake, the CFO of Agents National Title Insurance Company, being duly sworn, deposes and says that all of the income, expense and other informational items contained on the attached Forms 1 though 6 of this named Company's Underwriters Statistical Report for the year ended December 31, 2021 are a full and true statement of income and expenses in accordance with the instructions provided, according to the best of my information, knowledge and belief.
C18: Signature
A20: SUBSCRIBED AND SWORN BEFORE ME this _____day of _______________, 2022.
A23: Notary Public
A26: My Commission Expires

Sheet Form 1
A1: NEW MEXICO TITLE INSURANCE UNDERWRITERS STATISTICAL REPORT
A2: FORM 1: STATEMENT OF INCOME AND EXPENSES
A3: For Calendar Year Ending December 31, 2021
A4: NEW MEXICO EXPERIENCE ONLY
B5: Insurance Company: | C5: Agents National Title Insurance Company
B6: NAIC Code: | C6: 12522
D8: Yes | E8: No
C9: Do you have direct operations or affiliated agencies in New Mexico? | D9: x
C11: If you DO have direct operations or affiliated agencies in New Mexico,
B12: are the expenses that are reported by those direct operations or affiliated agencies on their Agent Statistical Reports also included on Part B below? | D12: Yes | E12: No
D13: x
H14: Total Other | I14: NAIC
D15: Non-Affiliated | E15: Affiliated | H15: Income From | I15: Annual
C16: Direct | D16: Agency | E16: Agency | H16: Direct | I16: Statement
C17: Operations | D17: Operations | E17: Operations | F17: Total | H17: Operation ASR | I17: Schedule T | J17: Difference
A18: Part A: Revenue
A19: 1. | B19: Direct premiums written | E19: =815875-12586 -> 803289 | F19: =SUM(C19:E19) -> 803289 | I19: 815875 | J19: =F19-I19 -> -12586
A20: 2. | B20: Direct premiums written that are retained by agent | E20: 661522 | F20: =SUM(C20:E20) -> 661522
A21: 3. | B21: Direct premiums written that are remitted to underwriter | C21: =C19-C20 -> 0 | D21: =D19-D20 -> 0 | E21: =E19-E20 -> 141767 | F21: =SUM(C21:E21) -> 141767
A22: 4. | B22: Escrow and settlement service charges | E22: 0 | F22: =SUM(C22:E22) -> 0
A23: 5. | B23: Other title fees and service charges | E23: 25794 | F23: =SUM(C23:E23) -> 25794
A24: 6. | B24: Total Other Income | C24: =C22+C23 -> 0 | D24: =D22+D23 -> 0 | E24: =E22+E23 -> 25794 | F24: =SUM(C24:E24) -> 25794 | I24: 25794 | J24: =F24+H24-I24 -> 0
A25: 7. | B25: Total Revenue | C25: =C21+C24 -> 0 | D25: =D21+D24 -> 0 | E25: =E21+E24 -> 167561 | F25: =SUM(C25:E25) -> 167561
A27: For underwriters that charge rates below the promulgated rates: | I27: From Form 3 | J27: Difference
A28: 8. | B28: Direct premiums as if they had been written at promulgated rates | F28: =SUM(C28:E28) -> 0 | I28: ='Form 3'!J156 -> 0 | J28: =F28-I28 -> 0
A30: Part B: Corporate Expenses
A32: Line 1 as defined per NAIC Annual Statement, STATEMENT OF INCOME Exhibit.
A33: Lines 2 through 22 as defined per NAIC Annual Statement, EXPENSES Exhibit.
A35: All entries should show NEW MEXICO expenses only and should NOT show any expenses reported by a direct or affiliated operation on their Agent Statistical Reports.
A37: 1. | B37: Losses and loss adjustment expenses incurred | F37: =SUM(C37:E37) -> 0
A38: 2. | B38: Total personnel costs | E38: 11013 | F38: =SUM(C38:E38) -> 11013
A39: 3. | B39: Total production services purchased outside | F39: =SUM(C39:E39) -> 0
A40: 4. | B40: Advertising | F40: =SUM(C40:E40) -> 0
A41: 5. | B41: Boards, bureaus and associations | E41: 1170 | F41: =SUM(C41:E41) -> 1170
A42: 6. | B42: Title plant rent and maintenance | F42: =SUM(C42:E42) -> 0
A43: 7. | B43: Claim adjustment services | F43: =SUM(C43:E43) -> 0
A44: 8. | B44: Amounts charged off, net of recoveries | F44: =SUM(C44:E44) -> 0
A45: 9. | B45: Marketing and promotional expenses | F45: =SUM(C45:E45) -> 0
A46: 10. | B46: Insurance | F46: =SUM(C46:E46) -> 0
A47: 11. | B47: Directors' fees | F47: =SUM(C47:E47) -> 0
...

Sheet Form 2
A1: NEW MEXICO TITLE INSURANCE UNDERWRITERS STATISTICAL REPORT
A2: FORM 2: RESERVES, INVESTMENT GAIN AND SURPLUS
A3: ='Form 1'!A3 -> For Calendar Year Ending December 31, 2021
A4: COUNTRYWIDE EXPERIENCE
B5: Insurance Company: | C5: Agents National Title Insurance Company
D6: Countrywide
B7: 1. | C7: Known claims reserve | D7: 666650
B8: 2. | C8: Statutory premium reserve | D8: 16592888
B9: 3. | C9: Aggregate of other reserves required by law
B10: 4. | C10: Supplemental reserve
B11: 5. | C11: Total Reserves | D11: =SUM(D7:D10) -> 17259538
B13: 6. | C13: Net investment income earned | D13: 83494
B14: 7. | C14: Net realized capital gains (losses) | D14: 305557
B15: 8. | C15: Total net investment gain | D15: =D13+D14 -> 389051
B17: 9. | C17: Federal and foreign income taxes incurred | D17: 2822974
B19: 10. | C19: Surplus as regards policyholders | D19: 22809079

Sheet Form 3
A1: NEW MEXICO TITLE INSURANCE UNDERWRITER'S STATISTICAL REPORT
A2: FORM 3: TRANSACTION REPORT
A3: ='Form 1'!A3 -> For Calendar Year Ending December 31, 2021
A4: NEW MEXICO EXPERIENCE ONLY
C5: Insurance Company: | D5: Agents National Title Insurance Company | J5: For Underwriters That Charge Rates Below the Promulgated Rates
J7: Direct Premiums As If They Had Been Written at Promulgated Rates
H8: Dependent
A9: NM | B9: Trans- | G9: Direct | H9: on Basic
A10: Form | B10: action | E10: NMAC | F10: Number of | G10: Premiums | H10: Premium
A11: No. | B11: Code | C11: Transaction Type | E11: Regulation | F11: Transactions | G11: Written | H11: Rate?
A12: 1, 2 | B12: 0001 | C12: Charge For Additional Chain Of Title | E12: 13.14.9.16 | H12: No
A13: 1, 2 | B13: 0002 | C13: Charge For Unusual Complexity | E13: 13.14.9.16 | H13: Yes
A14: 1 | B14: 0003 | C14: Abstract Retirement Credit | E14: 13.14.9.24 | H14: Yes
A15: 2 | B15: 0004 | C15: Loan Policy - Mechanic's Lien Coverage With Evidence of Priority | E15: 13.14.5.12 | H15: No
A16: 2 | B16: 0005 | C16: Loan Policy - Mechanic's Lien Coverage Without Evidence of Priority | E16: 13.14.5.12 | H16: Yes
A17: 1 | B17: 0006 | C17: Owner's Policy - Mechanic's Lien Coverage - Filing Period Expired | E17: 13.14.5.12 | H17: No
A18: 1 | B18: 0007 | C18: Owner's Policy - Mechanic's Lien Coverage - Filing Period Not Expired | E18: 13.14.5.12 | H18: Yes
A19: 1 | B19: 0008 | C19: Survey Coverage - Owner Policy | E19: 13.14.5.1C | H19: Yes
A20: 22 | B20: 0009 | C20: Survey Coverage - Loan Policy | E20: 13.14.5.12C | H20: No
A21: 1 | B21: 0010 | C21: Owner Pro Forma Policy | E21: 13.14.9.19C | H21: No
A22: 2 | B22: 0011 | C22: Loan Pro Forma Policy | E22: 13.14.9.19C | H22: No
A23: 1 | B23: 0012 | C23: Duplicate Original Policy | E23: None | H23: No
A24: none | B24: 0013 | C24: Cancellation Fee | E24: 13.14.9.19B | H24: No
A25: 1 | B25: 0101 | C25: Owner’s Policy | E25: 13.14.9.20 | F25: 2 | G25: 1569 | H25: Yes
A26: 1 | B26: 0102 | C26: Owner’s Policy - With Bulk Rate | E26: 13.14.6.12 | H26: Yes
A27: 1 | B27: 0103 | C27: Multiple Owners on Same Land - Simultaneous Issue | E27: 13.14.9.32 | H27: Yes
A28: 1, 2 | B28: 0104 | C28: Replacement Policy | E28: 13.14.9.26 | H28: Yes
A29: 1 | B29: 0105 | C29: Owner's Policy After Foreclosure | E29: 13.14.9.28 | H29: Yes
A30: 1 | B30: 0106 | C30: Owner's Policy - Terminated Foreclosure | E30: 13.14.9.28 | H30: Yes
A31: 1 | B31: 0110 | C31: Owner's Policy - Reissue (3 years or more since previous owner's policy was issued) | E31: 13.14.6.11 | H31: Yes
A32: 1 | B32: 0115 | C32: Owner's Policy - Reissue (2 years or more but less than 3 years since previous owner's policy was issued) | E32: 13.14.6.11 | H32: Yes
A33: 1 | B33: 0120 | C33: Owner's Policy - Reissue (More than 1 year but less than 2 years since previous owner's policy was issued) | E33: 13.14.6.11 | H33: Yes
A34: 1 | B34: 0125 | C34: Owner's Policy - Reissue (1 y ear or less since previous owner's policy was issued) | E34: 13.14.6.11 | H34: Yes
A35: 2 | B35: 0201 | C35: Loan Policy - Single Issue | E35: 13.14.9.22 | H35: Yes
A36: 2 | B36: 0202 | C36: Loan Policy - Simultaneous Issue with Owner's Policy | E36: 13.14.9.22 | H36: No
A37: 2 | B37: 0203 | C37: Loan Policy - Second Mortgage or Subsequent Issue | E37: 13.14.9.36 | F37: 653 | G37: 801720 | H37: Yes
A38: 2 | B38: 0204 | C38: Replacement Loan Policy | E38: 13.14.9.26 | H38: Yes
A39: 2 | B39: 0205 | C39: Loan Policy With Two-Year Claims Made Limitation | E39: 13.14.9.40A | H39: No
A40: 2 | B40: 0206 | C40: Extension of Loan Policy with Two-Year Claims Made Limitation | E40: 13.14.9.40B | H40: No
A41: 2 | B41: 0240 | C41: Loan Policy - Substitution Rate (within 3 years - 40%) | E41: 13.14.9.39 | H41: Yes
...

Sheet Form 4
A1: NEW MEXICO TITLE INSURANCE UNDERWRITERS STATISTICAL REPORT
A2: FORM 4: PREMIUM DISTRIBUTION BY LIABILITY RANGE
A3: ='Form 1'!A3 -> For Calendar Year Ending December 31, 2021
A4: NEW MEXICO EXPERIENCE ONLY
C5: Insurance Company: | D5: Agents National Title Insurance Company
D6: Transactions that are Dependent on the Basic Premium Rate
B7: Liability Range ($000) | E7: Direct
C8: But no | D8: Number of | E8: Premiums
B9: More than | C9: more than | D9: Transactions | E9: Written
B10: 0 | C10: 4.5
B11: 4.5 | C11: 10
B12: 10 | C12: 20
B13: 20 | C13: 30
B14: 30 | C14: 40
B15: 40 | C15: 50
B16: 50 | C16: 60 | D16: 4 | E16: 1807
B17: 60 | C17: 70 | D17: 2 | E17: 1291
B18: 70 | C18: 80 | D18: 5 | E18: 2565
B19: 80 | C19: 90 | D19: 4 | E19: 2436
B20: 90 | C20: 100 | D20: 4 | E20: 2605
B21: 100 | C21: 200 | D21: 265 | E21: 240717
B22: 200 | C22: 300 | D22: 235 | E22: 294760
B23: 300 | C23: 400 | D23: 83 | E23: 133242
B24: 400 | C24: 500 | D24: 30 | E24: 63187
B25: 500 | C25: 1000 | D25: 23 | E25: 60679
B26: 1000 | C26: 2000
B27: 2000 | C27: 3000
B28: 3000 | C28: 4000
B29: 4000 | C29: 5000
B30: 5000 | C30: 10000
B31: 10000 | C31: 15000
B32: 15000 | C32: 25000
B33: 25000 | C33: 50000
B34: 50000 | C34: 75000
B35: 75000 | C35: 100000
B36: Over 100,000
B37: All | D37: =SUM(D10:D36) -> 655 | E37: =SUM(E10:E36) -> 803289
C39: Crosscheck with Form 3: | D39: =SUMIF('Form 3'!H12:H155,"Yes",'Form 3'!F12:F155) -> 655 | E39: =SUMIF('Form 3'!H12:H155,"Yes",'Form 3'!G12:G155) -> 803289
C40: Difference: | D40: =D37-D39 -> 0 | E40: =E37-E39 -> 0
A41: Explanation for Difference (if any):
...

Sheet Form 5
A1: NEW MEXICO TITLE INSURANCE UNDERWRITERS STATISTICAL REPORT
A2: FORM 5: DIRECT PAID LOSS DEVELOPMENT
B3: ='Form 1'!A3 -> For Calendar Year Ending December 31, 2021
A4: NEW MEXICO EXPERIENCE ONLY
E5: Insurance Company: | F5: Agents National Title Insurance Company
L6: Number of | M6: Number of
A7: Years in | L7: Claims | M7: Claims
A8: Which | L8: Closed | M8: Closed
A9: Policies | L9: With | M9: Without
A10: Were | F10: Part A: Cumulative Paid Losses and Allocated Loss Adjustment Expenses at Year End (000 omitted) | L10: Loss | M10: Loss
A11: Written | B11: 2012 | C11: =B11+1 -> 2013 | D11: =C11+1 -> 2014 | E11: =D11+1 -> 2015 | F11: =E11+1 -> 2016 | G11: =F11+1 -> 2017 | H11: =G11+1 -> 2018 | I11: =H11+1 -> 2019 | J11: =I11+1 -> 2020 | K11: =J11+1 -> 2021 | L11: Payment | M11: Payment
A12: Prior
A13: 1992
A14: =1+A13 -> 1993
A15: =1+A14 -> 1994
A16: =1+A15 -> 1995
A17: =1+A16 -> 1996
A18: =1+A17 -> 1997
A19: =1+A18 -> 1998
A20: =1+A19 -> 1999
A21: =1+A20 -> 2000
A22: =1+A21 -> 2001
A23: =1+A22 -> 2002
A24: =1+A23 -> 2003
A25: =1+A24 -> 2004
... A42: =1+A41 -> 2021
J43: 2020 | K43: 2021
I44: Total: | J44: =SUM(J12:J41) -> 0 | K44: =SUM(K12:K42) -> 0
J45: Total Payments during 2021: | K45: =K44-J44 -> 0
J46: New Mexico Direct Losses Paid as shown in NAIC Annual Statement Schedule T:
J47: Difference: | K47: =K45-K46 -> 0
B48: Explanation for Difference (if any):
A52: Note: | B52: Use the same reporting instructions as for Schedule P - Part 2A of the NAIC Annual Statement,
B53: except that loss and ALAE should be DIRECT of REINSURANCE and should be NEW MEXICO claims only.
A56: Part B: Claims by Risk Code (000 omitted)
B57: NUMBER OF CLAIMS BY RISK CODE
B58: A. Basic Risks | C58: B. Special Risks | D58: C. Plant, Search & Abstract Procedures | E58: D. Examination & Opinion Irregularities | F58: E. Survey-Inspection/ Description Matters | G58: F. Escrow/ Closing Procedures | H58: G. Typing or Policy Review | I58: H. Taxes and Special Assessments | J58: I. Apparent Non-Covered Claims | K58: J. Stakeholder/ Interpleader Cases | L58: K. Disputed Procedures (Judicial/ Non- Judicial) | M58: Total
A59: Count of Claims Paid | M59: =SUM(B59:L59) -> 0
A60: Total Dollars Paid Out By Code | M60: =SUM(B60:L60) -> 0
A62: Part C: Claims by Responsibility Code (000 omitted)
...

Sheet Form 6
A1: NEW MEXICO TITLE INSURANCE UNDERWRITERS STATISTICAL REPORT
A2: FORM 6: DIRECT CASE BASIS RESERVES
A3: ='Form 1'!A3 -> For Calendar Year Ending December 31, 2021
A4: NEW MEXICO EXPERIENCE ONLY
E5: Insurance Company: | F5: Agents National Title Insurance Company
A7: Years in
A8: Which | B8: Direct | C8: Amount of
A9: Policies | B9: Written | C9: Insurance
A10: Were | B10: Premium | C10: Written | H10: Case Basis Loss and Allocated Loss Adjustment Expense Reserves at Year End (000 omitted)
A11: Written | B11: ($000) | C11: in Millions | D11: 2012 | E11: =D11+1 -> 2013 | F11: =E11+1 -> 2014 | G11: =F11+1 -> 2015 | H11: =G11+1 -> 2016 | I11: =H11+1 -> 2017 | J11: =I11+1 -> 2018 | K11: =J11+1 -> 2019 | L11: =K11+1 -> 2020 | M11: =L11+1 -> 2021
A12: Prior
A13: 1992
A14: =1+A13 -> 1993
A15: =1+A14 -> 1994
A16: =1+A15 -> 1995
A17: =1+A16 -> 1996
A18: =1+A17 -> 1997
A19: =1+A18 -> 1998
A20: =1+A19 -> 1999
A21: =1+A20 -> 2000
A22: =1+A21 -> 2001
A23: =1+A22 -> 2002
A24: =1+A23 -> 2003
A25: =1+A24 -> 2004
... A42: =1+A41 -> 2021
L43: 2020 | M43: 2021
K44: Total: | L44: =SUM(L12:L41) -> 0 | M44: =SUM(M12:M42) -> 0
L45: Increase in Reserves during 2021: | M45: =M44-L44 -> 0
L46: Total Payments during 2021: | M46: ='Form 5'!K45 -> 0
L47: Case Incurred Loss during 2021: | M47: =M45+M46 -> 0
L48: New Mexico Direct Losses Incurred as shown in NAIC Annual Statement Schedule T:
L49: Difference: | M49: =M47-M48 -> 0
B50: Explanation for Difference (if any):
A54: Note: | B54: Use the same reporting instructions as for Schedule P - Part 2B of the NAIC Annual Statement,
B55: except that loss and ALAE should be DIRECT of REINSURANCE and should be NEW MEXICO claims only.
