Workbook
Name __xlfn_IFERROR: #N/A
Name __xlfn_IFERROR: NA()
Name Excel_BuiltIn_Print_Area: 'Paramount Title, LLC'!$A$1:$F$78
Name Excel_BuiltIn_Print_Area: 'Tierras Title, LLC'!$A$1:$F$78
Name Excel_BuiltIn_Sheet_Title: "Schedule A"
Name SCH_A: #REF!
Name SCH_A: #REF!
Name SCH_A: #REF!
Name SCH_A: #REF!
Name SCH_A: #REF!
Name SCH_A: #REF!
Name SCH_A: #REF!
Name SCH_A: #REF!
Name SCH_A: #REF!
Name SCH_A: #REF!
Name SCH_A: #REF!
Name SCH_A: #REF!
Name SCH_A: #REF!
Name SCH_A: #REF!
Name SCH_A: #REF!
Name SCH_A: #REF!
Name SCH_A: #REF!
Name SCH_A: #REF!
Name SCH_A: #REF!
Name SCH_A: #REF!
Name SCH_A: #REF!
Name SCH_A: #REF!
Name SCH_A: #REF!
Name SCH_A: #REF!
Name SCH_A: #REF!
Name SCH_A: #REF!
Name SCH_A: #REF!
Name SCH_A: NA()
Name SCH_A: #REF!
Name SCH_A: #REF!
Name SCH_A: #REF!
Name SCH_A: #REF!
Name SCH_A: #REF!
Name SCH_A: #REF!
Name SCH_A: #REF!
Name SCH_A: #REF!
Name SCH_A: #REF!
Name SCH_A: #REF!
Name SCH_A: #REF!
Name SCH_A: #REF!
Name SCH_A: #REF!
Name SCH_A: #REF!
Name SCH_A: #REF!
Name SCH_A: #REF!
Name SCH_A: #REF!
Name SCH_A: #REF!
Name SCH_A: #REF!
Name SCH_A: #REF!
Name SCH_A: #REF!
Name SCH_A: #REF!
Name SCH_A: #REF!
Name SCH_A: #REF!
Name SCH_A: #REF!
Name SCH_A: #REF!
Name SCH_A: #REF!

Sheet Aggregation
A1: Exhibit IV
A2: SCHEDULE A OF THE NEW MEXICO TITLE INSURANCE AGENTS STATISTICAL REPORT
A3: Aggregated for all Independent Agents
A4: For the Year Ended December 31, 2022
A6: Agencies reporting: 58
C8: Part A: Revenue
C9: 1. | D9: Title insurance written premiums | E9: =ROUND( SUM('Alliance Abstract & Title:Western Plains, Inc.'!E18),0)+1 -> 57497522
C10: 2. | D10: Less: Remitted title insurance premiums | E10: =ROUND( SUM('Alliance Abstract & Title:Western Plains, Inc.'!E19),0) -> 12405938
C11: 3. | D11: Retained title insurance premiums | E11: =E9-E10 -> 45091584
C12: 4. | D12: Other income | E12: =ROUND( SUM('Alliance Abstract & Title:Western Plains, Inc.'!E21),0) -> 22881231
C13: 5. | D13: Total Revenue | E13: =E11+E12 -> 67972815
C15: Part B: Expenses
C16: 1. | D16: Employees' salaries and wages | E16: =ROUND( SUM('Alliance Abstract & Title:Western Plains, Inc.'!E25),0)+0.4 -> 23190611
C17: 2. | D17: Owners' and partners' salaries and wages | E17: =ROUND( SUM('Alliance Abstract & Title:Western Plains, Inc.'!E26),0)+0.4 -> 5977425.4
C18: 3. | D18: Employee benefits | E18: =ROUND( SUM('Alliance Abstract & Title:Western Plains, Inc.'!E27),0)+0.4 -> 3426782.4
C19: 4. | D19: Rent | E19: =ROUND( SUM('Alliance Abstract & Title:Western Plains, Inc.'!E28),0)+0.4 -> 2879619.4
C20: 5. | D20: Insurance | E20: =ROUND( SUM('Alliance Abstract & Title:Western Plains, Inc.'!E29),0)+0.4 -> 540223.4
C21: 6. | D21: Legal expense | E21: =ROUND( SUM('Alliance Abstract & Title:Western Plains, Inc.'!E30),0)+0.4 -> 145321.4
C22: 7. | D22: Licenses, taxes and fees | E22: =ROUND( SUM('Alliance Abstract & Title:Western Plains, Inc.'!E31),0)+0.4 -> 655623.4
C23: 8. | D23: Title plant expense and maintenance | E23: =ROUND( SUM('Alliance Abstract & Title:Western Plains, Inc.'!E32),0) -> 1899704
C24: 9. | D24: Office supplies | E24: =ROUND( SUM('Alliance Abstract & Title:Western Plains, Inc.'!E33),0) -> 1560711
C25: 10. | D25: Depreciation | E25: =ROUND( SUM('Alliance Abstract & Title:Western Plains, Inc.'!E34),0) -> 1059516
C26: 11. | D26: Automobile expense | E26: =ROUND( SUM('Alliance Abstract & Title:Western Plains, Inc.'!E35),0) -> 249580
C27: 12. | D27: Communication expense | E27: =ROUND( SUM('Alliance Abstract & Title:Western Plains, Inc.'!E36),0) -> 1213932
C28: 13. | D28: Education expense | E28: =ROUND( SUM('Alliance Abstract & Title:Western Plains, Inc.'!E37),0) -> 120005
C29: 14. | D29: Bad debts | E29: =ROUND( SUM('Alliance Abstract & Title:Western Plains, Inc.'!E38),0) -> 10124
C30: 15. | D30: Interest expense | E30: =ROUND( SUM('Alliance Abstract & Title:Western Plains, Inc.'!E39),0) -> 597752
C31: 16. | D31: Employee travel and lodging | E31: =ROUND( SUM('Alliance Abstract & Title:Western Plains, Inc.'!E40),0) -> 256605
C32: 17. | D32: Loss and loss adjustment expense | E32: =ROUND( SUM('Alliance Abstract & Title:Western Plains, Inc.'!E41),0) -> 896339
C33: 18. | D33: Accounting and auditing expense | E33: =ROUND( SUM('Alliance Abstract & Title:Western Plains, Inc.'!E42),0) -> 705326
C34: 19. | D34: Public relations expense | E34: =ROUND( SUM('Alliance Abstract & Title:Western Plains, Inc.'!E43),0) -> 901604
C35: 20. | D35: Other expenses | E35: =ROUND( SUM('Alliance Abstract & Title:Western Plains, Inc.'!E44),0) -> 8122157
C36: 21. | D36: Total Expenses | E36: =SUM(E16:E35) -> 54408962
C38: Part C: Net Income for Ratemaking Purposes
C39: 1. | D39: Income (Loss) from Operations | E39: =E13-E36 -> 13563853
C41: Part D: Excluded Expenses
C42: 1. | D42: NMLTA lobbying expense | E42: =ROUND( SUM('Alliance Abstract & Title:Western Plains, Inc.'!E51),0) -> 3734
C43: 2. | D43: Direct lobbying expense | E43: =ROUND( SUM('Alliance Abstract & Title:Western Plains, Inc.'!E52),0) -> 4
C44: 3. | D44: Political contributions | E44: =ROUND( SUM('Alliance Abstract & Title:Western Plains, Inc.'!E53),0) -> 5100
C45: 4. | D45: State and federal income tax expense | E45: =ROUND( SUM('Alliance Abstract & Title:Western Plains, Inc.'!E54),0) -> 226185
...

Sheet Alliance Abstract & Title
D1: NEW MEXICO TITLE INSURANCE AGENTS STATISTICAL REPORT
D2: SCHEDULE A: STATEMENT OF INCOME AND EXPENSES
D3: For the Calendar Year Ending December 31, 2022
C5: AGENCY NAME: | D5: Alliance Abstract and Title, LLC
C6: ADDRESS: | D6: 207 Fisher, Socorro, NM 87801
C7: CONTACT NAME: | D7: Lori Fernandez
A8: Check One:
A9: x | B9: INDEPENDENT (NON-AFFILIATED) Title insurance agencies that are independently owned and write title insurance business
B10: one or more title insurance underwriters.
B12: AFFILIATED Title insurance agencies with 10% or greater ownership by a title insurance underwriter, including wholly-owned agencies.
B14: DIRECT Agency-type operations performed by the home or branch office of a title insurance underwriter. This does NOT include
B15: wholly-owned agencies.
C17: Part A: Revenue
C18: 1. | D18: Title insurance written premiums (from Schedule B) | E18: 1378589
C19: 2. | D19: Less: Remitted title insurance premiums (from Schedule B) | E19: 277730
C20: 3. | D20: Retained title insurance premiums (from Schedule B) | E20: 1100859
C21: 4. | D21: Other income (from Schedule C) | E21: 706196
C22: 5. | D22: Total Revenue | E22: =SUM(E20:E21) -> 1807055
C24: Part B: Expenses
C25: 1. | D25: Employees' salaries and wages | E25: 733266
C26: 2. | D26: Owners' and partners' salaries and wages | E26: 81666
C27: 3. | D27: Employee benefits | E27: 43996
C28: 4. | D28: Rent | E28: 63083
C29: 5. | D29: Insurance | E29: 16609
C30: 6. | D30: Legal expense | E30: 39037
C31: 7. | D31: Licenses, taxes and fees | E31: 51861
C32: 8. | D32: Title plant expense and maintenance | E32: 36800
C33: 9. | D33: Office supplies | E33: 8956
C34: 10. | D34: Depreciation
C35: 11. | D35: Automobile expense | E35: 12629
C36: 12. | D36: Communication expense | E36: 10252
C37: 13. | D37: Education expense
C38: 14. | D38: Bad debts
C39: 15. | D39: Interest expense | E39: 0
C40: 16. | D40: Employee travel and lodging | E40: 0
C41: 17. | D41: Loss and loss adjustment expense (from Schedule D) | E41: 8361
C42: 18. | D42: Accounting and auditing expense | E42: 16631
C43: 19. | D43: Public relations expense
C44: 20. | D44: Other expenses (from Schedule E) | E44: 293802
C45: 21. | D45: Total Expenses | E45: =SUM(E25:E44) -> 1416949
...

Sheet Amrock, Inc.
D1: NEW MEXICO TITLE INSURANCE AGENTS STATISTICAL REPORT
D2: SCHEDULE A: STATEMENT OF INCOME AND EXPENSES
D3: For the Calendar Year Ending December 31, 2022
C5: AGENCY NAME: | D5: Amrock, LLC
C6: ADDRESS: | D6: 662 Woodward Avenue, Detroit, MI 48226
C7: CONTACT NAME: | D7: Nicole Beattie
A8: Check One:
A9: x | B9: INDEPENDENT (NON-AFFILIATED) Title insurance agencies that are independently owned and write title insurance business
B10: one or more title insurance underwriters.
B12: AFFILIATED Title insurance agencies with 10% or greater ownership by a title insurance underwriter, including wholly-owned agencies.
B14: DIRECT Agency-type operations performed by the home or branch office of a title insurance underwriter. This does NOT include
B15: wholly-owned agencies.
C17: Part A: Revenue
C18: 1. | D18: Title insurance written premiums (from Schedule B) | E18: 1811470.7
C19: 2. | D19: Less: Remitted title insurance premiums (from Schedule B) | E19: 393220.3
C20: 3. | D20: Retained title insurance premiums (from Schedule B) | E20: 1418250.4
C21: 4. | D21: Other income (from Schedule C) | E21: 1591960.9
C22: 5. | D22: Total Revenue | E22: =SUM(E20:E21) -> 3010211.2
C24: Part B: Expenses
C25: 1. | D25: Employees' salaries and wages | E25: 640596.82
C26: 2. | D26: Owners' and partners' salaries and wages
C27: 3. | D27: Employee benefits | E27: 73507.997
C28: 4. | D28: Rent | E28: 52085.983
C29: 5. | D29: Insurance | E29: 3493.6539
C30: 6. | D30: Legal expense
C31: 7. | D31: Licenses, taxes and fees | E31: 35033.62
C32: 8. | D32: Title plant expense and maintenance | E32: 603.5
C33: 9. | D33: Office supplies | E33: 2570.3165
C34: 10. | D34: Depreciation
C35: 11. | D35: Automobile expense
C36: 12. | D36: Communication expense | E36: 446596.24
C37: 13. | D37: Education expense | E37: 367.99996
C38: 14. | D38: Bad debts
C39: 15. | D39: Interest expense
C40: 16. | D40: Employee travel and lodging | E40: 5786.2696
C41: 17. | D41: Loss and loss adjustment expense (from Schedule D) | E41: 143766.75
C42: 18. | D42: Accounting and auditing expense | E42: 2874.7483
C43: 19. | D43: Public relations expense | E43: 1201.1956
C44: 20. | D44: Other expenses (from Schedule E) | E44: 776907.28
C45: 21. | D45: Total Expenses | E45: =SUM(E25:E44) -> 2185392.4
...

Sheet Aztec Abstract & Title
D1: NEW MEXICO TITLE INSURANCE AGENTS STATISTICAL REPORT
D2: SCHEDULE A: STATEMENT OF INCOME AND EXPENSES
D3: For the Calendar Year Ending December 31, 2022
C5: AGENCY NAME: | D5: Aztec Abstract & Title Insurance, Inc.
C6: ADDRESS: | D6: 708 S. Ave. C, Portales, NM 88130
C7: CONTACT NAME: | D7: Kristin Nichols
A8: Check One:
A9: x | B9: INDEPENDENT (NON-AFFILIATED) Title insurance agencies that are independently owned and write title insurance business
B10: one or more title insurance underwriters.
B12: AFFILIATED Title insurance agencies with 10% or greater ownership by a title insurance underwriter, including wholly-owned agencies.
B14: DIRECT Agency-type operations performed by the home or branch office of a title insurance underwriter. This does NOT include
B15: wholly-owned agencies.
C17: Part A: Revenue
C18: 1. | D18: Title insurance written premiums (from Schedule B) | E18: 717070
C19: 2. | D19: Less: Remitted title insurance premiums (from Schedule B) | E19: 143414
C20: 3. | D20: Retained title insurance premiums (from Schedule B) | E20: 573656
C21: 4. | D21: Other income (from Schedule C) | E21: 455295.67
C22: 5. | D22: Total Revenue | E22: =SUM(E20:E21) -> 1028951.7
C24: Part B: Expenses
C25: 1. | D25: Employees' salaries and wages | E25: 335020
C26: 2. | D26: Owners' and partners' salaries and wages | E26: 154500
C27: 3. | D27: Employee benefits | E27: 53034.75
C28: 4. | D28: Rent | E28: 111100
C29: 5. | D29: Insurance | E29: 6071.61
C30: 6. | D30: Legal expense | E30: 168.84
C31: 7. | D31: Licenses, taxes and fees | E31: 6417.66
C32: 8. | D32: Title plant expense and maintenance | E32: 6833
C33: 9. | D33: Office supplies | E33: 20876
C34: 10. | D34: Depreciation | E34: 19200
C35: 11. | D35: Automobile expense | E35: 24873.52
C36: 12. | D36: Communication expense | E36: 37918.73
C37: 13. | D37: Education expense | E37: 180
C38: 14. | D38: Bad debts
C39: 15. | D39: Interest expense | E39: 927
C40: 16. | D40: Employee travel and lodging | E40: 6851.33
C41: 17. | D41: Loss and loss adjustment expense (from Schedule D) | E41: 17277.37
C42: 18. | D42: Accounting and auditing expense | E42: 6454.82
C43: 19. | D43: Public relations expense | E43: 57799.42
C44: 20. | D44: Other expenses (from Schedule E) | E44: 105681.3
C45: 21. | D45: Total Expenses | E45: =SUM(E25:E44) -> 971185.35
...

Sheet BGMJ, Inc.
D1: NEW MEXICO TITLE INSURANCE AGENTS STATISTICAL REPORT
D2: SCHEDULE A: STATEMENT OF INCOME AND EXPENSES
D3: For the Calendar Year Ending December 31, 2022
C5: AGENCY NAME: | D5: BGMJ, INC.
C6: ADDRESS: | D6: 2724 WILSHIRE BLVD, ROSWELL, NM 88201
C7: CONTACT NAME: | D7: MAURITA LOVELACE
A8: Check One:
A9: X | B9: INDEPENDENT (NON-AFFILIATED) Title insurance agencies that are independently owned and write title insurance business
B10: one or more title insurance underwriters.
B12: AFFILIATED Title insurance agencies with 10% or greater ownership by a title insurance underwriter, including wholly-owned agencies.
B14: DIRECT Agency-type operations performed by the home or branch office of a title insurance underwriter. This does NOT include
B15: wholly-owned agencies.
C17: Part A: Revenue
C18: 1. | D18: Title insurance written premiums (from Schedule B) | E18: 1233410.6
C19: 2. | D19: Less: Remitted title insurance premiums (from Schedule B) | E19: 246975.24
C20: 3. | D20: Retained title insurance premiums (from Schedule B) | E20: 986435.41
C21: 4. | D21: Other income (from Schedule C) | E21: 619884.17
C22: 5. | D22: Total Revenue | E22: =SUM(E20:E21) -> 1606319.6
C24: Part B: Expenses
C25: 1. | D25: Employees' salaries and wages | E25: 641072.9
C26: 2. | D26: Owners' and partners' salaries and wages | E26: 96000
C27: 3. | D27: Employee benefits | E27: 113650.93
C28: 4. | D28: Rent | E28: 91434.71
C29: 5. | D29: Insurance | E29: 39339.49
C30: 6. | D30: Legal expense
C31: 7. | D31: Licenses, taxes and fees | E31: 1391.37
C32: 8. | D32: Title plant expense and maintenance | E32: 56918.09
C33: 9. | D33: Office supplies | E33: 64495.57
C34: 10. | D34: Depreciation | E34: 34352.12
C35: 11. | D35: Automobile expense | E35: 7104.43
C36: 12. | D36: Communication expense | E36: 13453.17
C37: 13. | D37: Education expense
C38: 14. | D38: Bad debts
C39: 15. | D39: Interest expense
C40: 16. | D40: Employee travel and lodging | E40: 4303.98
C41: 17. | D41: Loss and loss adjustment expense (from Schedule D) | E41: 7231.67
C42: 18. | D42: Accounting and auditing expense | E42: 16082.89
C43: 19. | D43: Public relations expense | E43: 34715.91
C44: 20. | D44: Other expenses (from Schedule E) | E44: 66607.63
C45: 21. | D45: Total Expenses | E45: =SUM(E25:E44) -> 1288154.9
...

Sheet Bueno Title & Escrow Company
D1: NEW MEXICO TITLE INSURANCE AGENTS STATISTICAL REPORT
D2: SCHEDULE A: STATEMENT OF INCOME AND EXPENSES
D3: For the Calendar Year Ending December 31, 2022
C5: AGENCY NAME: | D5: Bueno Title & Escrow Company LLC
C6: ADDRESS: | D6: 2802 Doral Ct. Las Cruces NM 88011
C7: CONTACT NAME: | D7: Sonya Harmon
A8: Check One:
A9: X | B9: INDEPENDENT (NON-AFFILIATED) Title insurance agencies that are independently owned and write title insurance business
B10: one or more title insurance underwriters.
B12: AFFILIATED Title insurance agencies with 10% or greater ownership by a title insurance underwriter, including wholly-owned agencies.
B14: DIRECT Agency-type operations performed by the home or branch office of a title insurance underwriter. This does NOT include
B15: wholly-owned agencies.
C17: Part A: Revenue
C18: 1. | D18: Title insurance written premiums (from Schedule B) | E18: 1286224.8
C19: 2. | D19: Less: Remitted title insurance premiums (from Schedule B) | E19: 256747.1
C20: 3. | D20: Retained title insurance premiums (from Schedule B) | E20: 1029477.7
C21: 4. | D21: Other income (from Schedule C) | E21: 339469.81
C22: 5. | D22: Total Revenue | E22: 1368947.5
C24: Part B: Expenses
C25: 1. | D25: Employees' salaries and wages | E25: =37698.94+61764.35+174980.38+66307.93+113558.81 -> 454310.41
C26: 2. | D26: Owners' and partners' salaries and wages | E26: =68244.72+50258.64 -> 118503.36
C27: 3. | D27: Employee benefits | E27: =25505.11+45727.64+1018.06 -> 72250.81
C28: 4. | D28: Rent | E28: 75759
C29: 5. | D29: Insurance | E29: 1014.24
C30: 6. | D30: Legal expense | E30: 679.61
C31: 7. | D31: Licenses, taxes and fees | E31: 991.19
C32: 8. | D32: Title plant expense and maintenance | E32: 6000
C33: 9. | D33: Office supplies | E33: =100.85+20659.76 -> 20760.61
C34: 10. | D34: Depreciation | E34: 3098.85
C35: 11. | D35: Automobile expense | E35: =408.85+2820.87 -> 3229.72
C36: 12. | D36: Communication expense | E36: 51102.16
C37: 13. | D37: Education expense | E37: 194
C38: 14. | D38: Bad debts
C39: 15. | D39: Interest expense | E39: =4.07+36725.82 -> 36729.89
C40: 16. | D40: Employee travel and lodging | E40: =684.22+121.82+1567.2 -> 2373.24
C41: 17. | D41: Loss and loss adjustment expense (from Schedule D) | E41: 18711.81
C42: 18. | D42: Accounting and auditing expense | E42: =24253.72+2875.53 -> 27129.25
C43: 19. | D43: Public relations expense | E43: 11635.21
C44: 20. | D44: Other expenses (from Schedule E) | E44: 210008.38
C45: 21. | D45: Total Expenses | E45: =SUM(E25:E44) -> 1114481.7
...

Sheet Camino Real Abstract & Title
D1: NEW MEXICO TITLE INSURANCE AGENTS STATISTICAL REPORT
D2: SCHEDULE A: STATEMENT OF INCOME AND EXPENSES
D3: For the Calendar Year Ending December 31, 2022
C5: AGENCY NAME: | D5: Camino Real Abstract & Title, LLC
C6: ADDRESS: | D6: 6701 N. Mesa, El Paso, TX 79912
C7: CONTACT NAME: | D7: Andy Quintana
A8: Check One:
A9: X | B9: INDEPENDENT (NON-AFFILIATED) Title insurance agencies that are independently owned and write title insurance business
B10: one or more title insurance underwriters.
B12: AFFILIATED Title insurance agencies with 10% or greater ownership by a title insurance underwriter, including wholly-owned agencies.
B14: DIRECT Agency-type operations performed by the home or branch office of a title insurance underwriter. This does NOT include
B15: wholly-owned agencies.
C17: Part A: Revenue
C18: 1. | D18: Title insurance written premiums (from Schedule B) | E18: 201026
C19: 2. | D19: Less: Remitted title insurance premiums (from Schedule B) | E19: 40140
C20: 3. | D20: Retained title insurance premiums (from Schedule B) | E20: 160886
C21: 4. | D21: Other income (from Schedule C) | E21: 87547
C22: 5. | D22: Total Revenue | E22: =SUM(E20:E21) -> 248433
C24: Part B: Expenses
C25: 1. | D25: Employees' salaries and wages | E25: 81196
C26: 2. | D26: Owners' and partners' salaries and wages
C27: 3. | D27: Employee benefits | E27: 13040
C28: 4. | D28: Rent | E28: 58260
C29: 5. | D29: Insurance | E29: 2856
C30: 6. | D30: Legal expense
C31: 7. | D31: Licenses, taxes and fees | E31: 3497
C32: 8. | D32: Title plant expense and maintenance | E32: 13023
C33: 9. | D33: Office supplies | E33: 1215
C34: 10. | D34: Depreciation | E34: 4969
C35: 11. | D35: Automobile expense
C36: 12. | D36: Communication expense | E36: 3975
C37: 13. | D37: Education expense | E37: 2250
C38: 14. | D38: Bad debts
C39: 15. | D39: Interest expense
C40: 16. | D40: Employee travel and lodging
C41: 17. | D41: Loss and loss adjustment expense (from Schedule D) | E41: 958
C42: 18. | D42: Accounting and auditing expense | E42: 2676
C43: 19. | D43: Public relations expense | E43: 100
C44: 20. | D44: Other expenses (from Schedule E) | E44: 23245
C45: 21. | D45: Total Expenses | E45: =SUM(E25:E44) -> 211260
...

Sheet Casa Y Tierra Abstract & Title
D1: NEW MEXICO TITLE INSURANCE AGENTS STATISTICAL REPORT
D2: SCHEDULE A: STATEMENT OF INCOME AND EXPENSES
D3: For the Calendar Year Ending December 31, 2022
C5: AGENCY NAME: | D5: Casa Y Tierra Abstract and Title Co.
C6: ADDRESS: | D6: 2420 N White Sands Blvd, Alamogordo, NM 88310
C7: CONTACT NAME: | D7: Craig Danekas
A8: Check One:
A9: X | B9: INDEPENDENT (NON-AFFILIATED) Title insurance agencies that are independently owned and write title insurance business
B10: one or more title insurance underwriters.
B12: AFFILIATED Title insurance agencies with 10% or greater ownership by a title insurance underwriter, including wholly-owned agencies.
B14: DIRECT Agency-type operations performed by the home or branch office of a title insurance underwriter. This does NOT include
B15: wholly-owned agencies.
C17: Part A: Revenue
C18: 1. | D18: Title insurance written premiums (from Schedule B) | E18: 1534246
C19: 2. | D19: Less: Remitted title insurance premiums (from Schedule B) | E19: 306849
C20: 3. | D20: Retained title insurance premiums (from Schedule B) | E20: 1227397
C21: 4. | D21: Other income (from Schedule C) | E21: 364510
C22: 5. | D22: Total Revenue | E22: =SUM(E20:E21) -> 1591907
C24: Part B: Expenses
C25: 1. | D25: Employees' salaries and wages | E25: 201598.71
C26: 2. | D26: Owners' and partners' salaries and wages | E26: 185687.34
C27: 3. | D27: Employee benefits | E27: 37188.49
C28: 4. | D28: Rent | E28: 14925
C29: 5. | D29: Insurance | E29: 4374
C30: 6. | D30: Legal expense | E30: 865
C31: 7. | D31: Licenses, taxes and fees | E31: 328.85
C32: 8. | D32: Title plant expense and maintenance | E32: 4974
C33: 9. | D33: Office supplies | E33: 65296
C34: 10. | D34: Depreciation | E34: 0
C35: 11. | D35: Automobile expense | E35: 2572
C36: 12. | D36: Communication expense | E36: 12820
... C44: 20. | D44: Other expenses (from Schedule E) | E44: 14644
C45: 21. | D45: Total Expenses | E45: =SUM(E25:E44) -> 613463.39
C47: Part C: Net Income for Ratemaking Purposes
C48: 1. | D48: Income (Loss) from Operations | E48: =E22-E45 -> 978443.61
C50: Part D: Excluded Expenses
C51: 1. | D51: NMLTA lobbying expense | E51: 74
C52: 2. | D52: Direct lobbying expense | E52: 0
C53: 3. | D53: Political contributions | E53: 0
C54: 4. | D54: State and federal income tax expense | E54: 0
...

Sheet Centric Title & Escrow, LLC.
D1: NEW MEXICO TITLE INSURANCE AGENTS STATISTICAL REPORT
D2: SCHEDULE A: STATEMENT OF INCOME AND EXPENSES
D3: For the Calendar Year Ending December 31, 2022
C5: AGENCY NAME: | D5: Centric Title & Escrow, LLC
C6: ADDRESS: | D6: 189 Fulweiler Ave, Auburn CA 95603
C7: CONTACT NAME: | D7: Victoria Marshall
A8: Check One:
A9: X | B9: INDEPENDENT (NON-AFFILIATED) Title insurance agencies that are independently owned and write title insurance business
B10: one or more title insurance underwriters.
B12: AFFILIATED Title insurance agencies with 10% or greater ownership by a title insurance underwriter, including wholly-owned agencies.
B14: DIRECT Agency-type operations performed by the home or branch office of a title insurance underwriter. This does NOT include
B15: wholly-owned agencies.
C17: Part A: Revenue
C18: 1. | D18: Title insurance written premiums (from Schedule B) | E18: 1499277
C19: 2. | D19: Less: Remitted title insurance premiums (from Schedule B) | E19: 326429
C20: 3. | D20: Retained title insurance premiums (from Schedule B) | E20: 1172848
C21: 4. | D21: Other income (from Schedule C) | E21: 596968
C22: 5. | D22: Total Revenue | E22: 1769816
C24: Part B: Expenses
C25: 1. | D25: Employees' salaries and wages | E25: 1074446
C26: 2. | D26: Owners' and partners' salaries and wages | E26: 0
C27: 3. | D27: Employee benefits | E27: 191359
C28: 4. | D28: Rent | E28: 115354
C29: 5. | D29: Insurance | E29: 0
C30: 6. | D30: Legal expense | E30: 0
C31: 7. | D31: Licenses, taxes and fees | E31: 997
C32: 8. | D32: Title plant expense and maintenance | E32: 100992
C33: 9. | D33: Office supplies | E33: 42066
C34: 10. | D34: Depreciation | E34: 16461
C35: 11. | D35: Automobile expense | E35: 0
C36: 12. | D36: Communication expense | E36: 51851
... C45: 21. | D45: Total Expenses | E45: 1836120
C47: Part C: Net Income for Ratemaking Purposes
C48: 1. | D48: Income (Loss) from Operations | E48: -66304
C50: Part D: Excluded Expenses
C51: 1. | D51: NMLTA lobbying expense | E51: 500
C52: 2. | D52: Direct lobbying expense | E52: 4
C53: 3. | D53: Political contributions | E53: 0
C54: 4. | D54: State and federal income tax expense | E54: 0
C55: 5. | D55: 1/2 of meals and entertainment expense | E55: 0
...

Sheet Cibola County Title Company Inc
D1: NEW MEXICO TITLE INSURANCE AGENTS STATISTICAL REPORT
D2: SCHEDULE A: STATEMENT OF INCOME AND EXPENSES
D3: For the Calendar Year Ending December 31, 2022
C5: AGENCY NAME: | D5: Cibola Title Company LLC
C6: ADDRESS: | D6: Po Box 238 Grants, NM 87020
C7: CONTACT NAME: | D7: Dolores Vallejos
A8: Check One:
A9: X | B9: INDEPENDENT (NON-AFFILIATED) Title insurance agencies that are independently owned and write title insurance business
B10: one or more title insurance underwriters.
B12: AFFILIATED Title insurance agencies with 10% or greater ownership by a title insurance underwriter, including wholly-owned agencies.
B14: DIRECT Agency-type operations performed by the home or branch office of a title insurance underwriter. This does NOT include
B15: wholly-owned agencies.
C17: Part A: Revenue
C18: 1. | D18: Title insurance written premiums (from Schedule B) | E18: 277786
C19: 2. | D19: Less: Remitted title insurance premiums (from Schedule B) | E19: 58742
C20: 3. | D20: Retained title insurance premiums (from Schedule B) | E20: 219044
C21: 4. | D21: Other income (from Schedule C) | E21: 72
C22: 5. | D22: Total Revenue | E22: =SUM(E20:E21) -> 219116
C24: Part B: Expenses
C25: 1. | D25: Employees' salaries and wages
C26: 2. | D26: Owners' and partners' salaries and wages
C27: 3. | D27: Employee benefits
C28: 4. | D28: Rent | E28: 320
C29: 5. | D29: Insurance | E29: 6568
C30: 6. | D30: Legal expense
C31: 7. | D31: Licenses, taxes and fees | E31: 3293
C32: 8. | D32: Title plant expense and maintenance | E32: 26743
C33: 9. | D33: Office supplies | E33: 15919
C34: 10. | D34: Depreciation | E34: 1792
C35: 11. | D35: Automobile expense | E35: 8360
C36: 12. | D36: Communication expense | E36: 1814
C37: 13. | D37: Education expense | E37: 500
C38: 14. | D38: Bad debts
C39: 15. | D39: Interest expense | E39: 6380
C40: 16. | D40: Employee travel and lodging | E40: 782
C41: 17. | D41: Loss and loss adjustment expense (from Schedule D) | E41: 0
C42: 18. | D42: Accounting and auditing expense | E42: 4077
C43: 19. | D43: Public relations expense | E43: 145
C44: 20. | D44: Other expenses (from Schedule E) | E44: 13134
C45: 21. | D45: Total Expenses | E45: =SUM(E25:E44) -> 89827
...

Sheet Empower Settlement Services LLC
D1: NEW MEXICO TITLE INSURANCE AGENTS STATISTICAL REPORT
D2: SCHEDULE A: STATEMENT OF INCOME AND EXPENSES
D3: For the Calendar Year Ending December 31, 2022
C5: AGENCY NAME: | D5: Empower Settlement Services LLC
C6: ADDRESS: | D6: 345 Rouser Rd. Building 5, #402 Coraopolis, PA 15108
C7: CONTACT NAME: | D7: Donald Komoroski
A8: Check One:
A9: X | B9: INDEPENDENT (NON-AFFILIATED) Title insurance agencies that are independently owned and write title insurance business
B10: one or more title insurance underwriters.
B12: AFFILIATED Title insurance agencies with 10% or greater ownership by a title insurance underwriter, including wholly-owned agencies.
B14: DIRECT Agency-type operations performed by the home or branch office of a title insurance underwriter. This does NOT include
B15: wholly-owned agencies.
C17: Part A: Revenue
C18: 1. | D18: Title insurance written premiums (from Schedule B) | E18: 2326
C19: 2. | D19: Less: Remitted title insurance premiums (from Schedule B) | E19: 465
C20: 3. | D20: Retained title insurance premiums (from Schedule B) | E20: 1861
C21: 4. | D21: Other income (from Schedule C) | E21: 2890
C22: 5. | D22: Total Revenue | E22: =SUM(E20:E21) -> 4751
C24: Part B: Expenses
C25: 1. | D25: Employees' salaries and wages | E25: 2685
C26: 2. | D26: Owners' and partners' salaries and wages | E26: 2300
C27: 3. | D27: Employee benefits | E27: 758
C28: 4. | D28: Rent | E28: 0
C29: 5. | D29: Insurance | E29: 0
C30: 6. | D30: Legal expense | E30: 0
C31: 7. | D31: Licenses, taxes and fees | E31: 142
C32: 8. | D32: Title plant expense and maintenance | E32: 10015.2
C33: 9. | D33: Office supplies | E33: 0
C34: 10. | D34: Depreciation | E34: 0
C35: 11. | D35: Automobile expense | E35: 0
C36: 12. | D36: Communication expense | E36: 0
... C44: 20. | D44: Other expenses (from Schedule E) | E44: 0
C45: 21. | D45: Total Expenses | E45: =SUM(E25:E44) -> 15900.2
C47: Part C: Net Income for Ratemaking Purposes
C48: 1. | D48: Income (Loss) from Operations | E48: =E22-E45 -> -11149.2
C50: Part D: Excluded Expenses
C51: 1. | D51: NMLTA lobbying expense
C52: 2. | D52: Direct lobbying expense
C53: 3. | D53: Political contributions
C54: 4. | D54: State and federal income tax expense
...

Sheet First NM Title & Abstract Co
D1: NEW MEXICO TITLE INSURANCE AGENTS STATISTICAL REPORT
D2: SCHEDULE A: STATEMENT OF INCOME AND EXPENSES
D3: For the Calendar Year Ending December 31, 2022
C5: AGENCY NAME: | D5: First New Mexico Title & Abstract Co. Inc.
C6: ADDRESS: | D6: PO Box 3590 Taos, New Mexico 87571
C7: CONTACT NAME: | D7: Matthew Height
A8: Check One:
A9: X | B9: INDEPENDENT (NON-AFFILIATED) Title insurance agencies that are independently owned and write title insurance business
B10: one or more title insurance underwriters.
B12: AFFILIATED Title insurance agencies with 10% or greater ownership by a title insurance underwriter, including wholly-owned agencies.
B14: DIRECT Agency-type operations performed by the home or branch office of a title insurance underwriter. This does NOT include
B15: wholly-owned agencies.
C17: Part A: Revenue
C18: 1. | D18: Title insurance written premiums (from Schedule B) | E18: 1746548.6
C19: 2. | D19: Less: Remitted title insurance premiums (from Schedule B) | E19: 368323.26
C20: 3. | D20: Retained title insurance premiums (from Schedule B) | E20: 1378225.3
C21: 4. | D21: Other income (from Schedule C) | E21: 450457
C22: 5. | D22: Total Revenue | E22: =SUM(E20:E21) -> 1828682.3
C24: Part B: Expenses
C25: 1. | D25: Employees' salaries and wages | E25: 621689
C26: 2. | D26: Owners' and partners' salaries and wages | E26: 319170
C27: 3. | D27: Employee benefits | E27: 119310
C28: 4. | D28: Rent | E28: 87517
C29: 5. | D29: Insurance | E29: 4685
C30: 6. | D30: Legal expense | E30: 1000
C31: 7. | D31: Licenses, taxes and fees | E31: 1019
C32: 8. | D32: Title plant expense and maintenance | E32: 17729
C33: 9. | D33: Office supplies | E33: 27097
C34: 10. | D34: Depreciation | E34: 13504
C35: 11. | D35: Automobile expense | E35: 1713
C36: 12. | D36: Communication expense | E36: 36186
... C44: 20. | D44: Other expenses (from Schedule E) | E44: 27038
C45: 21. | D45: Total Expenses | E45: =SUM(E25:E44) -> 1316498
C47: Part C: Net Income for Ratemaking Purposes
C48: 1. | D48: Income (Loss) from Operations | E48: =E22-E45 -> 512184.31
C50: Part D: Excluded Expenses
C51: 1. | D51: NMLTA lobbying expense | E51: 134
C52: 2. | D52: Direct lobbying expense
C53: 3. | D53: Political contributions
C54: 4. | D54: State and federal income tax expense | E54: 50
...

Sheet First Title Services, LLC
D1: NEW MEXICO TITLE INSURANCE AGENTS STATISTICAL REPORT
D2: SCHEDULE A: STATEMENT OF INCOME AND EXPENSES
D3: For the Calendar Year Ending December 31, 2022
C5: AGENCY NAME: | D5: First Title Services LLC
C6: ADDRESS: | D6: PO Box 1288, Tucumcari, NM 88401
C7: CONTACT NAME: | D7: Peggy Brown
A8: Check One:
A9: x | B9: INDEPENDENT (NON-AFFILIATED) Title insurance agencies that are independently owned and write title insurance business
B10: one or more title insurance underwriters.
B12: AFFILIATED Title insurance agencies with 10% or greater ownership by a title insurance underwriter, including wholly-owned agencies.
B14: DIRECT Agency-type operations performed by the home or branch office of a title insurance underwriter. This does NOT include
B15: wholly-owned agencies.
C17: Part A: Revenue
C18: 1. | D18: Title insurance written premiums (from Schedule B) | E18: 321458
C19: 2. | D19: Less: Remitted title insurance premiums (from Schedule B) | E19: 68115
C20: 3. | D20: Retained title insurance premiums (from Schedule B) | E20: 253343
C21: 4. | D21: Other income (from Schedule C) | E21: 183794.3
C22: 5. | D22: Total Revenue | E22: =SUM(E20:E21) -> 437137.3
C24: Part B: Expenses
C25: 1. | D25: Employees' salaries and wages | E25: 93702.43
C26: 2. | D26: Owners' and partners' salaries and wages | E26: 63600
C27: 3. | D27: Employee benefits | E27: 3865.1
C28: 4. | D28: Rent | E28: 21250
C29: 5. | D29: Insurance | E29: 4708.24
C30: 6. | D30: Legal expense | E30: =757.31+702.41 -> 1459.72
C31: 7. | D31: Licenses, taxes and fees | E31: =70+570.53+24938.74 -> 25579.27
C32: 8. | D32: Title plant expense and maintenance | E32: 14726.53
C33: 9. | D33: Office supplies | E33: 10677.78
C34: 10. | D34: Depreciation | E34: =953.69+40388+3888.13 -> 45229.82
C35: 11. | D35: Automobile expense | E35: 7883.13
C36: 12. | D36: Communication expense | E36: 14220.89
C37: 13. | D37: Education expense | E37: =160 -> 160
C38: 14. | D38: Bad debts | E38: 0
C39: 15. | D39: Interest expense | E39: 9.66
C40: 16. | D40: Employee travel and lodging | E40: 1158.39
C41: 17. | D41: Loss and loss adjustment expense (from Schedule D) | E41: 0
C42: 18. | D42: Accounting and auditing expense | E42: =10291.28-1460 -> 8831.28
C43: 19. | D43: Public relations expense | E43: 7040.63
C44: 20. | D44: Other expenses (from Schedule E) | E44: 48033.84
C45: 21. | D45: Total Expenses | E45: =SUM(E25:E44) -> 372136.71
...

Sheet Four Corners Title Company
D1: NEW MEXICO TITLE INSURANCE AGENTS STATISTICAL REPORT
D2: SCHEDULE A: STATEMENT OF INCOME AND EXPENSES
D3: For the Calendar Year Ending December 31, 2022
C5: AGENCY NAME: | D5: Four Corners Title Company
C6: ADDRESS: | D6: 311 S. Third Street
C7: CONTACT NAME: | D7: Mary Villanueva
A8: Check One:
A9: X | B9: INDEPENDENT (NON-AFFILIATED) Title insurance agencies that are independently owned and write title insurance business
B10: one or more title insurance underwriters.
B12: AFFILIATED Title insurance agencies with 10% or greater ownership by a title insurance underwriter, including wholly-owned agencies.
B14: DIRECT Agency-type operations performed by the home or branch office of a title insurance underwriter. This does NOT include
B15: wholly-owned agencies.
C17: Part A: Revenue
C18: 1. | D18: Title insurance written premiums (from Schedule B) | E18: 327262
C19: 2. | D19: Less: Remitted title insurance premiums (from Schedule B) | E19: 73172
C20: 3. | D20: Retained title insurance premiums (from Schedule B) | E20: 254090
C21: 4. | D21: Other income (from Schedule C) | E21: 111121
C22: 5. | D22: Total Revenue | E22: =SUM(E20:E21) -> 365211
C24: Part B: Expenses
C25: 1. | D25: Employees' salaries and wages | E25: 78616
C26: 2. | D26: Owners' and partners' salaries and wages | E26: 77700
C27: 3. | D27: Employee benefits | E27: 622
C28: 4. | D28: Rent | E28: 6000
C29: 5. | D29: Insurance | E29: 8450
C30: 6. | D30: Legal expense | E30: 6329
C31: 7. | D31: Licenses, taxes and fees | E31: 415
C32: 8. | D32: Title plant expense and maintenance | E32: 9796
C33: 9. | D33: Office supplies | E33: 9784
C34: 10. | D34: Depreciation | E34: 1900
C35: 11. | D35: Automobile expense | E35: 578
C36: 12. | D36: Communication expense | E36: 9796
... C38: 14. | D38: Bad debts | E38: 100
C39: 15. | D39: Interest expense
C40: 16. | D40: Employee travel and lodging | E40: 430
C41: 17. | D41: Loss and loss adjustment expense (from Schedule D) | E41: 13064
C42: 18. | D42: Accounting and auditing expense | E42: 708
C43: 19. | D43: Public relations expense
C44: 20. | D44: Other expenses (from Schedule E) | E44: 17294
C45: 21. | D45: Total Expenses | E45: 241873
C47: Part C: Net Income for Ratemaking Purposes
...

Sheet G&P Inc. dba Gallup Title Co
D1: NEW MEXICO TITLE INSURANCE AGENTS STATISTICAL REPORT
D2: SCHEDULE A: STATEMENT OF INCOME AND EXPENSES
D3: For the Calendar Year Ending December 31, 2022
C5: AGENCY NAME: | D5: G&P, Inc. dba Gallup Title Company
C6: ADDRESS: | D6: P.O. Box 998, Gallup, NM 87305
C7: CONTACT NAME: | D7: Lyneve A. Garcia
A8: Check One:
A9: X | B9: INDEPENDENT (NON-AFFILIATED) Title insurance agencies that are independently owned and write title insurance business
B10: one or more title insurance underwriters.
B12: AFFILIATED Title insurance agencies with 10% or greater ownership by a title insurance underwriter, including wholly-owned agencies.
B14: DIRECT Agency-type operations performed by the home or branch office of a title insurance underwriter. This does NOT include
B15: wholly-owned agencies.
C17: Part A: Revenue
C18: 1. | D18: Title insurance written premiums (from Schedule B) | E18: 602469.99
C19: 2. | D19: Less: Remitted title insurance premiums (from Schedule B) | E19: 129150
C20: 3. | D20: Retained title insurance premiums (from Schedule B) | E20: 473319.99
C21: 4. | D21: Other income (from Schedule C) | E21: 234789.99
C22: 5. | D22: Total Revenue | E22: =SUM(E20:E21) -> 708109.98
C24: Part B: Expenses
C25: 1. | D25: Employees' salaries and wages | E25: 246744
C26: 2. | D26: Owners' and partners' salaries and wages | E26: 43229
C27: 3. | D27: Employee benefits | E27: 53131
C28: 4. | D28: Rent | E28: 60000
C29: 5. | D29: Insurance | E29: 8485
C30: 6. | D30: Legal expense | E30: 731
C31: 7. | D31: Licenses, taxes and fees | E31: 9478
C32: 8. | D32: Title plant expense and maintenance | E32: 58512
C33: 9. | D33: Office supplies | E33: 11828
C34: 10. | D34: Depreciation | E34: 8194
C35: 11. | D35: Automobile expense
C36: 12. | D36: Communication expense | E36: 19583
C37: 13. | D37: Education expense
C38: 14. | D38: Bad debts
C39: 15. | D39: Interest expense | E39: 13562
C40: 16. | D40: Employee travel and lodging
C41: 17. | D41: Loss and loss adjustment expense (from Schedule D) | E41: 6987
C42: 18. | D42: Accounting and auditing expense | E42: 15711
C43: 19. | D43: Public relations expense | E43: 8745
C44: 20. | D44: Other expenses (from Schedule E) | E44: 23731
C45: 21. | D45: Total Expenses | E45: 588651
...

Sheet Grant County Title Company Inc.
D1: NEW MEXICO TITLE INSURANCE AGENTS STATISTICAL REPORT
D2: SCHEDULE A: STATEMENT OF INCOME AND EXPENSES
D3: For the Calendar Year Ending December 31, 2022
C5: AGENCY NAME: | D5: GRANT COUNTY TITLE COMPANY INC.
C6: ADDRESS: | D6: PO BOX 534 SILVER CITY, NM 88062
C7: CONTACT NAME: | D7: MARISSA CASTRILLO
A8: Check One:
A9: X | B9: INDEPENDENT (NON-AFFILIATED) Title insurance agencies that are independently owned and write title insurance business
B10: one or more title insurance underwriters.
B12: AFFILIATED Title insurance agencies with 10% or greater ownership by a title insurance underwriter, including wholly-owned agencies.
B14: DIRECT Agency-type operations performed by the home or branch office of a title insurance underwriter. This does NOT include
B15: wholly-owned agencies.
C17: Part A: Revenue
C18: 1. | D18: Title insurance written premiums (from Schedule B) | E18: 979125
C19: 2. | D19: Less: Remitted title insurance premiums (from Schedule B) | E19: 197985
C20: 3. | D20: Retained title insurance premiums (from Schedule B) | E20: 781140
C21: 4. | D21: Other income (from Schedule C) | E21: 385367
C22: 5. | D22: Total Revenue | E22: =SUM(E20:E21) -> 1166507
C24: Part B: Expenses
C25: 1. | D25: Employees' salaries and wages | E25: 306008
C26: 2. | D26: Owners' and partners' salaries and wages | E26: 77580
C27: 3. | D27: Employee benefits | E27: 74365
C28: 4. | D28: Rent | E28: 48110
C29: 5. | D29: Insurance | E29: 10241
C30: 6. | D30: Legal expense
C31: 7. | D31: Licenses, taxes and fees | E31: 44552
C32: 8. | D32: Title plant expense and maintenance | E32: 16625
C33: 9. | D33: Office supplies | E33: 109932
C34: 10. | D34: Depreciation | E34: 73186
C35: 11. | D35: Automobile expense | E35: 4951
C36: 12. | D36: Communication expense | E36: 18081
C37: 13. | D37: Education expense | E37: 1400
C38: 14. | D38: Bad debts | E38: 2409
C39: 15. | D39: Interest expense | E39: 15468
C40: 16. | D40: Employee travel and lodging
C41: 17. | D41: Loss and loss adjustment expense (from Schedule D) | E41: 0
C42: 18. | D42: Accounting and auditing expense | E42: 2796
C43: 19. | D43: Public relations expense | E43: 10602
C44: 20. | D44: Other expenses (from Schedule E) | E44: 86799
C45: 21. | D45: Total Expenses | E45: 903105
...

Sheet Great Western Abstract & Title
D1: NEW MEXICO TITLE INSURANCE AGENTS STATISTICAL REPORT
D2: SCHEDULE A: STATEMENT OF INCOME AND EXPENSES
D3: For the Calendar Year Ending December 31, 2022
C5: AGENCY NAME: | D5: GREAT WESTERN ABSTRACT & TITLE COMPANY
C6: ADDRESS: | D6: 2161 HAMMERLAND, LAS CRUCES, NM
C7: CONTACT NAME: | D7: JOHN R. KING
A8: Check One:
A9: X | B9: INDEPENDENT (NON-AFFILIATED) Title insurance agencies that are independently owned and write title insurance business
B10: one or more title insurance underwriters.
B12: AFFILIATED Title insurance agencies with 10% or greater ownership by a title insurance underwriter, including wholly-owned agencies.
B14: DIRECT Agency-type operations performed by the home or branch office of a title insurance underwriter. This does NOT include
B15: wholly-owned agencies.
C17: Part A: Revenue
C18: 1. | D18: Title insurance written premiums (from Schedule B) | E18: 157492
C19: 2. | D19: Less: Remitted title insurance premiums (from Schedule B) | E19: 31477
C20: 3. | D20: Retained title insurance premiums (from Schedule B) | E20: 126015
C21: 4. | D21: Other income (from Schedule C) | E21: 0
C22: 5. | D22: Total Revenue | E22: =SUM(E20:E21) -> 126015
C24: Part B: Expenses
C25: 1. | D25: Employees' salaries and wages | E25: 39976
C26: 2. | D26: Owners' and partners' salaries and wages
C27: 3. | D27: Employee benefits
C28: 4. | D28: Rent | E28: 5573
C29: 5. | D29: Insurance | E29: 2789
C30: 6. | D30: Legal expense
C31: 7. | D31: Licenses, taxes and fees | E31: 80
C32: 8. | D32: Title plant expense and maintenance | E32: 162
C33: 9. | D33: Office supplies | E33: 2733
C34: 10. | D34: Depreciation
C35: 11. | D35: Automobile expense
C36: 12. | D36: Communication expense | E36: 1713
C37: 13. | D37: Education expense
C38: 14. | D38: Bad debts
C39: 15. | D39: Interest expense
C40: 16. | D40: Employee travel and lodging
C41: 17. | D41: Loss and loss adjustment expense (from Schedule D) | E41: 0
C42: 18. | D42: Accounting and auditing expense | E42: 7450
C43: 19. | D43: Public relations expense
C44: 20. | D44: Other expenses (from Schedule E) | E44: 9267
C45: 21. | D45: Total Expenses | E45: 69743
...

Sheet Guaranty Title Co.
D1: NEW MEXICO TITLE INSURANCE AGENTS STATISTICAL REPORT
D2: SCHEDULE A: STATEMENT OF INCOME AND EXPENSES
D3: For the Calendar Year Ending December 31, 2022
C5: AGENCY NAME: | D5: Guaranty Title Company
C6: ADDRESS: | D6: 102 S. Main Street, Suite B Carlsbad, NM 88220
C7: CONTACT NAME: | D7: Luke Strawn
A8: Check One:
A9: X | B9: INDEPENDENT (NON-AFFILIATED) Title insurance agencies that are independently owned and write title insurance business
B10: one or more title insurance underwriters.
B12: AFFILIATED Title insurance agencies with 10% or greater ownership by a title insurance underwriter, including wholly-owned agencies.
B14: DIRECT Agency-type operations performed by the home or branch office of a title insurance underwriter. This does NOT include
B15: wholly-owned agencies.
C17: Part A: Revenue
C18: 1. | D18: Title insurance written premiums (from Schedule B) | E18: 2633512
C19: 2. | D19: Less: Remitted title insurance premiums (from Schedule B) | E19: 645370
C20: 3. | D20: Retained title insurance premiums (from Schedule B) | E20: 1988142
C21: 4. | D21: Other income (from Schedule C) | E21: 338761
C22: 5. | D22: Total Revenue | E22: 2326903
C24: Part B: Expenses
C25: 1. | D25: Employees' salaries and wages | E25: 773875
C26: 2. | D26: Owners' and partners' salaries and wages
C27: 3. | D27: Employee benefits | E27: 155806
C28: 4. | D28: Rent | E28: 130344
C29: 5. | D29: Insurance | E29: 10342
C30: 6. | D30: Legal expense
C31: 7. | D31: Licenses, taxes and fees | E31: 8707
C32: 8. | D32: Title plant expense and maintenance
C33: 9. | D33: Office supplies | E33: 24367
C34: 10. | D34: Depreciation | E34: 161548
C35: 11. | D35: Automobile expense | E35: 1536
C36: 12. | D36: Communication expense | E36: 6951
C37: 13. | D37: Education expense
C38: 14. | D38: Bad debts
C39: 15. | D39: Interest expense | E39: 119759
C40: 16. | D40: Employee travel and lodging | E40: 16779
C41: 17. | D41: Loss and loss adjustment expense (from Schedule D) | E41: 54415
C42: 18. | D42: Accounting and auditing expense | E42: 7347
C43: 19. | D43: Public relations expense | E43: 7380
C44: 20. | D44: Other expenses (from Schedule E) | E44: 300645
C45: 21. | D45: Total Expenses | E45: 1779801
...

Sheet Heritage Title of Valencia Co 
D1: NEW MEXICO TITLE INSURANCE AGENTS STATISTICAL REPORT
D2: SCHEDULE A: STATEMENT OF INCOME AND EXPENSES
D3: For the Calendar Year Ending December 31, 2022
C5: AGENCY NAME: | D5: Heritage Title of Valencia County
C6: ADDRESS: | D6: 311A Cortez SE PO Box 1387 Los Lunas, NM 87031
C7: CONTACT NAME: | D7: Charles Griego
A8: Check One:
A9: X | B9: INDEPENDENT (NON-AFFILIATED) Title insurance agencies that are independently owned and write title insurance business
B10: one or more title insurance underwriters.
B12: AFFILIATED Title insurance agencies with 10% or greater ownership by a title insurance underwriter, including wholly-owned agencies.
B14: DIRECT Agency-type operations performed by the home or branch office of a title insurance underwriter. This does NOT include
B15: wholly-owned agencies.
C17: Part A: Revenue
C18: 1. | D18: Title insurance written premiums (from Schedule B) | E18: 366974.95
C19: 2. | D19: Less: Remitted title insurance premiums (from Schedule B) | E19: 75400.55
C20: 3. | D20: Retained title insurance premiums (from Schedule B) | E20: 291574.4
C21: 4. | D21: Other income (from Schedule C) | E21: 168678.52
C22: 5. | D22: Total Revenue | E22: =SUM(E20:E21) -> 460252.92
C24: Part B: Expenses
C25: 1. | D25: Employees' salaries and wages | E25: 213388.53
C26: 2. | D26: Owners' and partners' salaries and wages | E26: 62400
C27: 3. | D27: Employee benefits | E27: 67938.07
C28: 4. | D28: Rent
C29: 5. | D29: Insurance | E29: 4141.53
C30: 6. | D30: Legal expense
C31: 7. | D31: Licenses, taxes and fees | E31: 658.62
C32: 8. | D32: Title plant expense and maintenance | E32: 19151.83
C33: 9. | D33: Office supplies | E33: 9454.39
C34: 10. | D34: Depreciation | E34: 4863.68
C35: 11. | D35: Automobile expense | E35: 2421.88
C36: 12. | D36: Communication expense | E36: 2923.08
C37: 13. | D37: Education expense
C38: 14. | D38: Bad debts
C39: 15. | D39: Interest expense
C40: 16. | D40: Employee travel and lodging
C41: 17. | D41: Loss and loss adjustment expense (from Schedule D) | E41: 8517.73
C42: 18. | D42: Accounting and auditing expense | E42: 18113.62
C43: 19. | D43: Public relations expense | E43: 754.74
C44: 20. | D44: Other expenses (from Schedule E) | E44: 63523.61
C45: 21. | D45: Total Expenses | E45: 478251.31
...

Sheet Land Titles of Ruidoso
D1: NEW MEXICO TITLE INSURANCE AGENTS STATISTICAL REPORT
D2: SCHEDULE A: STATEMENT OF INCOME AND EXPENSES
D3: For the Calendar Year Ending December 31, 2022
C5: AGENCY NAME: | D5: Land Titles of Ruidoso, LLC
C6: ADDRESS: | D6: 508 Mechem Drive Ste D Ruidoso, NM 88345
C7: CONTACT NAME: | D7: Diana Proctor, General Manager
A8: Check One:
A9: x | B9: INDEPENDENT (NON-AFFILIATED) Title insurance agencies that are independently owned and write title insurance business
B10: one or more title insurance underwriters.
B12: AFFILIATED Title insurance agencies with 10% or greater ownership by a title insurance underwriter, including wholly-owned agencies.
B14: DIRECT Agency-type operations performed by the home or branch office of a title insurance underwriter. This does NOT include
B15: wholly-owned agencies.
C17: Part A: Revenue
C18: 1. | D18: Title insurance written premiums (from Schedule B) | E18: 2121691
C19: 2. | D19: Less: Remitted title insurance premiums (from Schedule B) | E19: 440363
C20: 3. | D20: Retained title insurance premiums (from Schedule B) | E20: 1681328
C21: 4. | D21: Other income (from Schedule C) | E21: 402414
C22: 5. | D22: Total Revenue | E22: =SUM(E20:E21) -> 2083742
C24: Part B: Expenses
C25: 1. | D25: Employees' salaries and wages | E25: 743144
C26: 2. | D26: Owners' and partners' salaries and wages | E26: 263600
C27: 3. | D27: Employee benefits | E27: 186290
C28: 4. | D28: Rent | E28: 40800
C29: 5. | D29: Insurance | E29: 15280
C30: 6. | D30: Legal expense
C31: 7. | D31: Licenses, taxes and fees | E31: 939
C32: 8. | D32: Title plant expense and maintenance | E32: 42719
C33: 9. | D33: Office supplies | E33: 52866
C34: 10. | D34: Depreciation | E34: 19607
C35: 11. | D35: Automobile expense | E35: 10182
C36: 12. | D36: Communication expense | E36: 17144
C37: 13. | D37: Education expense | E37: 1382
C38: 14. | D38: Bad debts
C39: 15. | D39: Interest expense | E39: -6
C40: 16. | D40: Employee travel and lodging | E40: 3368
C41: 17. | D41: Loss and loss adjustment expense (from Schedule D) | E41: 2217
C42: 18. | D42: Accounting and auditing expense | E42: 6749
C43: 19. | D43: Public relations expense | E43: 15144
C44: 20. | D44: Other expenses (from Schedule E) | E44: 76096
C45: 21. | D45: Total Expenses | E45: 1497521
...

Sheet Landmark Title Inc.
D1: NEW MEXICO TITLE INSURANCE AGENTS STATISTICAL REPORT
D2: SCHEDULE A: STATEMENT OF INCOME AND EXPENSES
D3: For the Calendar Year Ending December 31, 2022
C5: AGENCY NAME: | D5: Landmark Title, Inc.
C6: ADDRESS: | D6: PO BOX 1326 Clovis, NM 88102-1326
C7: CONTACT NAME: | D7: Michele Neff
A8: Check One:
A9: x | B9: INDEPENDENT (NON-AFFILIATED) Title insurance agencies that are independently owned and write title insurance business
B10: one or more title insurance underwriters.
B12: AFFILIATED Title insurance agencies with 10% or greater ownership by a title insurance underwriter, including wholly-owned agencies.
B14: DIRECT Agency-type operations performed by the home or branch office of a title insurance underwriter. This does NOT include
B15: wholly-owned agencies.
C17: Part A: Revenue
C18: 1. | D18: Title insurance written premiums (from Schedule B) | E18: 1510197.3
C19: 2. | D19: Less: Remitted title insurance premiums (from Schedule B) | E19: 462894.94
C20: 3. | D20: Retained title insurance premiums (from Schedule B) | E20: 1047302.3
C21: 4. | D21: Other income (from Schedule C) | E21: 594919.05
C22: 5. | D22: Total Revenue | E22: =SUM(E20:E21) -> 1642221.4
C24: Part B: Expenses
C25: 1. | D25: Employees' salaries and wages | E25: 696612
C26: 2. | D26: Owners' and partners' salaries and wages | E26: 24695.59
C27: 3. | D27: Employee benefits | E27: 67521
C28: 4. | D28: Rent | E28: 27985.29
C29: 5. | D29: Insurance | E29: 8517.17
C30: 6. | D30: Legal expense
C31: 7. | D31: Licenses, taxes and fees | E31: 3724.2
C32: 8. | D32: Title plant expense and maintenance | E32: 48913.42
C33: 9. | D33: Office supplies | E33: 30009.39
C34: 10. | D34: Depreciation | E34: 7288.31
C35: 11. | D35: Automobile expense | E35: 17749.15
C36: 12. | D36: Communication expense | E36: 36724.66
C37: 13. | D37: Education expense | E37: 2597
C38: 14. | D38: Bad debts
C39: 15. | D39: Interest expense | E39: 55411.28
C40: 16. | D40: Employee travel and lodging | E40: 820.44
C41: 17. | D41: Loss and loss adjustment expense (from Schedule D) | E41: 18858.05
C42: 18. | D42: Accounting and auditing expense | E42: 27510.91
C43: 19. | D43: Public relations expense | E43: 40907.94
C44: 20. | D44: Other expenses (from Schedule E) | E44: 100635.9
C45: 21. | D45: Total Expenses | E45: 1216481.7
...

Sheet Legal Description Inc.
D1: NEW MEXICO TITLE INSURANCE AGENTS STATISTICAL REPORT
D2: SCHEDULE A: STATEMENT OF INCOME AND EXPENSES
D3: For the Calendar Year Ending December 31, 2022
C5: AGENCY NAME: | D5: Legal Description Inc. dba Southwestern Abstract and Title
C6: ADDRESS: | D6: 1125 S. Main St., Las Cruces, NM 88005
C7: CONTACT NAME: | D7: Gricel R. Chavez
A8: Check One:
A9: X | B9: INDEPENDENT (NON-AFFILIATED) Title insurance agencies that are independently owned and write title insurance business
B10: one or more title insurance underwriters.
B12: AFFILIATED Title insurance agencies with 10% or greater ownership by a title insurance underwriter, including wholly-owned agencies.
B14: DIRECT Agency-type operations performed by the home or branch office of a title insurance underwriter. This does NOT include
B15: wholly-owned agencies.
C17: Part A: Revenue
C18: 1. | D18: Title insurance written premiums (from Schedule B) | E18: 2906872
C19: 2. | D19: Less: Remitted title insurance premiums (from Schedule B) | E19: 581374
C20: 3. | D20: Retained title insurance premiums (from Schedule B) | E20: 2325498
C21: 4. | D21: Other income (from Schedule C) | E21: 597824
C22: 5. | D22: Total Revenue | E22: =SUM(E20:E21) -> 2923322
C24: Part B: Expenses
C25: 1. | D25: Employees' salaries and wages | E25: 1080224
C26: 2. | D26: Owners' and partners' salaries and wages | E26: 223022
C27: 3. | D27: Employee benefits | E27: 175719
C28: 4. | D28: Rent | E28: 112232
C29: 5. | D29: Insurance | E29: 13561
C30: 6. | D30: Legal expense | E30: 0
C31: 7. | D31: Licenses, taxes and fees | E31: 76397
C32: 8. | D32: Title plant expense and maintenance | E32: 102684
C33: 9. | D33: Office supplies | E33: 54119
C34: 10. | D34: Depreciation | E34: 59491
C35: 11. | D35: Automobile expense | E35: 8202
C36: 12. | D36: Communication expense | E36: 21707
... C45: 21. | D45: Total Expenses | E45: 2329883
C47: Part C: Net Income for Ratemaking Purposes
C48: 1. | D48: Income (Loss) from Operations | E48: 593439
C50: Part D: Excluded Expenses
C51: 1. | D51: NMLTA lobbying expense | E51: 235
C52: 2. | D52: Direct lobbying expense
C53: 3. | D53: Political contributions
C54: 4. | D54: State and federal income tax expense
C55: 5. | D55: 1/2 of meals and entertainment expense | E55: 3943
...

Sheet Lincoln County Abstract & Title
D1: NEW MEXICO TITLE INSURANCE AGENTS STATISTICAL REPORT
D2: SCHEDULE A: STATEMENT OF INCOME AND EXPENSES
D3: For the Calendar Year Ending December 31, 2022
C5: AGENCY NAME: | D5: LINCOLN COUNTY ABSTRACT & TITLE
C6: ADDRESS: | D6: 1007 MECHEM DRIVE, RUIDOSO, NM 88345
C7: CONTACT NAME: | D7: SUE HARMON
A8: Check One:
A9: X | B9: INDEPENDENT (NON-AFFILIATED) Title insurance agencies that are independently owned and write title insurance business
B10: one or more title insurance underwriters.
B12: AFFILIATED Title insurance agencies with 10% or greater ownership by a title insurance underwriter, including wholly-owned agencies.
B14: DIRECT Agency-type operations performed by the home or branch office of a title insurance underwriter. This does NOT include
B15: wholly-owned agencies.
C17: Part A: Revenue
C18: 1. | D18: Title insurance written premiums (from Schedule B) | E18: 560243
C19: 2. | D19: Less: Remitted title insurance premiums (from Schedule B) | E19: 113038
C20: 3. | D20: Retained title insurance premiums (from Schedule B) | E20: 447205
C21: 4. | D21: Other income (from Schedule C) | E21: 306393
C22: 5. | D22: Total Revenue | E22: =SUM(E20:E21) -> 753598
C24: Part B: Expenses
C25: 1. | D25: Employees' salaries and wages | E25: 363316
C26: 2. | D26: Owners' and partners' salaries and wages
C27: 3. | D27: Employee benefits
C28: 4. | D28: Rent | E28: 7507
C29: 5. | D29: Insurance | E29: 26733
C30: 6. | D30: Legal expense
C31: 7. | D31: Licenses, taxes and fees | E31: 17180
C32: 8. | D32: Title plant expense and maintenance | E32: 11738
C33: 9. | D33: Office supplies | E33: 14561
C34: 10. | D34: Depreciation | E34: 66667
C35: 11. | D35: Automobile expense
C36: 12. | D36: Communication expense
C37: 13. | D37: Education expense
C38: 14. | D38: Bad debts
C39: 15. | D39: Interest expense
C40: 16. | D40: Employee travel and lodging | E40: 1908
C41: 17. | D41: Loss and loss adjustment expense (from Schedule D) | E41: 17066
C42: 18. | D42: Accounting and auditing expense | E42: 19606
C43: 19. | D43: Public relations expense | E43: 21544
C44: 20. | D44: Other expenses (from Schedule E) | E44: 163289
C45: 21. | D45: Total Expenses | E45: 731115
...

Sheet Nations Title Agency of NM
D1: NEW MEXICO TITLE INSURANCE AGENTS STATISTICAL REPORT
D2: SCHEDULE A: STATEMENT OF INCOME AND EXPENSES
D3: For the Calendar Year Ending December 31, 2022
C5: AGENCY NAME: | D5: Nations Title Agency of New Mexico
C6: ADDRESS: | D6: 9001 W 67th St, Merriam KS 66202
C7: CONTACT NAME: | D7: Bill Noel; dbocompliance@nationsholding.com
A8: Check One:
A9: X | B9: INDEPENDENT (NON-AFFILIATED) Title insurance agencies that are independently owned and write title insurance business
B10: one or more title insurance underwriters.
B12: AFFILIATED Title insurance agencies with 10% or greater ownership by a title insurance underwriter, including wholly-owned agencies.
B14: DIRECT Agency-type operations performed by the home or branch office of a title insurance underwriter. This does NOT include
B15: wholly-owned agencies.
C17: Part A: Revenue
C18: 1. | D18: Title insurance written premiums (from Schedule B) | E18: 15193
C19: 2. | D19: Less: Remitted title insurance premiums (from Schedule B) | E19: 3039
C20: 3. | D20: Retained title insurance premiums (from Schedule B) | E20: 12154
C21: 4. | D21: Other income (from Schedule C) | E21: 11987
C22: 5. | D22: Total Revenue | E22: =SUM(E20:E21) -> 24141
C24: Part B: Expenses
C25: 1. | D25: Employees' salaries and wages | E25: 0
C26: 2. | D26: Owners' and partners' salaries and wages | E26: 0
C27: 3. | D27: Employee benefits | E27: 1019
C28: 4. | D28: Rent | E28: 663
C29: 5. | D29: Insurance | E29: 500
C30: 6. | D30: Legal expense | E30: 249
C31: 7. | D31: Licenses, taxes and fees | E31: 2326
C32: 8. | D32: Title plant expense and maintenance | E32: 35960
C33: 9. | D33: Office supplies
C34: 10. | D34: Depreciation
C35: 11. | D35: Automobile expense
C36: 12. | D36: Communication expense
C37: 13. | D37: Education expense
C38: 14. | D38: Bad debts
C39: 15. | D39: Interest expense
C40: 16. | D40: Employee travel and lodging
C41: 17. | D41: Loss and loss adjustment expense (from Schedule D) | E41: 525
C42: 18. | D42: Accounting and auditing expense
C43: 19. | D43: Public relations expense
C44: 20. | D44: Other expenses (from Schedule E) | E44: 8833
C45: 21. | D45: Total Expenses | E45: 50075
...

Sheet NETCO, Inc
D1: NEW MEXICO TITLE INSURANCE AGENTS STATISTICAL REPORT
D2: SCHEDULE A: STATEMENT OF INCOME AND EXPENSES
D3: For the Calendar Year Ending December 31, 2022
C5: AGENCY NAME: | D5: NETCO, Inc.
C6: ADDRESS: | D6: 765 Ela Road Suite 302 Lake Zurich, IL 60047
C7: CONTACT NAME: | D7: Rob Biancalana
A8: Check One:
A9: X | B9: INDEPENDENT (NON-AFFILIATED) Title insurance agencies that are independently owned and write title insurance business
B10: one or more title insurance underwriters.
B12: AFFILIATED Title insurance agencies with 10% or greater ownership by a title insurance underwriter, including wholly-owned agencies.
B14: DIRECT Agency-type operations performed by the home or branch office of a title insurance underwriter. This does NOT include
B15: wholly-owned agencies.
C17: Part A: Revenue
C18: 1. | D18: Title insurance written premiums (from Schedule B) | E18: 5206
C19: 2. | D19: Less: Remitted title insurance premiums (from Schedule B) | E19: 5206
C20: 3. | D20: Retained title insurance premiums (from Schedule B) | E20: 0
C21: 4. | D21: Other income (from Schedule C) | E21: 53267
C22: 5. | D22: Total Revenue | E22: =SUM(E20:E21) -> 53267
C24: Part B: Expenses
C25: 1. | D25: Employees' salaries and wages | E25: 20430
C26: 2. | D26: Owners' and partners' salaries and wages
C27: 3. | D27: Employee benefits | E27: 2319
C28: 4. | D28: Rent | E28: 1902
C29: 5. | D29: Insurance | E29: 53
C30: 6. | D30: Legal expense
C31: 7. | D31: Licenses, taxes and fees | E31: 12
C32: 8. | D32: Title plant expense and maintenance
C33: 9. | D33: Office supplies | E33: 513
C34: 10. | D34: Depreciation
C35: 11. | D35: Automobile expense
C36: 12. | D36: Communication expense | E36: 351
C37: 13. | D37: Education expense
C38: 14. | D38: Bad debts
C39: 15. | D39: Interest expense
C40: 16. | D40: Employee travel and lodging | E40: 1612
