Workbook
Name SCH_A: #REF!
Name SCH_B: #REF!
Name SCH_C: #REF!
Name SCH_D: #REF!
Name SCH_E: #REF!
Name SCH_F: #REF!
Name SCH_G: #REF!
Name SCH_H: #REF!
Name SCH_I: #REF!
Name SCH_J: #REF!

Sheet Affidavit
E1: NEW MEXICO TITLE INSURANCE AGENTS STATISTICAL REPORT
E2: AFFIDAVIT
E3: For Calendar Year Ending December 31, 2023
A6: THE STATE OF | C6: New Mexico
A8: THE COUNTY OF | C8: Taos
A12: I, Evelyn J Trujillo, the president of Tierras Title LLC, being duly sworn, deposes and says that all of the income, expense and other informational items contained on the attached Schedules A through H of this named Company's Agents Statistical Report for the year ended December 31, 2023 are a full and true statement of income and expenses in accordance with the instructions provided, according to the best of my information, knowledge and belief.
C18: Signature
A20: SUBSCRIBED AND SWORN BEFORE ME this _____day of _______________, 2024.
A23: Notary Public
A26: My Commission Expires

Sheet Schedule A
D1: NEW MEXICO TITLE INSURANCE AGENTS STATISTICAL REPORT
D2: SCHEDULE A: STATEMENT OF INCOME AND EXPENSES
D3: For the Calendar Year Ending December 31, 2023
C5: AGENCY NAME: | D5: Tierras Title, LLC
C6: ADDRESS: | D6: 224 Cruz Alta Road, Suite I and H, Taos, NM 87571
C7: CONTACT NAME: | D7: Evelyn Jean Trujillo
A8: Check One:
A9: x | B9: INDEPENDENT (NON-AFFILIATED) Title insurance agencies that are independently owned and write title insurance business
B10: one or more title insurance underwriters.
B12: AFFILIATED Title insurance agencies with 10% or greater ownership by a title insurance underwriter, including wholly-owned agencies.
B14: DIRECT Agency-type operations performed by the home or branch office of a title insurance underwriter. This does NOT include
B15: wholly-owned agencies.
C17: Part A: Revenue
C18: 1. | D18: Title insurance written premiums (from Schedule B) | E18: ='Schedule B'!C34 -> 316049.39
C19: 2. | D19: Less: Remitted title insurance premiums (from Schedule B) | E19: ='Schedule B'!D34 -> 66796.93
C20: 3. | D20: Retained title insurance premiums (from Schedule B) | E20: ='Schedule B'!E34 -> 249252.46
C21: 4. | D21: Other income (from Schedule C) | E21: ='Schedule C'!F28 -> 128237.64
C22: 5. | D22: Total Revenue | E22: =SUM(E20:E21) -> 377490.1
C24: Part B: Expenses
C25: 1. | D25: Employees' salaries and wages | E25: 285743.84
C26: 2. | D26: Owners' and partners' salaries and wages | E26: 119673.1
C27: 3. | D27: Employee benefits | E27: 79104.34
C28: 4. | D28: Rent | E28: 45636.38
C29: 5. | D29: Insurance | E29: 2092.44
C30: 6. | D30: Legal expense | E30: 160
C31: 7. | D31: Licenses, taxes and fees | E31: 487.2
C32: 8. | D32: Title plant expense and maintenance | E32: 23705.31
C33: 9. | D33: Office supplies | E33: 9619.44
C34: 10. | D34: Depreciation | E34: 186
C35: 11. | D35: Automobile expense | E35: 359.61
C36: 12. | D36: Communication expense | E36: 19202.9
C37: 13. | D37: Education expense | E37: =1598+560 -> 2158
C38: 14. | D38: Bad debts
C39: 15. | D39: Interest expense | E39: 16753.65
C40: 16. | D40: Employee travel and lodging | E40: 987.02
C41: 17. | D41: Loss and loss adjustment expense (from Schedule D) | E41: ='Schedule D'!D12 -> 8157.49
C42: 18. | D42: Accounting and auditing expense | E42: 3775.57
C43: 19. | D43: Public relations expense | E43: =502.37+75 -> 577.37
C44: 20. | D44: Other expenses (from Schedule E) | E44: ='Schedule E'!D26 -> 55607.04
C45: 21. | D45: Total Expenses | E45: =SUM(E25:E44) -> 673986.7
...

Sheet Schedule B
B1: NEW MEXICO TITLE INSURANCE AGENT'S STATISTICAL REPORT
C2: SCHEDULE B: PREMIUMS BY UNDERWRITER
C3: ='Schedule A'!D3 -> For the Calendar Year Ending December 31, 2023
B4: 1 | C4: 2 | D4: 3 | E4: 4
B5: Name of Each | C5: Title Premiums Written by this Agency for the Total Calendar Year Reported | D5: Title Premiums Remitted or Owed by this Agency to Underwriters
B6: Underwriting Company | E6: Title Premiums
B7: for Which | E7: Retained by
B8: This Agency Charged Premiums | E8: This Agency
B9: Agents National Title Insurance Company | E9: =C9-D9 -> 0
B10: Alamo Title Insurance Company | E10: =C10-D10 -> 0
B11: Alliant National Title Insurance Company | E11: =C11-D11 -> 0
B12: American Digital Title Insurance Company | E12: =C12-D12 -> 0
B13: American Guaranty Title Insurance Company | E13: =C13-D13 -> 0
B14: AmTrust Title Insurance Company | E14: =C14-D14 -> 0
B15: Chicago Title Insurance Company | E15: =C15-D15 -> 0
B16: Commonwealth Land Title Insurance Company | E16: =C16-D16 -> 0
B17: DHI Title Insurance Company | E17: =C17-D17 -> 0
B18: Doma Title Insurance Company | E18: =C18-D18 -> 0
B19: Fidelity National Title Insurance Company | E19: =C19-D19 -> 0
B20: First American Title Guaranty Company | E20: =C20-D20 -> 0
... B24: National Title Insurance of New York, Inc. | E24: =C24-D24 -> 0
B25: Old Republic National Title Insurance Company | C25: 304117.44 | D25: 64410.54 | E25: =C25-D25 -> 239706.9
B26: Premier Land Title Insurance Company | E26: =C26-D26 -> 0
B27: Radian Title Insurance Inc. | E27: =C27-D27 -> 0
B28: Stewart Title Guaranty Company | C28: 11931.95 | D28: 2386.39 | E28: =C28-D28 -> 9545.56
B29: Title Resources Guaranty Company | E29: =C29-D29 -> 0
B30: US National Title Insurance Company | E30: =C30-D30 -> 0
B31: Westcor Land Title Insurance Company | E31: =C31-D31 -> 0
B32: WFG National Title Insurance Company | E32: =C32-D32 -> 0
B33: Other | E33: =C33-D33 -> 0
B34: Total | C34: =SUM(C9:C33) -> 316049.39 | D34: =SUM(D9:D33) -> 66796.93 | E34: =SUM(E9:E33) -> 249252.46
C35: (Carry total forward to | D35: (Carry total forward to | E35: (Carry total forward to
C36: Schedule A, line A-1) | D36: Schedule A, line A-2) | E36: Schedule A, line A-3)
C38: Percentage of premiums remitted: | D38: =IF(C34=0,0,D34/C34) -> 0.21134966
B40: =IF(D38=0," ",IF(D38<19.95%,"PERCENTAGE OF PREMIUMS REMITTED MUST BE GREATER THAN OR EQUAL TO 20%",""))

Sheet Schedule C
D1: NEW MEXICO TITLE INSURANCE AGENTS STATISTICAL REPORT
D2: SCHEDULE C: IDENTIFICATION OF OTHER INCOME
D3: ='Schedule A'!D3 -> For the Calendar Year Ending December 31, 2023
C5: Part A: Description of Income Item
C6: 1. | D6: Closing Fees | F6: 115105.91
C7: 2. | D7: Abstracting and Title Report Income | F7: 4175.08
C8: 3. | D8: Recording Fees | F8: -725
C9: 4. | D9: Copy Fees
C10: 5. | D10: Inspection Fees | F10: 1930.56
C11: 6. | D11: Interest Income
C13: Part B: Itemization of All Other Income
C14: 7. | D14: Rewards Card Income | F14: 800
C15: 8. | D15: Reimbursed Expenses for Cancellations | F15: 6951.09
C16: 9.
C17: 10.
C18: 11.
C19: 12.
C20: 13.
C21: 14.
C22: 15.
C23: 16.
C24: 17.
C25: 18.
C26: 19.
D28: Total Other Income (Carry forward to Schedule A, line A-4) | F28: =SUM(F6:F26) -> 128237.64
C31: Part C: Commitments Not Paid | F31: Premium per Commitment
C32: 1. | D32: Number of Commitments Not Paid for | E32: 21 | F32: 100
C33: 2. | D33: Premium Lost on Unpaid Commitments | E33: =E32*F32 -> 2100

Sheet Schedule D
C1: NEW MEXICO TITLE INSURANCE AGENTS STATISTICAL REPORT
C2: SCHEDULE D: LOSSES AND LOSS ADJUSTMENT EXPENSES
C3: ='Schedule A'!D3 -> For the Calendar Year Ending December 31, 2023
B5: Description of Expense Item
B6: 1. | C6: Closing Losses | D6: 2550.04
B7: 2. | C7: Agent Errors
B8: 3. | C8: Unfair Trade Practices
B9: 4. | C9: Loss Adjustment Expenses
B10: 5. | C10: E&O or Fidelity Insurance | D10: 5607.45
C12: Total (Carry forward to Schedule A, line B-17) | D12: =SUM(D6:D10) -> 8157.49

Sheet Schedule E
C1: NEW MEXICO TITLE INSURANCE AGENTS STATISTICAL REPORT
C2: SCHEDULE E: IDENTIFICATION OF OTHER EXPENSES
C3: ='Schedule A'!D3 -> For the Calendar Year Ending December 31, 2023
B5: Part A - Deductible Expenses
B6: 1. | C6: Alarm System Monitoring | D6: 387.3
B7: 2. | C7: Bank Service Charges | D7: 1803.4
B8: 3. | C8: Computer and Internet Expenses | D8: 18821.91
B9: 4. | C9: Outside Labor | D9: 5090
B10: 5. | C10: Payroll Processing Fees | D10: 6081.83
B11: 6. | C11: Amortization Expense | D11: 16803
B12: 7. | C12: Utilities | D12: 4014.7
B13: 8. | C13: Copies Expense | D13: 2604.9
B14: 9.
B15: 10.
B16: 11.
B17: 12.
B18: 13.
B19: 14.
B20: 15.
B21: 16.
B22: 17.
B23: 18.
B24: 19.
B25: 20.
C26: Total (Carry forward to Schedule A, line B-20) | D26: =SUM(D6:D25) -> 55607.04
B28: Part B - Excluded Expenses
B29: 1. | C29: Contributions and Donations | D29: 125
B30: 2.
B31: 3.
B32: 4.
B33: 5.
B34: 6.
B35: 7.
B36: 8.
B37: 9.
B38: 10.
B39: 11.
B40: 12.
B41: 13.
... B48: 20.
...

Sheet Schedule F
B1: NEW MEXICO TITLE INSURANCE AGENTS STATISTICAL REPORT
B2: ='Schedule A'!D3 -> For the Calendar Year Ending December 31, 2023
B4: SCHEDULE F: INCOME OR EXPENSE ALLOCATION FROM OTHER AFFILIATED ENTITIES
A5: 1 | B5: 2 | C5: 3 | D5: 4 | E5: 5
E6: Reported
E7: Elsewhere
B8: Relation to | D8: Description | E8: in This
A9: Name and Address of Affiliated Agency | B9: Your Agency | C9: Amount | D9: Code | E9: Report?
B20: Total: | C20: =SUM(C10:C19) -> 0
C22: Description | D22: Code
C23: Income | D23: I
C24: Expense Allocation | D24: E
D28: Yes
D29: No

Sheet Schedule G
C1: NEW MEXICO TITLE INSURANCE AGENTS STATISTICAL REPORT
C2: SCHEDULE G: PREMIUMS BY COUNTY
C3: ='Schedule A'!D3 -> For the Calendar Year Ending December 31, 2023
C4: Title
C5: Premiums
B6: County | C6: Written
B7: Bernalillo
B8: Catron
B9: Chaves
B10: Cibola
B11: Colfax
B12: Curry
B13: De Baca
B14: Dona Ana
B15: Eddy
B16: Grant
B17: Guadalupe
B18: Harding
... B35: Socorro
B36: Taos | C36: 316049.39
B37: Torrance
B38: Union
B39: Valencia
B40: TOTAL | C40: =SUM(C7:C39) -> 316049.39
B42: Crosscheck with Schedule B: | C42: ='Schedule B'!C34 -> 316049.39
B43: Difference: | C43: =ROUND(C42-C40,0) -> 0

Sheet Schedule H
C1: NEW MEXICO TITLE INSURANCE AGENTS STATISTICAL REPORT
C2: ='Schedule A'!D3 -> For the Calendar Year Ending December 31, 2023
C4: SCHEDULE H: IDENTIFICATION OF OWNERS
B5: 1 | C5: 2 | D5: 3
B6: Name of Each | C6: Percentage of | D6: Description
B7: Individual or Entity | C7: Agency Owned | D7: Code (see below)
B8: Evelyn Jean Trujillo | C8: 1 | D8: NA
B22: Total | C22: =SUM(C8:C21) -> 1
C24: Code | D24: Description
C25: A | D25: Attorney
C26: REA | D26: Real estate agent
C27: RED | D27: Real estate developer
C28: L | D28: Lending institution
C29: UW | D29: Underwriter
C30: AFB | D30: Affiliated Business Arrangement
C31: MSA | D31: Marketing Services Agreement
C32: NA | D32: None of the above
