Workbook

Sheet Aggregation
A1: Exhibit X
A2: FORM 5 OF THE NEW MEXICO TITLE INSURANCE UNDERWRITERS STATISTICAL REPORT
A3: Aggregated for all Underwriters
A4: For the Year Ended December 31, 2024
L6: Number of | M6: Number of
A7: Years in | L7: Claims | M7: Claims
A8: Which | L8: Closed | M8: Closed
A9: Policies | L9: With | M9: Without
A10: Were | B10: Part A: Cumulative Paid Losses and Allocated Loss Adjustment Expenses at Year End (000 omitted) | L10: Loss | M10: Loss
A11: Written | B11: 2015 | C11: =B11+1 -> 2016 | D11: =C11+1 -> 2017 | E11: =D11+1 -> 2018 | F11: =E11+1 -> 2019 | G11: =F11+1 -> 2020 | H11: =G11+1 -> 2021 | I11: =H11+1 -> 2022 | J11: =I11+1 -> 2023 | K11: =J11+1 -> 2024 | L11: Payment | M11: Payment
A12: Prior | B12: =ROUND(SUM('Alamo Title Insurance:WFG National Title Insurance Co'!B12),0) -> 39533 | C12: =ROUND(SUM('Alamo Title Insurance:WFG National Title Insurance Co'!C12),0) -> 39593 | D12: =ROUND(SUM('Alamo Title Insurance:WFG National Title Insurance Co'!D12),0) -> 39605 | E12: =ROUND(SUM('Alamo Title Insurance:WFG National Title Insurance Co'!E12),0) -> 39658 | F12: =ROUND(SUM('Alamo Title Insurance:WFG National Title Insurance Co'!F12),0) -> 39669 | G12: =ROUND(SUM('Alamo Title Insurance:WFG National Title Insurance Co'!G12),0) -> 39725 | H12: =ROUND(SUM('Alamo Title Insurance:WFG National Title Insurance Co'!H12),0) -> 39818 | I12: =ROUND(SUM('Alamo Title Insurance:WFG National Title Insurance Co'!I12),0) -> 39818 | ... M12: =ROUND(SUM('Alamo Title Insurance:WFG National Title Insurance Co'!M12),0) -> 1923
A13: 1995 | B13: =ROUND(SUM('Alamo Title Insurance:WFG National Title Insurance Co'!B13),0) -> 5087 | C13: =ROUND(SUM('Alamo Title Insurance:WFG National Title Insurance Co'!C13),0) -> 5108 | D13: =ROUND(SUM('Alamo Title Insurance:WFG National Title Insurance Co'!D13),0) -> 5870 | E13: =ROUND(SUM('Alamo Title Insurance:WFG National Title Insurance Co'!E13),0) -> 5870 | F13: =ROUND(SUM('Alamo Title Insurance:WFG National Title Insurance Co'!F13),0) -> 5869 | G13: =ROUND(SUM('Alamo Title Insurance:WFG National Title Insurance Co'!G13),0) -> 5869 | H13: =ROUND(SUM('Alamo Title Insurance:WFG National Title Insurance Co'!H13),0) -> 5871 | I13: =ROUND(SUM('Alamo Title Insurance:WFG National Title Insurance Co'!I13),0) -> 5870 | ... M13: =ROUND(SUM('Alamo Title Insurance:WFG National Title Insurance Co'!M13),0) -> 142
A14: =A13+1 -> 1996 | B14: =ROUND(SUM('Alamo Title Insurance:WFG National Title Insurance Co'!B14),0) -> 3286 | C14: =ROUND(SUM('Alamo Title Insurance:WFG National Title Insurance Co'!C14),0) -> 3286 | D14: =ROUND(SUM('Alamo Title Insurance:WFG National Title Insurance Co'!D14),0) -> 3286 | E14: =ROUND(SUM('Alamo Title Insurance:WFG National Title Insurance Co'!E14),0) -> 3286 | F14: =ROUND(SUM('Alamo Title Insurance:WFG National Title Insurance Co'!F14),0) -> 3286 | G14: =ROUND(SUM('Alamo Title Insurance:WFG National Title Insurance Co'!G14),0) -> 3286 | H14: =ROUND(SUM('Alamo Title Insurance:WFG National Title Insurance Co'!H14),0) -> 3299 | I14: =ROUND(SUM('Alamo Title Insurance:WFG National Title Insurance Co'!I14),0) -> 3601 | ... M14: =ROUND(SUM('Alamo Title Insurance:WFG National Title Insurance Co'!M14),0) -> 145
A15: =A14+1 -> 1997 | B15: =ROUND(SUM('Alamo Title Insurance:WFG National Title Insurance Co'!B15),0) -> 2469 | C15: =ROUND(SUM('Alamo Title Insurance:WFG National Title Insurance Co'!C15),0) -> 2477 | D15: =ROUND(SUM('Alamo Title Insurance:WFG National Title Insurance Co'!D15),0) -> 2515 | E15: =ROUND(SUM('Alamo Title Insurance:WFG National Title Insurance Co'!E15),0) -> 2541 | F15: =ROUND(SUM('Alamo Title Insurance:WFG National Title Insurance Co'!F15),0) -> 2547 | G15: =ROUND(SUM('Alamo Title Insurance:WFG National Title Insurance Co'!G15),0) -> 2547 | H15: =ROUND(SUM('Alamo Title Insurance:WFG National Title Insurance Co'!H15),0) -> 2597 | I15: =ROUND(SUM('Alamo Title Insurance:WFG National Title Insurance Co'!I15),0) -> 2625 | ... M15: =ROUND(SUM('Alamo Title Insurance:WFG National Title Insurance Co'!M15),0) -> 165
A16: =A15+1 -> 1998 | B16: =ROUND(SUM('Alamo Title Insurance:WFG National Title Insurance Co'!B16),0) -> 3154 | C16: =ROUND(SUM('Alamo Title Insurance:WFG National Title Insurance Co'!C16),0) -> 3156 | D16: =ROUND(SUM('Alamo Title Insurance:WFG National Title Insurance Co'!D16),0) -> 3187 | E16: =ROUND(SUM('Alamo Title Insurance:WFG National Title Insurance Co'!E16),0) -> 3187 | F16: =ROUND(SUM('Alamo Title Insurance:WFG National Title Insurance Co'!F16),0) -> 3218 | G16: =ROUND(SUM('Alamo Title Insurance:WFG National Title Insurance Co'!G16),0) -> 3219 | H16: =ROUND(SUM('Alamo Title Insurance:WFG National Title Insurance Co'!H16),0) -> 3219 | I16: =ROUND(SUM('Alamo Title Insurance:WFG National Title Insurance Co'!I16),0) -> 3219 | ... M16: =ROUND(SUM('Alamo Title Insurance:WFG National Title Insurance Co'!M16),0) -> 224
A17: =A16+1 -> 1999 | B17: =ROUND(SUM('Alamo Title Insurance:WFG National Title Insurance Co'!B17),0) -> 8395 | C17: =ROUND(SUM('Alamo Title Insurance:WFG National Title Insurance Co'!C17),0) -> 8451 | D17: =ROUND(SUM('Alamo Title Insurance:WFG National Title Insurance Co'!D17),0) -> 8500 | E17: =ROUND(SUM('Alamo Title Insurance:WFG National Title Insurance Co'!E17),0) -> 8475 | F17: =ROUND(SUM('Alamo Title Insurance:WFG National Title Insurance Co'!F17),0) -> 8484 | G17: =ROUND(SUM('Alamo Title Insurance:WFG National Title Insurance Co'!G17),0) -> 8485 | H17: =ROUND(SUM('Alamo Title Insurance:WFG National Title Insurance Co'!H17),0) -> 8492 | I17: =ROUND(SUM('Alamo Title Insurance:WFG National Title Insurance Co'!I17),0) -> 8472 | ... M17: =ROUND(SUM('Alamo Title Insurance:WFG National Title Insurance Co'!M17),0) -> 190
A18: =A17+1 -> 2000 | B18: =ROUND(SUM('Alamo Title Insurance:WFG National Title Insurance Co'!B18),0) -> 7204 | C18: =ROUND(SUM('Alamo Title Insurance:WFG National Title Insurance Co'!C18),0) -> 7221 | D18: =ROUND(SUM('Alamo Title Insurance:WFG National Title Insurance Co'!D18),0) -> 7235 | E18: =ROUND(SUM('Alamo Title Insurance:WFG National Title Insurance Co'!E18),0) -> 7238 | F18: =ROUND(SUM('Alamo Title Insurance:WFG National Title Insurance Co'!F18),0) -> 7249 | G18: =ROUND(SUM('Alamo Title Insurance:WFG National Title Insurance Co'!G18),0) -> 7249 | H18: =ROUND(SUM('Alamo Title Insurance:WFG National Title Insurance Co'!H18),0) -> 7249 | I18: =ROUND(SUM('Alamo Title Insurance:WFG National Title Insurance Co'!I18),0) -> 7252 | ... M18: =ROUND(SUM('Alamo Title Insurance:WFG National Title Insurance Co'!M18),0) -> 177
A19: =A18+1 -> 2001 | B19: =ROUND(SUM('Alamo Title Insurance:WFG National Title Insurance Co'!B19),0) -> 3577 | C19: =ROUND(SUM('Alamo Title Insurance:WFG National Title Insurance Co'!C19),0) -> 3602 | D19: =ROUND(SUM('Alamo Title Insurance:WFG National Title Insurance Co'!D19),0) -> 3607 | E19: =ROUND(SUM('Alamo Title Insurance:WFG National Title Insurance Co'!E19),0) -> 3617 | F19: =ROUND(SUM('Alamo Title Insurance:WFG National Title Insurance Co'!F19),0) -> 3627 | G19: =ROUND(SUM('Alamo Title Insurance:WFG National Title Insurance Co'!G19),0) -> 3634 | H19: =ROUND(SUM('Alamo Title Insurance:WFG National Title Insurance Co'!H19),0) -> 3634 | I19: =ROUND(SUM('Alamo Title Insurance:WFG National Title Insurance Co'!I19),0) -> 3635 | ... M19: =ROUND(SUM('Alamo Title Insurance:WFG National Title Insurance Co'!M19),0) -> 170
A20: =A19+1 -> 2002 | B20: =ROUND(SUM('Alamo Title Insurance:WFG National Title Insurance Co'!B20),0) -> 2946 | C20: =ROUND(SUM('Alamo Title Insurance:WFG National Title Insurance Co'!C20),0) -> 2948 | D20: =ROUND(SUM('Alamo Title Insurance:WFG National Title Insurance Co'!D20),0) -> 2995 | E20: =ROUND(SUM('Alamo Title Insurance:WFG National Title Insurance Co'!E20),0) -> 2997 | F20: =ROUND(SUM('Alamo Title Insurance:WFG National Title Insurance Co'!F20),0) -> 2996 | G20: =ROUND(SUM('Alamo Title Insurance:WFG National Title Insurance Co'!G20),0) -> 3003 | H20: =ROUND(SUM('Alamo Title Insurance:WFG National Title Insurance Co'!H20),0) -> 3017 | I20: =ROUND(SUM('Alamo Title Insurance:WFG National Title Insurance Co'!I20),0) -> 3018 | ... M20: =ROUND(SUM('Alamo Title Insurance:WFG National Title Insurance Co'!M20),0) -> 171
A21: =A20+1 -> 2003 | B21: =ROUND(SUM('Alamo Title Insurance:WFG National Title Insurance Co'!B21),0) -> 4479 | C21: =ROUND(SUM('Alamo Title Insurance:WFG National Title Insurance Co'!C21),0) -> 4521 | D21: =ROUND(SUM('Alamo Title Insurance:WFG National Title Insurance Co'!D21),0) -> 4539 | E21: =ROUND(SUM('Alamo Title Insurance:WFG National Title Insurance Co'!E21),0) -> 4552 | F21: =ROUND(SUM('Alamo Title Insurance:WFG National Title Insurance Co'!F21),0) -> 4677 | G21: =ROUND(SUM('Alamo Title Insurance:WFG National Title Insurance Co'!G21),0) -> 4707 | H21: =ROUND(SUM('Alamo Title Insurance:WFG National Title Insurance Co'!H21),0) -> 4707 | I21: =ROUND(SUM('Alamo Title Insurance:WFG National Title Insurance Co'!I21),0) -> 4712 | ... M21: =ROUND(SUM('Alamo Title Insurance:WFG National Title Insurance Co'!M21),0) -> 260
A22: =A21+1 -> 2004 | B22: =ROUND(SUM('Alamo Title Insurance:WFG National Title Insurance Co'!B22),0) -> 4446 | C22: =ROUND(SUM('Alamo Title Insurance:WFG National Title Insurance Co'!C22),0) -> 4601 | D22: =ROUND(SUM('Alamo Title Insurance:WFG National Title Insurance Co'!D22),0) -> 4690 | E22: =ROUND(SUM('Alamo Title Insurance:WFG National Title Insurance Co'!E22),0) -> 4705 | F22: =ROUND(SUM('Alamo Title Insurance:WFG National Title Insurance Co'!F22),0) -> 4717 | G22: =ROUND(SUM('Alamo Title Insurance:WFG National Title Insurance Co'!G22),0) -> 4812 | H22: =ROUND(SUM('Alamo Title Insurance:WFG National Title Insurance Co'!H22),0) -> 4853 | I22: =ROUND(SUM('Alamo Title Insurance:WFG National Title Insurance Co'!I22),0) -> 4868 | ... M22: =ROUND(SUM('Alamo Title Insurance:WFG National Title Insurance Co'!M22),0) -> 249
A23: =A22+1 -> 2005 | B23: =ROUND(SUM('Alamo Title Insurance:WFG National Title Insurance Co'!B23),0) -> 5148 | C23: =ROUND(SUM('Alamo Title Insurance:WFG National Title Insurance Co'!C23),0) -> 5219 | D23: =ROUND(SUM('Alamo Title Insurance:WFG National Title Insurance Co'!D23),0) -> 5303 | E23: =ROUND(SUM('Alamo Title Insurance:WFG National Title Insurance Co'!E23),0) -> 5417 | F23: =ROUND(SUM('Alamo Title Insurance:WFG National Title Insurance Co'!F23),0) -> 5548 | G23: =ROUND(SUM('Alamo Title Insurance:WFG National Title Insurance Co'!G23),0) -> 5813 | H23: =ROUND(SUM('Alamo Title Insurance:WFG National Title Insurance Co'!H23),0) -> 5826 | I23: =ROUND(SUM('Alamo Title Insurance:WFG National Title Insurance Co'!I23),0) -> 5840 | ... M23: =ROUND(SUM('Alamo Title Insurance:WFG National Title Insurance Co'!M23),0) -> 297
A24: =A23+1 -> 2006 | B24: =ROUND(SUM('Alamo Title Insurance:WFG National Title Insurance Co'!B24),0) -> 5276 | C24: =ROUND(SUM('Alamo Title Insurance:WFG National Title Insurance Co'!C24),0) -> 5683 | D24: =ROUND(SUM('Alamo Title Insurance:WFG National Title Insurance Co'!D24),0) -> 6085 | E24: =ROUND(SUM('Alamo Title Insurance:WFG National Title Insurance Co'!E24),0) -> 6266 | F24: =ROUND(SUM('Alamo Title Insurance:WFG National Title Insurance Co'!F24),0) -> 6309 | G24: =ROUND(SUM('Alamo Title Insurance:WFG National Title Insurance Co'!G24),0) -> 6363 | H24: =ROUND(SUM('Alamo Title Insurance:WFG National Title Insurance Co'!H24),0) -> 6367 | I24: =ROUND(SUM('Alamo Title Insurance:WFG National Title Insurance Co'!I24),0) -> 6421 | ... M24: =ROUND(SUM('Alamo Title Insurance:WFG National Title Insurance Co'!M24),0) -> 429
A25: =A24+1 -> 2007 | B25: =ROUND(SUM('Alamo Title Insurance:WFG National Title Insurance Co'!B25),0) -> 5480 | C25: =ROUND(SUM('Alamo Title Insurance:WFG National Title Insurance Co'!C25),0) -> 5923 | D25: =ROUND(SUM('Alamo Title Insurance:WFG National Title Insurance Co'!D25),0) -> 6217 | E25: =ROUND(SUM('Alamo Title Insurance:WFG National Title Insurance Co'!E25),0) -> 6339 | F25: =ROUND(SUM('Alamo Title Insurance:WFG National Title Insurance Co'!F25),0) -> 6477 | G25: =ROUND(SUM('Alamo Title Insurance:WFG National Title Insurance Co'!G25),0) -> 6623 | H25: =ROUND(SUM('Alamo Title Insurance:WFG National Title Insurance Co'!H25),0) -> 6634 | I25: =ROUND(SUM('Alamo Title Insurance:WFG National Title Insurance Co'!I25),0) -> 6721 | ... M25: =ROUND(SUM('Alamo Title Insurance:WFG National Title Insurance Co'!M25),0) -> 434
... A33: =A32+1 -> 2015 | B33: =ROUND(SUM('Alamo Title Insurance:WFG National Title Insurance Co'!B33),0) -> 92 | C33: =ROUND(SUM('Alamo Title Insurance:WFG National Title Insurance Co'!C33),0) -> 403 | D33: =ROUND(SUM('Alamo Title Insurance:WFG National Title Insurance Co'!D33),0) -> 606 | E33: =ROUND(SUM('Alamo Title Insurance:WFG National Title Insurance Co'!E33),0) -> 639 | F33: =ROUND(SUM('Alamo Title Insurance:WFG National Title Insurance Co'!F33),0) -> 688 | G33: =ROUND(SUM('Alamo Title Insurance:WFG National Title Insurance Co'!G33),0) -> 701 | H33: =ROUND(SUM('Alamo Title Insurance:WFG National Title Insurance Co'!H33),0) -> 709 | I33: =ROUND(SUM('Alamo Title Insurance:WFG National Title Insurance Co'!I33),0) -> 764 | ... M33: =ROUND(SUM('Alamo Title Insurance:WFG National Title Insurance Co'!M33),0) -> 39
A34: =A33+1 -> 2016 | C34: =ROUND(SUM('Alamo Title Insurance:WFG National Title Insurance Co'!C34),0) -> 305 | D34: =ROUND(SUM('Alamo Title Insurance:WFG National Title Insurance Co'!D34),0) -> 381 | E34: =ROUND(SUM('Alamo Title Insurance:WFG National Title Insurance Co'!E34),0) -> 525 | F34: =ROUND(SUM('Alamo Title Insurance:WFG National Title Insurance Co'!F34),0) -> 622 | G34: =ROUND(SUM('Alamo Title Insurance:WFG National Title Insurance Co'!G34),0) -> 672 | H34: =ROUND(SUM('Alamo Title Insurance:WFG National Title Insurance Co'!H34),0) -> 835 | I34: =ROUND(SUM('Alamo Title Insurance:WFG National Title Insurance Co'!I34),0) -> 932 | J34: =ROUND(SUM('Alamo Title Insurance:WFG National Title Insurance Co'!J34),0) -> 972 | ... M34: =ROUND(SUM('Alamo Title Insurance:WFG National Title Insurance Co'!M34),0) -> 46
A35: =A34+1 -> 2017 | D35: =ROUND(SUM('Alamo Title Insurance:WFG National Title Insurance Co'!D35),0) -> 64 | E35: =ROUND(SUM('Alamo Title Insurance:WFG National Title Insurance Co'!E35),0) -> 151 | F35: =ROUND(SUM('Alamo Title Insurance:WFG National Title Insurance Co'!F35),0) -> 475 | G35: =ROUND(SUM('Alamo Title Insurance:WFG National Title Insurance Co'!G35),0) -> 510 | H35: =ROUND(SUM('Alamo Title Insurance:WFG National Title Insurance Co'!H35),0) -> 530 | I35: =ROUND(SUM('Alamo Title Insurance:WFG National Title Insurance Co'!I35),0) -> 547 | J35: =ROUND(SUM('Alamo Title Insurance:WFG National Title Insurance Co'!J35),0) -> 549 | K35: =ROUND(SUM('Alamo Title Insurance:WFG National Title Insurance Co'!K35),0) -> 620 | ... M35: =ROUND(SUM('Alamo Title Insurance:WFG National Title Insurance Co'!M35),0) -> 29
A36: =A35+1 -> 2018 | E36: =ROUND(SUM('Alamo Title Insurance:WFG National Title Insurance Co'!E36),0) -> 10 | F36: =ROUND(SUM('Alamo Title Insurance:WFG National Title Insurance Co'!F36),0) -> 279 | G36: =ROUND(SUM('Alamo Title Insurance:WFG National Title Insurance Co'!G36),0) -> 419 | H36: =ROUND(SUM('Alamo Title Insurance:WFG National Title Insurance Co'!H36),0) -> 670 | I36: =ROUND(SUM('Alamo Title Insurance:WFG National Title Insurance Co'!I36),0) -> 975 | J36: =ROUND(SUM('Alamo Title Insurance:WFG National Title Insurance Co'!J36),0) -> 977 | K36: =ROUND(SUM('Alamo Title Insurance:WFG National Title Insurance Co'!K36),0) -> 993 | L36: =ROUND(SUM('Alamo Title Insurance:WFG National Title Insurance Co'!L36),0) -> 33 | M36: =ROUND(SUM('Alamo Title Insurance:WFG National Title Insurance Co'!M36),0) -> 32
A37: =A36+1 -> 2019 | F37: =ROUND(SUM('Alamo Title Insurance:WFG National Title Insurance Co'!F37),0) -> 72 | G37: =ROUND(SUM('Alamo Title Insurance:WFG National Title Insurance Co'!G37),0) -> 349 | H37: =ROUND(SUM('Alamo Title Insurance:WFG National Title Insurance Co'!H37),0) -> 468 | I37: =ROUND(SUM('Alamo Title Insurance:WFG National Title Insurance Co'!I37),0) -> 572 | J37: =ROUND(SUM('Alamo Title Insurance:WFG National Title Insurance Co'!J37),0) -> 941 | K37: =ROUND(SUM('Alamo Title Insurance:WFG National Title Insurance Co'!K37),0) -> 1072 | L37: =ROUND(SUM('Alamo Title Insurance:WFG National Title Insurance Co'!L37),0) -> 27 | M37: =ROUND(SUM('Alamo Title Insurance:WFG National Title Insurance Co'!M37),0) -> 34
A38: =A37+1 -> 2020 | G38: =ROUND(SUM('Alamo Title Insurance:WFG National Title Insurance Co'!G38),0) -> 55 | H38: =ROUND(SUM('Alamo Title Insurance:WFG National Title Insurance Co'!H38),0) -> 1283 | I38: =ROUND(SUM('Alamo Title Insurance:WFG National Title Insurance Co'!I38),0) -> 1468 | J38: =ROUND(SUM('Alamo Title Insurance:WFG National Title Insurance Co'!J38),0) -> 1562 | K38: =ROUND(SUM('Alamo Title Insurance:WFG National Title Insurance Co'!K38),0) -> 1837 | L38: =ROUND(SUM('Alamo Title Insurance:WFG National Title Insurance Co'!L38),0) -> 30 | M38: =ROUND(SUM('Alamo Title Insurance:WFG National Title Insurance Co'!M38),0) -> 38
A39: =A38+1 -> 2021 | H39: =ROUND(SUM('Alamo Title Insurance:WFG National Title Insurance Co'!H39),0) -> 36 | I39: =ROUND(SUM('Alamo Title Insurance:WFG National Title Insurance Co'!I39),0) -> 337 | J39: =ROUND(SUM('Alamo Title Insurance:WFG National Title Insurance Co'!J39),0) -> 637 | K39: =ROUND(SUM('Alamo Title Insurance:WFG National Title Insurance Co'!K39),0) -> 1138 | L39: =ROUND(SUM('Alamo Title Insurance:WFG National Title Insurance Co'!L39),0) -> 24 | M39: =ROUND(SUM('Alamo Title Insurance:WFG National Title Insurance Co'!M39),0) -> 50
A40: =A39+1 -> 2022 | I40: =ROUND(SUM('Alamo Title Insurance:WFG National Title Insurance Co'!I40),0) -> 249 | J40: =ROUND(SUM('Alamo Title Insurance:WFG National Title Insurance Co'!J40),0) -> 375 | K40: =ROUND(SUM('Alamo Title Insurance:WFG National Title Insurance Co'!K40),0) -> 566 | L40: =ROUND(SUM('Alamo Title Insurance:WFG National Title Insurance Co'!L40),0) -> 16 | M40: =ROUND(SUM('Alamo Title Insurance:WFG National Title Insurance Co'!M40),0) -> 22
A41: =A40+1 -> 2023 | J41: =ROUND(SUM('Alamo Title Insurance:WFG National Title Insurance Co'!J41),0) -> 65 | K41: =ROUND(SUM('Alamo Title Insurance:WFG National Title Insurance Co'!K41),0) -> 314 | L41: =ROUND(SUM('Alamo Title Insurance:WFG National Title Insurance Co'!L41),0) -> 11 | M41: =ROUND(SUM('Alamo Title Insurance:WFG National Title Insurance Co'!M41),0) -> 10
A42: =A41+1 -> 2024 | K42: =ROUND(SUM('Alamo Title Insurance:WFG National Title Insurance Co'!K42),0) -> 139 | L42: =ROUND(SUM('Alamo Title Insurance:WFG National Title Insurance Co'!L42),0) -> 3 | M42: =ROUND(SUM('Alamo Title Insurance:WFG National Title Insurance Co'!M42),0) -> 9
J43: 2023 | K43: 2024
I44: Total: | J44: =SUM(J12:J41) -> 124922 | K44: =SUM(K12:K42)+3 -> 128378
G45: Total Payments During 2024: | K45: =K44-J44 -> 3456

Sheet Alamo Title Insurance
A1: NEW MEXICO TITLE INSURANCE UNDERWRITERS STATISTICAL REPORT
A2: FORM 5: DIRECT PAID LOSS DEVELOPMENT
B3: For Calendar Year Ending December 31, 2024
A4: NEW MEXICO EXPERIENCE ONLY
E5: Insurance Company: | F5: Alamo Title Insurance
L6: Number of | M6: Number of
A7: Years in | L7: Claims | M7: Claims
A8: Which | L8: Closed | M8: Closed
A9: Policies | L9: With | M9: Without
A10: Were | F10: Part A: Cumulative Paid Losses and Allocated Loss Adjustment Expenses at Year End (000 omitted) | L10: Loss | M10: Loss
A11: Written | B11: 2015 | C11: =B11+1 -> 2016 | D11: =C11+1 -> 2017 | E11: =D11+1 -> 2018 | F11: =E11+1 -> 2019 | G11: =F11+1 -> 2020 | H11: =G11+1 -> 2021 | I11: =H11+1 -> 2022 | J11: =I11+1 -> 2023 | K11: =J11+1 -> 2024 | L11: Payment | M11: Payment
A12: Prior | B12: 18 | C12: 18 | D12: 18 | E12: 18 | F12: 18 | G12: 18 | H12: 18 | I12: 18 | J12: 18 | K12: 18 | L12: 2 | M12: 1
A13: 1995 | B13: 1007.7317 | C13: 1028.7317 | D13: 1790.7317 | E13: 1790.7317 | F13: 1790.7317 | G13: 1790.7317 | H13: 1791 | I13: 1790 | J13: 1790 | K13: 1790 | L13: 6 | M13: 6
A14: =1+A13 -> 1996 | B14: 92.268 | C14: 92.268 | D14: 92.268 | E14: 92.268 | F14: 92.268 | G14: 92.268 | H14: 105 | I14: 407 | J14: 570 | K14: 1778 | L14: 4 | M14: 9
A15: =1+A14 -> 1997 | B15: 82 | C15: 82 | D15: 82 | E15: 82 | F15: 82 | G15: 82 | H15: 82 | I15: 82 | J15: 82 | K15: 82 | L15: 5 | M15: 8
A16: =1+A15 -> 1998 | B16: 197.42903 | C16: 197.42903 | D16: 197.42903 | E16: 197.42903 | F16: 197.42903 | G16: 197.55603 | H16: 198 | I16: 198 | J16: 198 | K16: 198 | L16: 14 | M16: 24
A17: =1+A16 -> 1999 | B17: 111 | C17: 111 | D17: 111 | E17: 111 | F17: 111 | G17: 111 | H17: 111 | I17: 111 | J17: 111 | K17: 111 | L17: 3 | M17: 2
A18: =1+A17 -> 2000 | B18: 1 | C18: 1 | D18: 1 | E18: 1 | F18: 1 | G18: 1 | H18: 1 | I18: 1 | J18: 1 | K18: 1 | L18: 2 | M18: 1
A19: =1+A18 -> 2001 | B19: 33 | C19: 33 | D19: 33 | E19: 33 | F19: 33 | G19: 33 | H19: 33 | I19: 33 | J19: 33 | K19: 33 | L19: 4 | M19: 3
A20: =1+A19 -> 2002 | B20: 0 | C20: 0 | D20: 0 | E20: 0 | F20: 0 | G20: 0 | H20: 0 | I20: 0 | J20: 0 | K20: 0 | L20: 0 | M20: 0
A21: =1+A20 -> 2003 | B21: 0 | C21: 0 | D21: 0 | E21: 0 | F21: 0 | G21: 0 | H21: 0 | I21: 0 | J21: 0 | K21: 0 | L21: 0 | M21: 0
A22: =1+A21 -> 2004 | B22: 5 | C22: 5 | D22: 5 | E22: 5 | F22: 5 | G22: 5 | H22: 5 | I22: 5 | J22: 5 | K22: 5 | L22: 1 | M22: 0
A23: =1+A22 -> 2005 | B23: 0 | C23: 0 | D23: 0 | E23: 0 | F23: 0 | G23: 0 | H23: 0 | I23: 0 | J23: 0 | K23: 0 | L23: 0 | M23: 0
A24: =1+A23 -> 2006 | B24: 0 | C24: 0 | D24: 0 | E24: 0 | F24: 0 | G24: 0 | H24: 0 | I24: 0 | J24: 0 | K24: 0 | L24: 0 | M24: 0
A25: =1+A24 -> 2007 | B25: 0 | C25: 0 | D25: 0 | E25: 0 | F25: 0 | G25: 0 | H25: 0 | I25: 0 | J25: 0 | K25: 0 | L25: 0 | M25: 1
... A33: =1+A32 -> 2015 | B33: 0 | C33: 0 | D33: 0 | E33: 0 | F33: 0 | G33: 0 | H33: 0 | I33: 0 | J33: 0 | K33: 0 | L33: 0 | M33: 0
A34: =1+A33 -> 2016 | C34: 0 | D34: 0 | E34: 0 | F34: 0 | G34: 0 | H34: 0 | I34: 0 | J34: 0 | K34: 0 | L34: 0 | M34: 0
A35: =1+A34 -> 2017 | D35: 0 | E35: 0 | F35: 0 | G35: 0 | H35: 0 | I35: 0 | J35: 0 | K35: 0 | L35: 0 | M35: 0
A36: =1+A35 -> 2018 | E36: 0 | F36: 0 | G36: 0 | H36: 0 | I36: 0 | J36: 0 | K36: 0 | L36: 0 | M36: 0
A37: =1+A36 -> 2019 | F37: 0 | G37: 0 | H37: 0 | I37: 0 | J37: 0 | K37: 0 | L37: 0 | M37: 0
A38: =1+A37 -> 2020 | G38: 0 | H38: 0 | I38: 0 | J38: 0 | K38: 0 | L38: 0 | M38: 0
A39: =1+A38 -> 2021 | H39: 0 | I39: 0 | J39: 0 | K39: 0 | L39: 0 | M39: 0
A40: =1+A39 -> 2022 | I40: 0 | J40: 0 | K40: 0 | L40: 0 | M40: 0
A41: =1+A40 -> 2023 | J41: 0 | K41: 0 | L41: 0 | M41: 0
A42: =1+A41 -> 2024 | K42: 0 | L42: 0 | M42: 0
J43: 2023 | K43: 2024
I44: Total: | J44: =SUM(J12:J41) -> 2808 | K44: =SUM(K12:K42) -> 4016
J45: Total Payments during 2024: | K45: =K44-J44 -> 1208
J46: New Mexico Direct Losses Paid as shown in NAIC Annual Statement Schedule T: | K46: 1208
J47: Difference: | K47: =K45-K46 -> 0
...

Sheet Alliant National Title Ins Co
A1: NEW MEXICO TITLE INSURANCE UNDERWRITERS STATISTICAL REPORT
A2: FORM 5: DIRECT PAID LOSS DEVELOPMENT
B3: For Calendar Year Ending December 31, 2024
A4: NEW MEXICO EXPERIENCE ONLY
E5: Insurance Company: | F5: Alliant National Title Insurance Company, Inc.
L6: Number of | M6: Number of
A7: Years in | L7: Claims | M7: Claims
A8: Which | L8: Closed | M8: Closed
A9: Policies | L9: With | M9: Without
A10: Were | F10: Part A: Cumulative Paid Losses and Allocated Loss Adjustment Expenses at Year End (000 omitted) | L10: Loss | M10: Loss
A11: Written | B11: 2015 | C11: =B11+1 -> 2016 | D11: =C11+1 -> 2017 | E11: =D11+1 -> 2018 | F11: =E11+1 -> 2019 | G11: =F11+1 -> 2020 | H11: =G11+1 -> 2021 | I11: =H11+1 -> 2022 | J11: =I11+1 -> 2023 | K11: =J11+1 -> 2024 | L11: Payment | M11: Payment
A12: Prior | B12: 0 | C12: 0 | D12: 0 | E12: 0 | F12: 0 | G12: 0 | H12: 0 | I12: 0 | J12: 0 | K12: 0 | L12: 0 | M12: 0
A13: 1995 | B13: 0 | C13: 0 | D13: 0 | E13: 0 | F13: 0 | G13: 0 | H13: 0 | I13: 0 | J13: 0 | K13: 0 | L13: 0 | M13: 0
A14: =1+A13 -> 1996 | B14: 0 | C14: 0 | D14: 0 | E14: 0 | F14: 0 | G14: 0 | H14: 0 | I14: 0 | J14: 0 | K14: 0 | L14: 0 | M14: 0
A15: =1+A14 -> 1997 | B15: 0 | C15: 0 | D15: 0 | E15: 0 | F15: 0 | G15: 0 | H15: 0 | I15: 0 | J15: 0 | K15: 0 | L15: 0 | M15: 0
A16: =1+A15 -> 1998 | B16: 0 | C16: 0 | D16: 0 | E16: 0 | F16: 0 | G16: 0 | H16: 0 | I16: 0 | J16: 0 | K16: 0 | L16: 0 | M16: 0
A17: =1+A16 -> 1999 | B17: 0 | C17: 0 | D17: 0 | E17: 0 | F17: 0 | G17: 0 | H17: 0 | I17: 0 | J17: 0 | K17: 0 | L17: 0 | M17: 0
A18: =1+A17 -> 2000 | B18: 0 | C18: 0 | D18: 0 | E18: 0 | F18: 0 | G18: 0 | H18: 0 | I18: 0 | J18: 0 | K18: 0 | L18: 0 | M18: 0
A19: =1+A18 -> 2001 | B19: 0 | C19: 0 | D19: 0 | E19: 0 | F19: 0 | G19: 0 | H19: 0 | I19: 0 | J19: 0 | K19: 0 | L19: 0 | M19: 0
A20: =1+A19 -> 2002 | B20: 0 | C20: 0 | D20: 0 | E20: 0 | F20: 0 | G20: 0 | H20: 0 | I20: 0 | J20: 0 | K20: 0 | L20: 0 | M20: 0
A21: =1+A20 -> 2003 | B21: 0 | C21: 0 | D21: 0 | E21: 0 | F21: 0 | G21: 0 | H21: 0 | I21: 0 | J21: 0 | K21: 0 | L21: 0 | M21: 0
A22: =1+A21 -> 2004 | B22: 0 | C22: 0 | D22: 0 | E22: 0 | F22: 0 | G22: 0 | H22: 0 | I22: 0 | J22: 0 | K22: 0 | L22: 0 | M22: 0
A23: =1+A22 -> 2005 | B23: 0 | C23: 0 | D23: 0 | E23: 0 | F23: 0 | G23: 0 | H23: 0 | I23: 0 | J23: 0 | K23: 0 | L23: 0 | M23: 0
A24: =1+A23 -> 2006 | B24: 0 | C24: 0 | D24: 0 | E24: 0 | F24: 0 | G24: 0 | H24: 0 | I24: 0 | J24: 0 | K24: 0 | L24: 0 | M24: 0
A25: =1+A24 -> 2007 | B25: 0 | C25: 0 | D25: 0 | E25: 0 | F25: 0 | G25: 0 | H25: 0 | I25: 0 | J25: 0 | K25: 0 | L25: 0 | M25: 0
... A33: =1+A32 -> 2015 | B33: 0 | C33: 0 | D33: 0 | E33: 0 | F33: 0 | G33: 0 | H33: 0 | I33: 0 | J33: 0 | K33: 0 | L33: 0 | M33: 0
A34: =1+A33 -> 2016 | C34: 0 | D34: 0 | E34: 0 | F34: 0 | G34: 0 | H34: 0 | I34: 0 | J34: 0 | K34: 0 | L34: 0 | M34: 0
A35: =1+A34 -> 2017 | D35: 0 | E35: 0 | F35: 0 | G35: 0 | H35: 0 | I35: 0 | J35: 0 | K35: 0 | L35: 0 | M35: 0
A36: =1+A35 -> 2018 | E36: 0 | F36: 7.416 | G36: 45 | H36: 45 | I36: 45 | J36: 45 | K36: 45 | L36: 1 | M36: 0
A37: =1+A36 -> 2019 | F37: 2.5 | G37: 33 | H37: 33.9 | I37: 35.547 | J37: 36 | K37: 36 | L37: 2 | M37: 1
A38: =1+A37 -> 2020 | G38: 0 | H38: 743.25 | I38: 744.329 | J38: 744 | K38: 744 | L38: 3 | M38: 0
A39: =1+A38 -> 2021 | H39: 0.728 | I39: 0.728 | J39: 2 | K39: 2 | L39: 3 | M39: 0
A40: =1+A39 -> 2022 | I40: 0 | J40: 15 | K40: 23 | L40: 1 | M40: 0
A41: =1+A40 -> 2023 | J41: 0 | K41: 0 | L41: 1 | M41: 0
A42: =1+A41 -> 2024 | K42: 0 | L42: 0 | M42: 0
J43: 2023 | K43: 2024
I44: Total: | J44: =SUM(J12:J41) -> 842 | K44: =SUM(K12:K42) -> 850
J45: Total Payments during 2024: | K45: =K44-J44 -> 8
J46: New Mexico Direct Losses Paid as shown in NAIC Annual Statement Schedule T: | K46: 8
J47: Difference: | K47: =K45-K46 -> 0
...

Sheet AmTrust Title Insurance Co
A1: NEW MEXICO TITLE INSURANCE UNDERWRITERS STATISTICAL REPORT
A2: FORM 5: DIRECT PAID LOSS DEVELOPMENT
B3: For Calendar Year Ending December 31, 2024
A4: NEW MEXICO EXPERIENCE ONLY
E5: Insurance Company: | F5: AmTrust Title Insurance Company
L6: Number of | M6: Number of
A7: Years in | L7: Claims | M7: Claims
A8: Which | L8: Closed | M8: Closed
A9: Policies | L9: With | M9: Without
A10: Were | F10: Part A: Cumulative Paid Losses and Allocated Loss Adjustment Expenses at Year End (000 omitted) | L10: Loss | M10: Loss
A11: Written | B11: 2015 | C11: =B11+1 -> 2016 | D11: =C11+1 -> 2017 | E11: =D11+1 -> 2018 | F11: =E11+1 -> 2019 | G11: =F11+1 -> 2020 | H11: =G11+1 -> 2021 | I11: =H11+1 -> 2022 | J11: =I11+1 -> 2023 | K11: =J11+1 -> 2024 | L11: Payment | M11: Payment
A12: Prior | B12: 0 | C12: 0 | D12: 0 | E12: 0 | F12: 0 | G12: 0 | H12: 0 | I12: 0 | J12: 0 | K12: 0 | L12: 0 | M12: 0
A13: 1995 | B13: 0 | C13: 0 | D13: 0 | E13: 0 | F13: 0 | G13: 0 | H13: 0 | I13: 0 | J13: 0 | K13: 0 | L13: 0 | M13: 0
A14: =1+A13 -> 1996 | B14: 0 | C14: 0 | D14: 0 | E14: 0 | F14: 0 | G14: 0 | H14: 0 | I14: 0 | J14: 0 | K14: 0 | L14: 0 | M14: 0
A15: =1+A14 -> 1997 | B15: 0 | C15: 0 | D15: 0 | E15: 0 | F15: 0 | G15: 0 | H15: 0 | I15: 0 | J15: 0 | K15: 0 | L15: 0 | M15: 0
A16: =1+A15 -> 1998 | B16: 0 | C16: 0 | D16: 0 | E16: 0 | F16: 0 | G16: 0 | H16: 0 | I16: 0 | J16: 0 | K16: 0 | L16: 0 | M16: 0
A17: =1+A16 -> 1999 | B17: 0 | C17: 0 | D17: 0 | E17: 0 | F17: 0 | G17: 0 | H17: 0 | I17: 0 | J17: 0 | K17: 0 | L17: 0 | M17: 0
A18: =1+A17 -> 2000 | B18: 0 | C18: 0 | D18: 0 | E18: 0 | F18: 0 | G18: 0 | H18: 0 | I18: 0 | J18: 0 | K18: 0 | L18: 0 | M18: 0
A19: =1+A18 -> 2001 | B19: 0 | C19: 0 | D19: 0 | E19: 0 | F19: 0 | G19: 0 | H19: 0 | I19: 0 | J19: 0 | K19: 0 | L19: 0 | M19: 0
A20: =1+A19 -> 2002 | B20: 0 | C20: 0 | D20: 0 | E20: 0 | F20: 0 | G20: 0 | H20: 0 | I20: 0 | J20: 0 | K20: 0 | L20: 0 | M20: 0
A21: =1+A20 -> 2003 | B21: 0 | C21: 0 | D21: 0 | E21: 0 | F21: 0 | G21: 0 | H21: 0 | I21: 0 | J21: 0 | K21: 0 | L21: 0 | M21: 0
A22: =1+A21 -> 2004 | B22: 0 | C22: 0 | D22: 0 | E22: 0 | F22: 0 | G22: 0 | H22: 0 | I22: 0 | J22: 0 | K22: 0 | L22: 0 | M22: 0
A23: =1+A22 -> 2005 | B23: 0 | C23: 0 | D23: 0 | E23: 0 | F23: 0 | G23: 0 | H23: 0 | I23: 0 | J23: 0 | K23: 0 | L23: 0 | M23: 0
A24: =1+A23 -> 2006 | B24: 0 | C24: 0 | D24: 0 | E24: 0 | F24: 0 | G24: 0 | H24: 0 | I24: 0 | J24: 0 | K24: 0 | L24: 0 | M24: 0
A25: =1+A24 -> 2007 | B25: 0 | C25: 0 | D25: 0 | E25: 0 | F25: 0 | G25: 0 | H25: 0 | I25: 0 | J25: 0 | K25: 0 | L25: 0 | M25: 0
... A33: =1+A32 -> 2015 | B33: 0 | C33: 0 | D33: 0 | E33: 0 | F33: 0 | G33: 0 | H33: 0 | I33: 0 | J33: 0 | K33: 0 | L33: 0 | M33: 0
A34: =1+A33 -> 2016 | C34: 0 | D34: 0 | E34: 0 | F34: 0 | G34: 0 | H34: 0 | I34: 0 | J34: 0 | K34: 0 | L34: 0 | M34: 0
A35: =1+A34 -> 2017 | D35: 0 | E35: 0 | F35: 0 | G35: 0 | H35: 0 | I35: 0 | J35: 0 | K35: 0 | L35: 0 | M35: 0
A36: =1+A35 -> 2018 | E36: 0 | F36: 0 | G36: 0 | H36: 0 | I36: 0 | J36: 0 | K36: 0 | L36: 0 | M36: 0
A37: =1+A36 -> 2019 | F37: 0 | G37: 0 | H37: 0 | I37: 0 | J37: 0 | K37: 0 | L37: 0 | M37: 0
A38: =1+A37 -> 2020 | G38: 0 | H38: 0 | I38: 0 | J38: 0 | K38: 0 | L38: 0 | M38: 0
A39: =1+A38 -> 2021 | H39: 0 | I39: 0 | J39: 0 | K39: 0 | L39: 0 | M39: 0
A40: =1+A39 -> 2022 | I40: 0 | J40: 0 | K40: 0 | L40: 0 | M40: 0
A41: =1+A40 -> 2023 | J41: 0 | K41: 0 | L41: 0 | M41: 0
A42: =1+A41 -> 2024 | K42: 0 | L42: 0 | M42: 0
J43: 2023 | K43: 2024
I44: Total: | J44: =SUM(J12:J41) -> 0 | K44: =SUM(K12:K42) -> 0
J45: Total Payments during 2024: | K45: =K44-J44 -> 0
J46: New Mexico Direct Losses Paid as shown in NAIC Annual Statement Schedule T:
J47: Difference: | K47: =K45-K46 -> 0
...

Sheet Chicago Title Insurance Company
A1: NEW MEXICO TITLE INSURANCE UNDERWRITERS STATISTICAL REPORT
A2: FORM 5: DIRECT PAID LOSS DEVELOPMENT
B3: For Calendar Year Ending December 31, 2024
A4: NEW MEXICO EXPERIENCE ONLY
E5: Insurance Company: | F5: Chicago Title Insurance Company
L6: Number of | M6: Number of
A7: Years in | L7: Claims | M7: Claims
A8: Which | L8: Closed | M8: Closed
A9: Policies | L9: With | M9: Without
A10: Were | F10: Part A: Cumulative Paid Losses and Allocated Loss Adjustment Expenses at Year End (000 omitted) | L10: Loss | M10: Loss
A11: Written | B11: 2015 | C11: =B11+1 -> 2016 | D11: =C11+1 -> 2017 | E11: =D11+1 -> 2018 | F11: =E11+1 -> 2019 | G11: =F11+1 -> 2020 | H11: =G11+1 -> 2021 | I11: =H11+1 -> 2022 | J11: =I11+1 -> 2023 | K11: =J11+1 -> 2024 | L11: Payment | M11: Payment
A12: Prior | B12: 6869 | C12: 6869 | D12: 6870 | E12: 6871.7 | F12: 6871.7 | G12: 6871.7 | H12: 6871.7 | I12: 6871.7 | J12: 6872 | K12: 6871 | L12: 746 | M12: 430
A13: 1995 | B13: 224 | C13: 224 | D13: 224 | E13: 224 | F13: 224.175 | G13: 224 | H13: 224 | I13: 224 | J13: 224 | K13: 224 | L13: 11 | M13: 19
A14: =1+A13 -> 1996 | B14: 158 | C14: 158 | D14: 158 | E14: 158 | F14: 158 | G14: 158 | H14: 158 | I14: 158 | J14: 158 | K14: 158 | L14: 8 | M14: 10
A15: =1+A14 -> 1997 | B15: 158 | C15: 158 | D15: 158 | E15: 158 | F15: 158 | G15: 158 | H15: 158 | I15: 158 | J15: 158 | K15: 158 | L15: 14 | M15: 12
A16: =1+A15 -> 1998 | B16: 203 | C16: 203 | D16: 203 | E16: 203 | F16: 233.7911 | G16: 234 | H16: 234 | I16: 234 | J16: 234 | K16: 234 | L16: 16 | M16: 21
A17: =1+A16 -> 1999 | B17: 40 | C17: 40 | D17: 40 | E17: 40 | F17: 40 | G17: 40 | H17: 40 | I17: 40 | J17: 40 | K17: 40 | L17: 11 | M17: 12
A18: =1+A17 -> 2000 | B18: 484 | C18: 489 | D18: 493 | E18: 496.429 | F18: 496.429 | G18: 496 | H18: 496 | I18: 496 | J18: 496 | K18: 496 | L18: 13 | M18: 9
A19: =1+A18 -> 2001 | B19: 50 | C19: 50 | D19: 50 | E19: 50 | F19: 50 | G19: 51 | H19: 51 | I19: 51 | J19: 51 | K19: 51 | L19: 10 | M19: 10
A20: =1+A19 -> 2002 | B20: 200 | C20: 200 | D20: 200 | E20: 200 | F20: 200.4249 | G20: 200 | H20: 200 | I20: 200 | J20: 200 | K20: 200 | L20: 10 | M20: 8
A21: =1+A20 -> 2003 | B21: 108 | C21: 108 | D21: 109 | E21: 109 | F21: 109 | G21: 109 | H21: 109 | I21: 109 | J21: 121 | K21: 121 | L21: 12 | M21: 13
A22: =1+A21 -> 2004 | B22: 205 | C22: 210 | D22: 215 | E22: 216.2372 | F22: 216.2372 | G22: 216 | H22: 219 | I22: 219 | J22: 219 | K22: 219 | L22: 11 | M22: 11
A23: =1+A22 -> 2005 | B23: 16 | C23: 16 | D23: 16 | E23: 16 | F23: 16 | G23: 16 | H23: 16 | I23: 16 | J23: 16 | K23: 19 | L23: 6 | M23: 12
A24: =1+A23 -> 2006 | B24: 186 | C24: 186 | D24: 195 | E24: 214.7925 | F24: 216.80805 | G24: 218 | H24: 228 | I24: 262 | J24: 382 | K24: 631 | L24: 15 | M24: 17
A25: =1+A24 -> 2007 | B25: 249 | C25: 244 | D25: 248 | E25: 266.26112 | F25: 268.88462 | G25: 270 | H25: 272 | I25: 272 | J25: 273 | K25: 274 | L25: 24 | M25: 23
... A33: =1+A32 -> 2015 | B33: 0 | C33: 1 | D33: 1 | E33: 1 | F33: 23 | G33: 24 | H33: 31 | I33: 30 | J33: 62 | K33: 62 | L33: 7 | M33: 2
A34: =1+A33 -> 2016 | C34: 2 | D34: 22 | E34: 47 | F34: 58 | G34: 58 | H34: 58 | I34: 62 | J34: 71 | K34: 72 | L34: 3 | M34: 3
A35: =1+A34 -> 2017 | D35: 0 | E35: 3 | F35: 12 | G35: 19 | H35: 22 | I35: 24 | J35: 26 | K35: 33 | L35: 5 | M35: 2
A36: =1+A35 -> 2018 | E36: 0 | F36: 1 | G36: 4 | H36: 17 | I36: 17 | J36: 17 | K36: 17 | L36: 3 | M36: 0
A37: =1+A36 -> 2019 | F37: 0 | G37: 86 | H37: 148 | I37: 148 | J37: 145 | K37: 140 | L37: 3 | M37: 0
A38: =1+A37 -> 2020 | G38: 0 | H38: 0 | I38: 0 | J38: 0 | K38: 0 | L38: 1 | M38: 0
A39: =1+A38 -> 2021 | H39: 0 | I39: 0 | J39: 0 | K39: 0 | L39: 0 | M39: 2
A40: =1+A39 -> 2022 | I40: 0 | J40: 0 | K40: 6 | L40: 0 | M40: 0
A41: =1+A40 -> 2023 | J41: 0 | K41: 36 | L41: 1 | M41: 0
A42: =1+A41 -> 2024 | K42: 0 | L42: 0 | M42: 0
J43: 2023 | K43: 2024
I44: Total: | J44: =SUM(J12:J41) -> 10263 | K44: =SUM(K12:K42) -> 10594
J45: Total Payments during 2024: | K45: =K44-J44 -> 331
J46: New Mexico Direct Losses Paid as shown in NAIC Annual Statement Schedule T: | K46: 331
J47: Difference: | K47: =K45-K46 -> 0
...

Sheet Commonwealth Land Title Ins Co
A1: NEW MEXICO TITLE INSURANCE UNDERWRITERS STATISTICAL REPORT
A2: FORM 5: DIRECT PAID LOSS DEVELOPMENT
B3: For Calendar Year Ending December 31, 2024
A4: NEW MEXICO EXPERIENCE ONLY
E5: Insurance Company: | F5: Commonwealth Land Title Insurance Company
L6: Number of | M6: Number of
A7: Years in | L7: Claims | M7: Claims
A8: Which | L8: Closed | M8: Closed
A9: Policies | L9: With | M9: Without
A10: Were | F10: Part A: Cumulative Paid Losses and Allocated Loss Adjustment Expenses at Year End (000 omitted) | L10: Loss | M10: Loss
A11: Written | B11: 2015 | C11: =B11+1 -> 2016 | D11: =C11+1 -> 2017 | E11: =D11+1 -> 2018 | F11: =E11+1 -> 2019 | G11: =F11+1 -> 2020 | H11: =G11+1 -> 2021 | I11: =H11+1 -> 2022 | J11: =I11+1 -> 2023 | K11: =J11+1 -> 2024 | L11: Payment | M11: Payment
A12: Prior | B12: 2421 | C12: 2470 | D12: 2474 | E12: 2477 | F12: 2488 | G12: 2489 | H12: 2537 | I12: 2545 | J12: 2545 | K12: 2545 | L12: 165 | M12: 131
A13: 1995 | B13: 275 | C13: 275 | D13: 275 | E13: 275 | F13: 275 | G13: 275 | H13: 275 | I13: 275 | J13: 275 | K13: 275 | L13: 12 | M13: 17
A14: =1+A13 -> 1996 | B14: 468 | C14: 468 | D14: 468 | E14: 468 | F14: 468 | G14: 468 | H14: 468 | I14: 468 | J14: 468 | K14: 468 | L14: 15 | M14: 16
A15: =1+A14 -> 1997 | B15: 340 | C15: 345 | D15: 349 | E15: 372 | F15: 372 | G15: 372 | H15: 372 | I15: 372 | J15: 372 | K15: 372 | L15: 26 | M15: 23
A16: =1+A15 -> 1998 | B16: 568 | C16: 569 | D16: 569 | E16: 569 | F16: 569 | G16: 569 | H16: 569 | I16: 569 | J16: 569 | K16: 569 | L16: 49 | M16: 44
A17: =1+A16 -> 1999 | B17: 1547 | C17: 1547 | D17: 1547 | E17: 1522 | F17: 1522 | G17: 1523 | H17: 1524 | I17: 1524 | J17: 1524 | K17: 1524 | L17: 25 | M17: 22
A18: =1+A17 -> 2000 | B18: 3096 | C18: 3096 | D18: 3096 | E18: 3096 | F18: 3096 | G18: 3096 | H18: 3096 | I18: 3100 | J18: 3102 | K18: 3109 | L18: 23 | M18: 20
A19: =1+A18 -> 2001 | B19: 1096 | C19: 1102 | D19: 1102 | E19: 1102 | F19: 1103 | G19: 1103 | H19: 1103 | I19: 1103 | J19: 1103 | K19: 1103 | L19: 19 | M19: 17
A20: =1+A19 -> 2002 | B20: 592 | C20: 592 | D20: 592 | E20: 592 | F20: 592 | G20: 592 | H20: 595 | I20: 595 | J20: 595 | K20: 595 | L20: 29 | M20: 18
A21: =1+A20 -> 2003 | B21: 1045 | C21: 1053 | D21: 1054 | E21: 1054 | F21: 1055 | G21: 1059 | H21: 1060 | I21: 1060 | J21: 1060 | K21: 1060 | L21: 35 | M21: 19
A22: =1+A21 -> 2004 | B22: 643 | C22: 666 | D22: 684 | E22: 684 | F22: 688 | G22: 776 | H22: 776 | I22: 777 | J22: 829 | K22: 829 | L22: 34 | M22: 24
A23: =1+A22 -> 2005 | B23: 673 | C23: 673 | D23: 674 | E23: 675 | F23: 778 | G23: 781 | H23: 791 | I23: 803 | J23: 807 | K23: 811 | L23: 35 | M23: 29
A24: =1+A23 -> 2006 | B24: 681 | C24: 687 | D24: 745 | E24: 755 | F24: 774 | G24: 786 | H24: 804 | I24: 812 | J24: 816 | K24: 817 | L24: 33 | M24: 36
A25: =1+A24 -> 2007 | B25: 1408 | C25: 1412 | D25: 1425 | E25: 1427 | F25: 1431 | G25: 1437 | H25: 1437 | I25: 1437 | J25: 1437 | K25: 1437 | L25: 27 | M25: 26
... A33: =1+A32 -> 2015 | B33: 0 | C33: 0 | D33: 0 | E33: 0 | F33: 0 | G33: 0 | H33: 0 | I33: 0 | J33: 0 | K33: 0 | L33: 1 | M33: 2
A34: =1+A33 -> 2016 | C34: 0 | D34: 10 | E34: 10 | F34: 4 | G34: 4 | H34: 4 | I34: 4 | J34: 4 | K34: 4 | L34: 1 | M34: 0
A35: =1+A34 -> 2017 | D35: 0 | E35: 0 | F35: 0 | G35: 0 | H35: 0 | I35: 0 | J35: 0 | K35: 0 | L35: 1 | M35: 0
A36: =1+A35 -> 2018 | E36: 0 | F36: 0 | G36: 0 | H36: 1 | I36: 1 | J36: 1 | K36: 1 | L36: 2 | M36: 1
A37: =1+A36 -> 2019 | F37: 0 | G37: 0 | H37: 0 | I37: 0 | J37: 0 | K37: 7 | L37: 0 | M37: 0
A38: =1+A37 -> 2020 | G38: 0 | H38: 0 | I38: 2 | J38: 2 | K38: 2 | L38: 2 | M38: 1
A39: =1+A38 -> 2021 | H39: 0 | I39: 0 | J39: 43 | K39: 43 | L39: 0 | M39: 1
A40: =1+A39 -> 2022 | I40: 0 | J40: 0 | K40: 0 | L40: 0 | M40: 1
A41: =1+A40 -> 2023 | J41: 0 | K41: 0 | L41: 0 | M41: 1
A42: =1+A41 -> 2024 | K42: 0 | L42: 0 | M42: 1
J43: 2023 | K43: 2024
I44: Total: | J44: =SUM(J12:J41) -> 16731 | K44: =SUM(K12:K42) -> 16759
J45: Total Payments during 2024: | K45: =K44-J44 -> 28
J46: New Mexico Direct Losses Paid as shown in NAIC Annual Statement Schedule T: | K46: 28
J47: Difference: | K47: =K45-K46 -> 0
...

Sheet DHI Title Insurance Company
A1: NEW MEXICO TITLE INSURANCE UNDERWRITERS STATISTICAL REPORT
A2: FORM 5: DIRECT PAID LOSS DEVELOPMENT
B3: For Calendar Year Ending December 31, 2024
A4: NEW MEXICO EXPERIENCE ONLY
E5: Insurance Company: | F5: DHI Title Insurance Company
L6: Number of | M6: Number of
A7: Years in | L7: Claims | M7: Claims
A8: Which | L8: Closed | M8: Closed
A9: Policies | L9: With | M9: Without
A10: Were | F10: Part A: Cumulative Paid Losses and Allocated Loss Adjustment Expenses at Year End (000 omitted) | L10: Loss | M10: Loss
A11: Written | B11: 2015 | C11: =B11+1 -> 2016 | D11: =C11+1 -> 2017 | E11: =D11+1 -> 2018 | F11: =E11+1 -> 2019 | G11: =F11+1 -> 2020 | H11: =G11+1 -> 2021 | I11: =H11+1 -> 2022 | J11: =I11+1 -> 2023 | K11: =J11+1 -> 2024 | L11: Payment | M11: Payment
A12: Prior | B12: 0 | C12: 0 | D12: 0 | E12: 0 | F12: 0 | G12: 0 | H12: 0 | I12: 0 | J12: 0 | K12: 0 | L12: 0 | M12: 0
A13: 1995 | B13: 0 | C13: 0 | D13: 0 | E13: 0 | F13: 0 | G13: 0 | H13: 0 | I13: 0 | J13: 0 | K13: 0 | L13: 0 | M13: 0
A14: =1+A13 -> 1996 | B14: 0 | C14: 0 | D14: 0 | E14: 0 | F14: 0 | G14: 0 | H14: 0 | I14: 0 | J14: 0 | K14: 0 | L14: 0 | M14: 0
A15: =1+A14 -> 1997 | B15: 0 | C15: 0 | D15: 0 | E15: 0 | F15: 0 | G15: 0 | H15: 0 | I15: 0 | J15: 0 | K15: 0 | L15: 0 | M15: 0
A16: =1+A15 -> 1998 | B16: 0 | C16: 0 | D16: 0 | E16: 0 | F16: 0 | G16: 0 | H16: 0 | I16: 0 | J16: 0 | K16: 0 | L16: 0 | M16: 0
A17: =1+A16 -> 1999 | B17: 0 | C17: 0 | D17: 0 | E17: 0 | F17: 0 | G17: 0 | H17: 0 | I17: 0 | J17: 0 | K17: 0 | L17: 0 | M17: 0
A18: =1+A17 -> 2000 | B18: 0 | C18: 0 | D18: 0 | E18: 0 | F18: 0 | G18: 0 | H18: 0 | I18: 0 | J18: 0 | K18: 0 | L18: 0 | M18: 0
A19: =1+A18 -> 2001 | B19: 0 | C19: 0 | D19: 0 | E19: 0 | F19: 0 | G19: 0 | H19: 0 | I19: 0 | J19: 0 | K19: 0 | L19: 0 | M19: 0
A20: =1+A19 -> 2002 | B20: 0 | C20: 0 | D20: 0 | E20: 0 | F20: 0 | G20: 0 | H20: 0 | I20: 0 | J20: 0 | K20: 0 | L20: 0 | M20: 0
A21: =1+A20 -> 2003 | B21: 0 | C21: 0 | D21: 0 | E21: 0 | F21: 0 | G21: 0 | H21: 0 | I21: 0 | J21: 0 | K21: 0 | L21: 0 | M21: 0
A22: =1+A21 -> 2004 | B22: 0 | C22: 0 | D22: 0 | E22: 0 | F22: 0 | G22: 0 | H22: 0 | I22: 0 | J22: 0 | K22: 0 | L22: 0 | M22: 0
A23: =1+A22 -> 2005 | B23: 0 | C23: 0 | D23: 0 | E23: 0 | F23: 0 | G23: 0 | H23: 0 | I23: 0 | J23: 0 | K23: 0 | L23: 0 | M23: 0
A24: =1+A23 -> 2006 | B24: 0 | C24: 0 | D24: 0 | E24: 0 | F24: 0 | G24: 0 | H24: 0 | I24: 0 | J24: 0 | K24: 0 | L24: 0 | M24: 0
A25: =1+A24 -> 2007 | B25: 0 | C25: 0 | D25: 0 | E25: 0 | F25: 0 | G25: 0 | H25: 0 | I25: 0 | J25: 0 | K25: 0 | L25: 0 | M25: 0
... A33: =1+A32 -> 2015 | B33: 0 | C33: 0 | D33: 0 | E33: 0 | F33: 0 | G33: 0 | H33: 0 | I33: 0 | J33: 0 | K33: 0 | L33: 0 | M33: 0
A34: =1+A33 -> 2016 | C34: 0 | D34: 0 | E34: 0 | F34: 0 | G34: 0 | H34: 0 | I34: 0 | J34: 0 | K34: 0 | L34: 0 | M34: 0
A35: =1+A34 -> 2017 | D35: 0 | E35: 0 | F35: 0 | G35: 0 | H35: 0 | I35: 0 | J35: 0 | K35: 0 | L35: 0 | M35: 0
A36: =1+A35 -> 2018 | E36: 0 | F36: 0 | G36: 0 | H36: 0 | I36: 0 | J36: 0 | K36: 0 | L36: 0 | M36: 0
A37: =1+A36 -> 2019 | F37: 0 | G37: 0 | H37: 0 | I37: 0 | J37: 0 | K37: 0 | L37: 0 | M37: 0
A38: =1+A37 -> 2020 | G38: 0 | H38: 0 | I38: 0 | J38: 0 | K38: 0 | L38: 0 | M38: 0
A39: =1+A38 -> 2021 | H39: 0 | I39: 0 | J39: 0 | K39: 0 | L39: 0 | M39: 0
A40: =1+A39 -> 2022 | I40: 0 | J40: 0 | K40: 0 | L40: 0 | M40: 0
A41: =1+A40 -> 2023 | J41: 0 | K41: 0 | L41: 0 | M41: 0
A42: =1+A41 -> 2024 | K42: 0 | L42: 0 | M42: 0
J43: 2023 | K43: 2024
I44: Total: | J44: =SUM(J12:J41) -> 0 | K44: =SUM(K12:K42) -> 0
J45: Total Payments during 2024: | K45: =K44-J44 -> 0
J46: New Mexico Direct Losses Paid as shown in NAIC Annual Statement Schedule T: | K46: 0
J47: Difference: | K47: =K45-K46 -> 0
...

Sheet Doma Title Insurance Inc
A1: NEW MEXICO TITLE INSURANCE UNDERWRITERS STATISTICAL REPORT
A2: FORM 5: DIRECT PAID LOSS DEVELOPMENT
B3: For Calendar Year Ending December 31, 2024
A4: NEW MEXICO EXPERIENCE ONLY
E5: Insurance Company: | F5: Doma Title Insurance, Inc.
L6: Number of | M6: Number of
A7: Years in | L7: Claims | M7: Claims
A8: Which | L8: Closed | M8: Closed
A9: Policies | L9: With | M9: Without
A10: Were | F10: Part A: Cumulative Paid Losses and Allocated Loss Adjustment Expenses at Year End (000 omitted) | L10: Loss | M10: Loss
A11: Written | B11: 2015 | C11: =B11+1 -> 2016 | D11: =C11+1 -> 2017 | E11: =D11+1 -> 2018 | F11: =E11+1 -> 2019 | G11: =F11+1 -> 2020 | H11: =G11+1 -> 2021 | I11: =H11+1 -> 2022 | J11: =I11+1 -> 2023 | K11: =J11+1 -> 2024 | L11: Payment | M11: Payment
A12: Prior | B12: 0 | C12: 0 | D12: 0 | E12: 0 | F12: 0 | G12: 0 | H12: 0 | I12: 0 | J12: 0 | K12: 0 | L12: 0 | M12: 0
A13: 1995 | B13: 0 | C13: 0 | D13: 0 | E13: 0 | F13: 0 | G13: 0 | H13: 0 | I13: 0 | J13: 0 | K13: 0 | L13: 0 | M13: 0
A14: =1+A13 -> 1996 | B14: 0 | C14: 0 | D14: 0 | E14: 0 | F14: 0 | G14: 0 | H14: 0 | I14: 0 | J14: 0 | K14: 0 | L14: 0 | M14: 0
A15: =1+A14 -> 1997 | B15: 0 | C15: 0 | D15: 0 | E15: 0 | F15: 0 | G15: 0 | H15: 0 | I15: 0 | J15: 0 | K15: 0 | L15: 0 | M15: 0
A16: =1+A15 -> 1998 | B16: 0 | C16: 0 | D16: 0 | E16: 0 | F16: 0 | G16: 0 | H16: 0 | I16: 0 | J16: 0 | K16: 0 | L16: 0 | M16: 0
A17: =1+A16 -> 1999 | B17: 0 | C17: 0 | D17: 0 | E17: 0 | F17: 0 | G17: 0 | H17: 0 | I17: 0 | J17: 0 | K17: 0 | L17: 0 | M17: 0
A18: =1+A17 -> 2000 | B18: 0 | C18: 0 | D18: 0 | E18: 0 | F18: 0 | G18: 0 | H18: 0 | I18: 0 | J18: 0 | K18: 0 | L18: 0 | M18: 0
A19: =1+A18 -> 2001 | B19: 0 | C19: 0 | D19: 0 | E19: 0 | F19: 0 | G19: 0 | H19: 0 | I19: 0 | J19: 0 | K19: 0 | L19: 0 | M19: 0
A20: =1+A19 -> 2002 | B20: 0 | C20: 0 | D20: 0 | E20: 0 | F20: 0 | G20: 0 | H20: 0 | I20: 0 | J20: 0 | K20: 0 | L20: 0 | M20: 0
A21: =1+A20 -> 2003 | B21: 0 | C21: 0 | D21: 0 | E21: 0 | F21: 0 | G21: 0 | H21: 0 | I21: 0 | J21: 0 | K21: 0 | L21: 0 | M21: 0
A22: =1+A21 -> 2004 | B22: 0 | C22: 0 | D22: 0 | E22: 0 | F22: 0 | G22: 0 | H22: 0 | I22: 0 | J22: 0 | K22: 0 | L22: 0 | M22: 0
A23: =1+A22 -> 2005 | B23: 0 | C23: 0 | D23: 0 | E23: 0 | F23: 0 | G23: 0 | H23: 0 | I23: 0 | J23: 0 | K23: 0 | L23: 0 | M23: 0
A24: =1+A23 -> 2006 | B24: 0 | C24: 0 | D24: 0 | E24: 0 | F24: 0 | G24: 0 | H24: 0 | I24: 0 | J24: 0 | K24: 0 | L24: 0 | M24: 0
A25: =1+A24 -> 2007 | B25: 0 | C25: 0 | D25: 0 | E25: 0 | F25: 0 | G25: 0 | H25: 0 | I25: 0 | J25: 0 | K25: 0 | L25: 0 | M25: 0
... A33: =1+A32 -> 2015 | B33: 0 | C33: 0 | D33: 0 | E33: 0 | F33: 0 | G33: 0 | H33: 0 | I33: 0 | J33: 0 | K33: 0 | L33: 0 | M33: 0
A34: =1+A33 -> 2016 | C34: 0 | D34: 0 | E34: 0 | F34: 0 | G34: 0 | H34: 0 | I34: 0 | J34: 0 | K34: 0 | L34: 0 | M34: 0
A35: =1+A34 -> 2017 | D35: 0 | E35: 0 | F35: 0 | G35: 0 | H35: 0 | I35: 0 | J35: 0 | K35: 0 | L35: 0 | M35: 0
A36: =1+A35 -> 2018 | E36: 0 | F36: 0 | G36: 0 | H36: 0 | I36: 0 | J36: 0 | K36: 0 | L36: 0 | M36: 0
A37: =1+A36 -> 2019 | F37: 0 | G37: 0 | H37: 0 | I37: 0 | J37: 0 | K37: 0 | L37: 0 | M37: 0
A38: =1+A37 -> 2020 | G38: 0 | H38: 0 | I38: 0 | J38: 0 | K38: 0 | L38: 0 | M38: 0
A39: =1+A38 -> 2021 | H39: 0 | I39: 0 | J39: 0 | K39: 0 | L39: 0 | M39: 0
A40: =1+A39 -> 2022 | I40: 0 | J40: 0 | K40: 0 | L40: 0 | M40: 0
A41: =1+A40 -> 2023 | J41: 0 | K41: 0 | L41: 0 | M41: 0
A42: =1+A41 -> 2024 | K42: 0 | L42: 0 | M42: 0
J43: 2023 | K43: 2024
I44: Total: | J44: =SUM(J12:J41) -> 0 | K44: =SUM(K12:K42) -> 0
J45: Total Payments during 2024: | K45: =K44-J44 -> 0
J46: New Mexico Direct Losses Paid as shown in NAIC Annual Statement Schedule T: | K46: 0
J47: Difference: | K47: =K45-K46 -> 0
...

Sheet Essent TItle Insurance
A1: NEW MEXICO TITLE INSURANCE UNDERWRITERS STATISTICAL REPORT
A2: FORM 5: DIRECT PAID LOSS DEVELOPMENT
B3: For Calendar Year Ending December 31, 2024
A4: NEW MEXICO EXPERIENCE ONLY
E5: Insurance Company: | F5: ESSENT TITLE INSURANCE, INC
L6: Number of | M6: Number of
A7: Years in | L7: Claims | M7: Claims
A8: Which | L8: Closed | M8: Closed
A9: Policies | L9: With | M9: Without
A10: Were | F10: Part A: Cumulative Paid Losses and Allocated Loss Adjustment Expenses at Year End (000 omitted) | L10: Loss | M10: Loss
A11: Written | B11: 2015 | C11: =B11+1 -> 2016 | D11: =C11+1 -> 2017 | E11: =D11+1 -> 2018 | F11: =E11+1 -> 2019 | G11: =F11+1 -> 2020 | H11: =G11+1 -> 2021 | I11: =H11+1 -> 2022 | J11: =I11+1 -> 2023 | K11: =J11+1 -> 2024 | L11: Payment | M11: Payment
A12: Prior | B12: 0 | C12: 0 | D12: 0 | E12: 0 | F12: 0 | G12: 0 | H12: 0 | I12: 0 | J12: 0 | K12: 0 | L12: 0 | M12: 0
A13: 1995 | B13: 0 | C13: 0 | D13: 0 | E13: 0 | F13: 0 | G13: 0 | H13: 0 | I13: 0 | J13: 0 | K13: 0 | L13: 0 | M13: 0
A14: =1+A13 -> 1996 | B14: 0 | C14: 0 | D14: 0 | E14: 0 | F14: 0 | G14: 0 | H14: 0 | I14: 0 | J14: 0 | K14: 0 | L14: 0 | M14: 0
A15: =1+A14 -> 1997 | B15: 0 | C15: 0 | D15: 0 | E15: 0 | F15: 0 | G15: 0 | H15: 0 | I15: 0 | J15: 0 | K15: 0 | L15: 0 | M15: 0
A16: =1+A15 -> 1998 | B16: 0 | C16: 0 | D16: 0 | E16: 0 | F16: 0 | G16: 0 | H16: 0 | I16: 0 | J16: 0 | K16: 0 | L16: 0 | M16: 0
A17: =1+A16 -> 1999 | B17: 0 | C17: 0 | D17: 0 | E17: 0 | F17: 0 | G17: 0 | H17: 0 | I17: 0 | J17: 0 | K17: 0 | L17: 0 | M17: 0
A18: =1+A17 -> 2000 | B18: 0 | C18: 0 | D18: 0 | E18: 0 | F18: 0 | G18: 0 | H18: 0 | I18: 0 | J18: 0 | K18: 0 | L18: 0 | M18: 0
A19: =1+A18 -> 2001 | B19: 0 | C19: 0 | D19: 0 | E19: 0 | F19: 0 | G19: 0 | H19: 0 | I19: 0 | J19: 0 | K19: 0 | L19: 0 | M19: 0
A20: =1+A19 -> 2002 | B20: 0 | C20: 0 | D20: 0 | E20: 0 | F20: 0 | G20: 0 | H20: 0 | I20: 0 | J20: 0 | K20: 0 | L20: 0 | M20: 0
A21: =1+A20 -> 2003 | B21: 0 | C21: 0 | D21: 0 | E21: 0 | F21: 0 | G21: 0 | H21: 0 | I21: 0 | J21: 0 | K21: 0 | L21: 0 | M21: 0
A22: =1+A21 -> 2004 | B22: 0 | C22: 0 | D22: 0 | E22: 0 | F22: 0 | G22: 0 | H22: 0 | I22: 0 | J22: 0 | K22: 0 | L22: 0 | M22: 0
A23: =1+A22 -> 2005 | B23: 0 | C23: 0 | D23: 0 | E23: 0 | F23: 0 | G23: 0 | H23: 0 | I23: 0 | J23: 0 | K23: 0 | L23: 0 | M23: 0
A24: =1+A23 -> 2006 | B24: 0 | C24: 0 | D24: 0 | E24: 0 | F24: 0 | G24: 0 | H24: 0 | I24: 0 | J24: 0 | K24: 0 | L24: 0 | M24: 0
A25: =1+A24 -> 2007 | B25: 0 | C25: 0 | D25: 0 | E25: 0 | F25: 0 | G25: 0 | H25: 0 | I25: 0 | J25: 0 | K25: 0 | L25: 0 | M25: 0
... A33: =1+A32 -> 2015 | B33: 0 | C33: 0 | D33: 0 | E33: 0 | F33: 0 | G33: 0 | H33: 0 | I33: 0 | J33: 0 | K33: 0 | L33: 0 | M33: 0
A34: =1+A33 -> 2016 | C34: 0 | D34: 0 | E34: 0 | F34: 0 | G34: 0 | H34: 0 | I34: 0 | J34: 0 | K34: 0 | L34: 0 | M34: 0
A35: =1+A34 -> 2017 | D35: 0 | E35: 0 | F35: 0 | G35: 0 | H35: 0 | I35: 0 | J35: 0 | K35: 0 | L35: 0 | M35: 0
A36: =1+A35 -> 2018 | E36: 0 | F36: 0 | G36: 0 | H36: 0 | I36: 0 | J36: 0 | K36: 0 | L36: 0 | M36: 0
A37: =1+A36 -> 2019 | F37: 0 | G37: 0 | H37: 0 | I37: 0 | J37: 0 | K37: 0 | L37: 0 | M37: 0
A38: =1+A37 -> 2020 | G38: 0 | H38: 0 | I38: 0 | J38: 0 | K38: 0 | L38: 0 | M38: 0
A39: =1+A38 -> 2021 | H39: 0 | I39: 0 | J39: 0 | K39: 0 | L39: 0 | M39: 0
A40: =1+A39 -> 2022 | I40: 0 | J40: 0 | K40: 0 | L40: 0 | M40: 0
A41: =1+A40 -> 2023 | J41: 0 | K41: 0 | L41: 0 | M41: 0
A42: =1+A41 -> 2024 | K42: 0 | L42: 0 | M42: 0
J43: 2023 | K43: 2024
I44: Total: | J44: =SUM(J12:J41) -> 0 | K44: =SUM(K12:K42) -> 0
J45: Total Payments during 2024: | K45: =K44-J44 -> 0
J46: New Mexico Direct Losses Paid as shown in NAIC Annual Statement Schedule T: | K46: 0
J47: Difference: | K47: =K45-K46 -> 0
...

Sheet Fidelity National Title Ins Co
A1: NEW MEXICO TITLE INSURANCE UNDERWRITERS STATISTICAL REPORT
A2: FORM 5: DIRECT PAID LOSS DEVELOPMENT
B3: For Calendar Year Ending December 31, 2024
A4: NEW MEXICO EXPERIENCE ONLY
E5: Insurance Company: | F5: Fidelity National Title Insurance Company
L6: Number of | M6: Number of
A7: Years in | L7: Claims | M7: Claims
A8: Which | L8: Closed | M8: Closed
A9: Policies | L9: With | M9: Without
A10: Were | F10: Part A: Cumulative Paid Losses and Allocated Loss Adjustment Expenses at Year End (000 omitted) | L10: Loss | M10: Loss
A11: Written | B11: 2015 | C11: =B11+1 -> 2016 | D11: =C11+1 -> 2017 | E11: =D11+1 -> 2018 | F11: =E11+1 -> 2019 | G11: =F11+1 -> 2020 | H11: =G11+1 -> 2021 | I11: =H11+1 -> 2022 | J11: =I11+1 -> 2023 | K11: =J11+1 -> 2024 | L11: Payment | M11: Payment
A12: Prior | B12: 10051 | C12: 10052 | D12: 10059 | E12: 10107 | F12: 10113 | G12: 10133 | H12: 10133 | I12: 10133 | J12: 10134 | K12: 10131 | L12: 746 | M12: 951
A13: 1995 | B13: 1606 | C13: 1606 | D13: 1606 | E13: 1606 | F13: 1606 | G13: 1606 | H13: 1606 | I13: 1606 | J13: 1606 | K13: 1612 | L13: 39 | M13: 45
A14: =1+A13 -> 1996 | B14: 1078 | C14: 1078 | D14: 1078 | E14: 1078 | F14: 1078 | G14: 1078 | H14: 1078 | I14: 1078 | J14: 1078 | K14: 1078 | L14: 33 | M14: 38
A15: =1+A14 -> 1997 | B15: 903.75666 | C15: 906.95616 | D15: 930 | E15: 930.46072 | F15: 930 | G15: 930 | H15: 931 | I15: 946 | J15: 1022 | K15: 1023 | L15: 54 | M15: 56
A16: =1+A15 -> 1998 | B16: 843.55 | C16: 843.55 | D16: 844 | E16: 845.097 | F16: 845 | G16: 845 | H16: 845 | I16: 845 | J16: 845 | K16: 847 | L16: 55 | M16: 61
A17: =1+A16 -> 1999 | B17: 853.89046 | C17: 853.89046 | D17: 854 | E17: 854 | F17: 854 | G17: 854 | H17: 860 | I17: 861 | J17: 861 | K17: 861 | L17: 52 | M17: 68
A18: =1+A17 -> 2000 | B18: 1160.6402 | C18: 1160.6402 | D18: 1161 | E18: 1161 | F18: 1161 | G18: 1161 | H18: 1161 | I18: 1161 | J18: 1161 | K18: 1161 | L18: 58 | M18: 58
A19: =1+A18 -> 2001 | B19: 849.85365 | C19: 849.85365 | D19: 852 | E19: 852.34666 | F19: 854 | G19: 855 | H19: 855 | I19: 855 | J19: 857 | K19: 857 | L19: 57 | M19: 53
A20: =1+A19 -> 2002 | B20: 1011.9643 | C20: 1013.6136 | D20: 1014 | E20: 1014 | F20: 1014 | G20: 1016 | H20: 1024 | I20: 1025 | J20: 1025 | K20: 1025 | L20: 59 | M20: 67
A21: =1+A20 -> 2003 | B21: 1652.6313 | C21: 1661.2823 | D21: 1672 | E21: 1672 | F21: 1676 | G21: 1699 | H21: 1700 | I21: 1704 | J21: 1704 | K21: 1710 | L21: 77 | M21: 89
A22: =1+A21 -> 2004 | B22: 1786.9631 | C22: 1794.4117 | D22: 1819 | E22: 1820.6233 | F22: 1829 | G22: 1836 | H22: 1874 | I22: 1888 | J22: 1896 | K22: 1910 | L22: 77 | M22: 76
A23: =1+A22 -> 2005 | B23: 2264.3521 | C23: 2296.3693 | D23: 2361 | E23: 2344.6233 | F23: 2379 | G23: 2448 | H23: 2449 | I23: 2452 | J23: 2458 | K23: 2461 | L23: 99 | M23: 74
A24: =1+A23 -> 2006 | B24: 2107.3182 | C24: 2161.069 | D24: 2352 | E24: 2392.5355 | F24: 2404 | G24: 2441 | H24: 2405 | I24: 2410 | J24: 2425 | K24: 2438 | L24: 103 | M24: 100
A25: =1+A24 -> 2007 | B25: 1801.0891 | C25: 2215.3038 | D25: 2416 | E25: 2485.3848 | F25: 2596 | G25: 2692 | H25: 2701 | I25: 2701 | J25: 2701 | K25: 2701 | L25: 94 | M25: 86
... A33: =1+A32 -> 2015 | B33: 8 | C33: 244 | D33: 280 | E33: 282.99282 | F33: 296 | G33: 304 | H33: 304 | I33: 353 | J33: 353 | K33: 353 | L33: 17 | M33: 13
A34: =1+A33 -> 2016 | C34: 14 | D34: 28 | E34: 130.04409 | F34: 205 | G34: 215 | H34: 239 | I34: 323 | J34: 354 | K34: 581 | L34: 15 | M34: 20
A35: =1+A34 -> 2017 | D35: 0 | E35: 0.66109 | F35: 1 | G35: 1 | H35: 1 | I35: 4 | J35: 4 | K35: 4 | L35: 4 | M35: 9
A36: =1+A35 -> 2018 | E36: 7 | F36: 165 | G36: 246 | H36: 407 | I36: 689 | J36: 687 | K36: 694 | L36: 15 | M36: 8
A37: =1+A36 -> 2019 | F37: 53 | G37: 136 | H37: 145 | I37: 174 | J37: 208 | K37: 335 | L37: 15 | M37: 9
A38: =1+A37 -> 2020 | G38: 52 | H38: 263 | I38: 455 | J38: 535 | K38: 549 | L38: 16 | M38: 11
A39: =1+A38 -> 2021 | H39: 34 | I39: 120 | J39: 180 | K39: 306 | L39: 13 | M39: 12
A40: =1+A39 -> 2022 | I40: 5 | J40: 47 | K40: 91 | L40: 7 | M40: 6
A41: =1+A40 -> 2023 | J41: 57 | K41: 98 | L41: 4 | M41: 3
A42: =1+A41 -> 2024 | K42: 5 | L42: 3 | M42: 4
J43: 2023 | K43: 2024
I44: Total: | J44: =SUM(J12:J41) -> 36522 | K44: =SUM(K12:K42) -> 37152
J45: Total Payments during 2024: | K45: =K44-J44 -> 630
J46: New Mexico Direct Losses Paid as shown in NAIC Annual Statement Schedule T: | K46: 630
J47: Difference: | K47: =K45-K46 -> 0
...

Sheet First American Title Ins Co
A1: NEW MEXICO TITLE INSURANCE UNDERWRITERS STATISTICAL REPORT
A2: FORM 5: DIRECT PAID LOSS DEVELOPMENT
B3: For Calendar Year Ending December 31, 2024
A4: NEW MEXICO EXPERIENCE ONLY
E5: Insurance Company: | F5: First American Title Insurance Company
L6: Number of | M6: Number of
A7: Years in | L7: Claims | M7: Claims
A8: Which | L8: Closed | M8: Closed
A9: Policies | L9: With | M9: Without
A10: Were | F10: Part A: Cumulative Paid Losses and Allocated Loss Adjustment Expenses at Year End (000 omitted) | L10: Loss | M10: Loss
A11: Written | B11: 2015 | C11: =B11+1 -> 2016 | D11: =C11+1 -> 2017 | E11: =D11+1 -> 2018 | F11: =E11+1 -> 2019 | G11: =F11+1 -> 2020 | H11: =G11+1 -> 2021 | I11: =H11+1 -> 2022 | J11: =I11+1 -> 2023 | K11: =J11+1 -> 2024 | L11: Payment | M11: Payment
A12: Prior | B12: 6479 | C12: 6479 | D12: 6479 | E12: 6479 | F12: 6479 | G12: 6514 | H12: 6559 | I12: 6559 | J12: 6559 | K12: 6559 | L12: 234 | M12: 267
A13: 1995 | B13: 763 | C13: 763 | D13: 763 | E13: 763 | F13: 763 | G13: 763 | H13: 763 | I13: 763 | J13: 763 | K13: 763 | L13: 31 | M13: 45
A14: =1+A13 -> 1996 | B14: 985 | C14: 985 | D14: 985 | E14: 985 | F14: 985 | G14: 985 | H14: 985 | I14: 985 | J14: 1028 | K14: 1028 | L14: 24 | M14: 65
A15: =1+A14 -> 1997 | B15: 763 | C15: 763 | D15: 763 | E15: 766 | F15: 772 | G15: 772 | H15: 811 | I15: 811 | J15: 811 | K15: 811 | L15: 30 | M15: 59
A16: =1+A15 -> 1998 | B16: 1077 | C16: 1077 | D16: 1077 | E16: 1077 | F16: 1077 | G16: 1077 | H16: 1077 | I16: 1077 | J16: 1077 | K16: 1077 | L16: 31 | M16: 70
A17: =1+A16 -> 1999 | B17: 5157 | C17: 5211 | D17: 5260 | E17: 5260 | F17: 5260 | G17: 5260 | H17: 5260 | I17: 5260 | J17: 5260 | K17: 5260 | L17: 33 | M17: 78
A18: =1+A17 -> 2000 | B18: 2176 | C18: 2188 | D18: 2198 | E18: 2198 | F18: 2209 | G18: 2209 | H18: 2209 | I18: 2209 | J18: 2209 | K18: 2209 | L18: 35 | M18: 78
A19: =1+A18 -> 2001 | B19: 933 | C19: 933 | D19: 933 | E19: 941 | F19: 941 | G19: 941 | H19: 941 | I19: 941 | J19: 941 | K19: 941 | L19: 43 | M19: 72
A20: =1+A19 -> 2002 | B20: 823 | C20: 823 | D20: 870 | E20: 872 | F20: 871 | G20: 876 | H20: 879 | I20: 879 | J20: 880 | K20: 880 | L20: 44 | M20: 68
A21: =1+A20 -> 2003 | B21: 1203 | C21: 1228 | D21: 1232 | E21: 1229 | F21: 1229 | G21: 1232 | H21: 1230 | I21: 1231 | J21: 1231 | K21: 1231 | L21: 63 | M21: 122
A22: =1+A21 -> 2004 | B22: 1535 | C22: 1535 | D22: 1539 | E22: 1539 | F22: 1539 | G22: 1539 | H22: 1539 | I22: 1539 | J22: 1541 | K22: 1543 | L22: 49 | M22: 115
A23: =1+A22 -> 2005 | B23: 1626 | C23: 1618 | D23: 1632 | E23: 1761 | F23: 1756 | G23: 1935 | H23: 1928 | I23: 1925 | J23: 1921 | K23: 1917 | L23: 47 | M23: 164
A24: =1+A23 -> 2006 | B24: 1628 | C24: 1755 | D24: 2009 | E24: 2111 | F24: 2121 | G24: 2124 | H24: 2136 | I24: 2143 | J24: 2151 | K24: 2148 | L24: 55 | M24: 259
A25: =1+A24 -> 2007 | B25: 1903 | C25: 1933 | D25: 2008 | E25: 2034 | F25: 2055 | G25: 2098 | H25: 2098 | I25: 2098 | J25: 2098 | K25: 2098 | L25: 58 | M25: 280
... A33: =1+A32 -> 2015 | B33: 84 | C33: 150 | D33: 316 | E33: 346 | F33: 360 | G33: 360 | H33: 360 | I33: 360 | J33: 367 | K33: 399 | L33: 7 | M33: 13
A34: =1+A33 -> 2016 | C34: 203 | D34: 207 | E34: 207 | F34: 220 | G34: 226 | H34: 226 | I34: 226 | J34: 226 | K34: 226 | L34: 6 | M34: 19
A35: =1+A34 -> 2017 | D35: 22 | E35: 78 | F35: 388 | G35: 405 | H35: 405 | I35: 405 | J35: 405 | K35: 419 | L35: 6 | M35: 16
A36: =1+A35 -> 2018 | E36: 0 | F36: 45 | G36: 54 | H36: 61 | I36: 65 | J36: 68 | K36: 73 | L36: 5 | M36: 16
A37: =1+A36 -> 2019 | F37: 13 | G37: 17 | H37: 28 | I37: 29 | J37: 29 | K37: 29 | L37: 1 | M37: 20
A38: =1+A37 -> 2020 | G38: 3 | H38: 41 | I38: 41 | J38: 43 | K38: 295 | L38: 5 | M38: 22
A39: =1+A38 -> 2021 | H39: 1 | I39: 173 | J39: 265 | K39: 287 | L39: 1 | M39: 32
A40: =1+A39 -> 2022 | I40: 237 | J40: 278 | K40: 311 | L40: 4 | M40: 12
A41: =1+A40 -> 2023 | J41: 7 | K41: 127 | L41: 2 | M41: 6
A42: =1+A41 -> 2024 | K42: 0 | L42: 0 | M42: 3
J43: 2023 | K43: 2024
I44: Total: | J44: =SUM(J12:J41) -> 33140 | K44: =SUM(K12:K42) -> 33619
J45: Total Payments during 2024: | K45: =K44-J44 -> 479
J46: New Mexico Direct Losses Paid as shown in NAIC Annual Statement Schedule T: | K46: 479
J47: Difference: | K47: =K45-K46 -> 0
...

Sheet First National Title Ins Co
A1: NEW MEXICO TITLE INSURANCE UNDERWRITERS STATISTICAL REPORT
A2: FORM 5: DIRECT PAID LOSS DEVELOPMENT
B3: For Calendar Year Ending December 31, 2024
A4: NEW MEXICO EXPERIENCE ONLY
E5: Insurance Company: | F5: First National Title Insurance Company
L6: Number of | M6: Number of
A7: Years in | L7: Claims | M7: Claims
A8: Which | L8: Closed | M8: Closed
A9: Policies | L9: With | M9: Without
A10: Were | F10: Part A: Cumulative Paid Losses and Allocated Loss Adjustment Expenses at Year End (000 omitted) | L10: Loss | M10: Loss
A11: Written | B11: 2015 | C11: =B11+1 -> 2016 | D11: =C11+1 -> 2017 | E11: =D11+1 -> 2018 | F11: =E11+1 -> 2019 | G11: =F11+1 -> 2020 | H11: =G11+1 -> 2021 | I11: =H11+1 -> 2022 | J11: =I11+1 -> 2023 | K11: =J11+1 -> 2024 | L11: Payment | M11: Payment
A12: Prior | B12: 0 | C12: 0 | D12: 0 | E12: 0 | F12: 0 | G12: 0 | H12: 0 | I12: 0 | J12: 0 | K12: 0 | L12: 0 | M12: 0
A13: 1995 | B13: 0 | C13: 0 | D13: 0 | E13: 0 | F13: 0 | G13: 0 | H13: 0 | I13: 0 | J13: 0 | K13: 0 | L13: 0 | M13: 0
A14: =1+A13 -> 1996 | B14: 0 | C14: 0 | D14: 0 | E14: 0 | F14: 0 | G14: 0 | H14: 0 | I14: 0 | J14: 0 | K14: 0 | L14: 0 | M14: 0
A15: =1+A14 -> 1997 | B15: 0 | C15: 0 | D15: 0 | E15: 0 | F15: 0 | G15: 0 | H15: 0 | I15: 0 | J15: 0 | K15: 0 | L15: 0 | M15: 0
A16: =1+A15 -> 1998 | B16: 0 | C16: 0 | D16: 0 | E16: 0 | F16: 0 | G16: 0 | H16: 0 | I16: 0 | J16: 0 | K16: 0 | L16: 0 | M16: 0
