Workbook

Sheet Aggregated
A1: Exhibit VIII
A2: FORM 3 OF THE NEW MEXICO TITLE INSURANCE UNDERWRITERS STATISTICAL REPORT
A3: Aggregated for all Underwriters
A4: For the Year Ended December 31, 2024
A6: NM | F6: Direct
A7: Form | B7: Transaction | D7: NMAC | E7: Number of | F7: Premiums
A8: No. | B8: Code | C8: Transaction Type | D8: Regulation | E8: Transactions | F8: Written
A9: 1, 2 | B9: 0001 | C9: Charge For Additional Chain of Title | D9: 13.14.9.16 | E9: =ROUND(SUM('Alamo Title Insurance:WFG National Title Insurance Co'!F12),0) -> 50 | F9: =ROUND(SUM('Alamo Title Insurance:WFG National Title Insurance Co'!G12),0) -> 4900
A10: 1, 2 | B10: 0002 | C10: Charge For Unusual Complexity | D10: 13.14.9.16 | E10: =ROUND(SUM('Alamo Title Insurance:WFG National Title Insurance Co'!F13),0) -> 22 | F10: =ROUND(SUM('Alamo Title Insurance:WFG National Title Insurance Co'!G13),0) -> 15255
A11: 1 | B11: 0003 | C11: Abstract Retirement Credit | D11: 13.14.9.24 | E11: =ROUND(SUM('Alamo Title Insurance:WFG National Title Insurance Co'!F14),0) -> 104 | F11: =ROUND(SUM('Alamo Title Insurance:WFG National Title Insurance Co'!G14),0) -> 7932
A12: 2 | B12: 0004 | C12: Loan Policy - Mechanic's Lien Coverage With Evidence of Priority | D12: 13.14.5.12 | E12: =ROUND(SUM('Alamo Title Insurance:WFG National Title Insurance Co'!F15),0) -> 25204 | F12: =ROUND(SUM('Alamo Title Insurance:WFG National Title Insurance Co'!G15),0) -> 1304176
A13: 2 | B13: 0005 | C13: Loan Policy - Mechanic's Lien Coverage Without Evidence of Priority | D13: 13.14.5.12 | E13: =ROUND(SUM('Alamo Title Insurance:WFG National Title Insurance Co'!F16),0) -> 84 | F13: =ROUND(SUM('Alamo Title Insurance:WFG National Title Insurance Co'!G16),0) -> 1048872
A14: 1 | B14: 0006 | C14: Owner's Policy - Mechanic's Lien Coverage - Filing Period Expired | D14: 13.14.5.12 | E14: =ROUND(SUM('Alamo Title Insurance:WFG National Title Insurance Co'!F17),0) -> 3991 | F14: =ROUND(SUM('Alamo Title Insurance:WFG National Title Insurance Co'!G17),0) -> 216833
A15: 1 | B15: 0007 | C15: Owner's Policy - Mechanic's Lien Coverage - Filing Period Not Expired | D15: 13.14.5.12 | E15: =ROUND(SUM('Alamo Title Insurance:WFG National Title Insurance Co'!F18),0) -> 39 | F15: =ROUND(SUM('Alamo Title Insurance:WFG National Title Insurance Co'!G18),0) -> 59779
A16: 1 | B16: 0008 | C16: Survey Coverage - Owner Policy | D16: 13.14.5.12C | E16: =ROUND(SUM('Alamo Title Insurance:WFG National Title Insurance Co'!F19),0) -> 14050 | F16: =ROUND(SUM('Alamo Title Insurance:WFG National Title Insurance Co'!G19),0) -> 3158716
A17: 2 | B17: 0009 | C17: Survey Coverage - Loan Policy | D17: 13.14.5.12C | E17: =ROUND(SUM('Alamo Title Insurance:WFG National Title Insurance Co'!F20),0) -> 12728 | F17: =ROUND(SUM('Alamo Title Insurance:WFG National Title Insurance Co'!G20),0) -> 724242
A18: 1 | B18: 0010 | C18: Owner Pro Forma Policy | D18: 13.14.9.19C | E18: =ROUND(SUM('Alamo Title Insurance:WFG National Title Insurance Co'!F21),0) -> 306 | F18: =ROUND(SUM('Alamo Title Insurance:WFG National Title Insurance Co'!G21),0) -> 31400
A19: 2 | B19: 0011 | C19: Loan Pro Forma Policy | D19: 13.14.9.19C | E19: =ROUND(SUM('Alamo Title Insurance:WFG National Title Insurance Co'!F22),0) -> 418 | F19: =ROUND(SUM('Alamo Title Insurance:WFG National Title Insurance Co'!G22),0) -> 43632
A20: 1 | B20: 0012 | C20: Duplicate Original Policy | D20: None | E20: =ROUND(SUM('Alamo Title Insurance:WFG National Title Insurance Co'!F23),0) -> 1 | F20: =ROUND(SUM('Alamo Title Insurance:WFG National Title Insurance Co'!G23),0) -> 25
... A137: 91 | B137: 9100 | C137: Contract Purchaser Conversion Endorsement | D137: None | E137: =ROUND(SUM('Alamo Title Insurance:WFG National Title Insurance Co'!F140),0) -> 1 | F137: =ROUND(SUM('Alamo Title Insurance:WFG National Title Insurance Co'!G140),0) -> 674
D138: TOTAL: | E138: =SUM(E9:E137) -> 212314 | F138: =SUM(F9:F137) -> 104487688

Sheet Alamo Title Insurance
A1: NEW MEXICO TITLE INSURANCE UNDERWRITER'S STATISTICAL REPORT
A2: FORM 3: TRANSACTION REPORT
A3: For Calendar Year Ending December 31, 2024
A4: NEW MEXICO EXPERIENCE ONLY
C5: Insurance Company: | D5: Alamo Title Insurance | J5: For Underwriters That Charge Rates Below the Promulgated Rates
J7: Direct Premiums As If They Had Been Written at Promulgated Rates
H8: Dependent
A9: NM | B9: Trans- | G9: Direct | H9: on Basic
A10: Form | B10: action | E10: NMAC | F10: Number of | G10: Premiums | H10: Premium
A11: No. | B11: Code | C11: Transaction Type | E11: Regulation | F11: Transactions | G11: Written | H11: Rate?
A12: 1, 2 | B12: 0001 | C12: Charge For Additional Chain of Title | E12: 13.14.9.16 | F12: 0 | G12: 0 | H12: No | J12: 0
A13: 1, 2 | B13: 0002 | C13: Charge For Unusual Complexity | E13: 13.14.9.16 | F13: 0 | G13: 0 | H13: Yes | J13: 0
A14: 1 | B14: 0003 | C14: Abstract Retirement Credit | E14: 13.14.9.24 | F14: 0 | G14: 0 | H14: Yes | J14: 0
A15: 2 | B15: 0004 | C15: Loan Policy - Mechanic's Lien Coverage With Evidence of Priority | E15: 13.14.5.12 | F15: 0 | G15: 0 | H15: No | J15: 0
A16: 2 | B16: 0005 | C16: Loan Policy - Mechanic's Lien Coverage Without Evidence of Priority | E16: 13.14.5.12 | F16: 0 | G16: 0 | H16: Yes | J16: 0
A17: 1 | B17: 0006 | C17: Owner's Policy - Mechanic's Lien Coverage - Filing Period Expired | E17: 13.14.5.12 | F17: 0 | G17: 0 | H17: No | J17: 0
A18: 1 | B18: 0007 | C18: Owner's Policy - Mechanic's Lien Coverage - Filing Period Not Expired | E18: 13.14.5.12 | F18: 0 | G18: 0 | H18: Yes | J18: 0
A19: 1 | B19: 0008 | C19: Survey Coverage - Owner Policy | E19: 13.14.5.12C | F19: 0 | G19: 0 | H19: Yes | J19: 0
A20: 2 | B20: 0009 | C20: Survey Coverage - Loan Policy | E20: 13.14.5.12C | F20: 0 | G20: 0 | H20: No | J20: 0
A21: 1 | B21: 0010 | C21: Owner Pro Forma Policy | E21: 13.14.9.19C | F21: 0 | G21: 0 | H21: No | J21: 0
A22: 2 | B22: 0011 | C22: Loan Pro Forma Policy | E22: 13.14.9.19C | F22: 0 | G22: 0 | H22: No | J22: 0
A23: 1 | B23: 0012 | C23: Duplicate Original Policy | E23: None | F23: 0 | G23: 0 | H23: No | J23: 0
... A140: 91 | B140: 9100 | C140: Contract Purchaser Conversion Endorsement | E140: None | F140: 0 | G140: 0 | H140: Yes | J140: 0
F141: =SUM(F12:F140) -> 0 | G141: =SUM(G12:G140) -> 0 | J141: =SUM(J12:J140) -> 0
F143: Crosscheck with Form 1: | G143: 0
F144: Difference: | G144: =G143-G141 -> 0
B145: Explanation for Difference (if any):

Sheet Alliant National Title Ins
A1: NEW MEXICO TITLE INSURANCE UNDERWRITER'S STATISTICAL REPORT
A2: FORM 3: TRANSACTION REPORT
A3: For Calendar Year Ending December 31, 2024
A4: NEW MEXICO EXPERIENCE ONLY
C5: Insurance Company: | D5: Alliant National Title Insurance Company, Inc. | J5: For Underwriters That Charge Rates Below the Promulgated Rates
J7: Direct Premiums As If They Had Been Written at Promulgated Rates
H8: Dependent
A9: NM | B9: Trans- | G9: Direct | H9: on Basic
A10: Form | B10: action | E10: NMAC | F10: Number of | G10: Premiums | H10: Premium
A11: No. | B11: Code | C11: Transaction Type | E11: Regulation | F11: Transactions | G11: Written | H11: Rate?
A12: 1, 2 | B12: 0001 | C12: Charge For Additional Chain of Title | E12: 13.14.9.16 | F12: 0 | G12: 0 | H12: No | J12: 0
A13: 1, 2 | B13: 0002 | C13: Charge For Unusual Complexity | E13: 13.14.9.16 | F13: 1 | G13: 52 | H13: Yes | J13: 0
A14: 1 | B14: 0003 | C14: Abstract Retirement Credit | E14: 13.14.9.24 | F14: 0 | G14: 0 | H14: Yes | J14: 0
A15: 2 | B15: 0004 | C15: Loan Policy - Mechanic's Lien Coverage With Evidence of Priority | E15: 13.14.5.12 | F15: 456 | G15: 22700 | H15: No | J15: 0
A16: 2 | B16: 0005 | C16: Loan Policy - Mechanic's Lien Coverage Without Evidence of Priority | E16: 13.14.5.12 | F16: 0 | G16: 0 | H16: Yes | J16: 0
A17: 1 | B17: 0006 | C17: Owner's Policy - Mechanic's Lien Coverage - Filing Period Expired | E17: 13.14.5.12 | F17: 176 | G17: 8185 | H17: No | J17: 0
A18: 1 | B18: 0007 | C18: Owner's Policy - Mechanic's Lien Coverage - Filing Period Not Expired | E18: 13.14.5.12 | F18: 0 | G18: 0 | H18: Yes | J18: 0
A19: 1 | B19: 0008 | C19: Survey Coverage - Owner Policy | E19: 13.14.5.12C | F19: 153 | G19: 49721.5 | H19: Yes | J19: 0
A20: 2 | B20: 0009 | C20: Survey Coverage - Loan Policy | E20: 13.14.5.12C | F20: 449 | G20: 22375 | H20: No | J20: 0
A21: 1 | B21: 0010 | C21: Owner Pro Forma Policy | E21: 13.14.9.19C | F21: 0 | G21: 0 | H21: No | J21: 0
A22: 2 | B22: 0011 | C22: Loan Pro Forma Policy | E22: 13.14.9.19C | F22: 1 | G22: 581.5 | H22: No | J22: 0
A23: 1 | B23: 0012 | C23: Duplicate Original Policy | E23: None | F23: 0 | G23: 0 | H23: No | J23: 0
... A140: 91 | B140: 9100 | C140: Contract Purchaser Conversion Endorsement | E140: None | F140: 0 | G140: 0 | H140: Yes | J140: 0
F141: =SUM(F12:F140) -> 4257 | G141: =SUM(G12:G140) -> 1623681.6 | J141: =SUM(J12:J140) -> 0
F143: Crosscheck with Form 1: | G143: 1127010
F144: Difference: | G144: =G143-G141 -> -496671.55
B145: Explanation for Difference (if any):
B146: The difference of $496,672 represents an accrual for the estimate of the value of insurance policies written which have not yet been remitted by Alliant National's authorized agents.

Sheet AmTrust Title Insurance Company
A1: NEW MEXICO TITLE INSURANCE UNDERWRITER'S STATISTICAL REPORT
A2: FORM 3: TRANSACTION REPORT
A3: For Calendar Year Ending December 31, 2024
A4: NEW MEXICO EXPERIENCE ONLY
C5: Insurance Company: | D5: AmTrust Title Insurance Company | J5: For Underwriters That Charge Rates Below the Promulgated Rates
J7: Direct Premiums As If They Had Been Written at Promulgated Rates
H8: Dependent
A9: NM | B9: Trans- | G9: Direct | H9: on Basic
A10: Form | B10: action | E10: NMAC | F10: Number of | G10: Premiums | H10: Premium
A11: No. | B11: Code | C11: Transaction Type | E11: Regulation | F11: Transactions | G11: Written | H11: Rate?
A12: 1, 2 | B12: 0001 | C12: Charge For Additional Chain of Title | E12: 13.14.9.16 | F12: 0 | G12: 0 | H12: No | J12: 0
A13: 1, 2 | B13: 0002 | C13: Charge For Unusual Complexity | E13: 13.14.9.16 | F13: 0 | G13: 0 | H13: Yes | J13: 0
A14: 1 | B14: 0003 | C14: Abstract Retirement Credit | E14: 13.14.9.24 | F14: 0 | G14: 0 | H14: Yes | J14: 0
A15: 2 | B15: 0004 | C15: Loan Policy - Mechanic's Lien Coverage With Evidence of Priority | E15: 13.14.5.12 | F15: 0 | G15: 0 | H15: No | J15: 0
A16: 2 | B16: 0005 | C16: Loan Policy - Mechanic's Lien Coverage Without Evidence of Priority | E16: 13.14.5.12 | F16: 0 | G16: 0 | H16: Yes | J16: 0
A17: 1 | B17: 0006 | C17: Owner's Policy - Mechanic's Lien Coverage - Filing Period Expired | E17: 13.14.5.12 | F17: 0 | G17: 0 | H17: No | J17: 0
A18: 1 | B18: 0007 | C18: Owner's Policy - Mechanic's Lien Coverage - Filing Period Not Expired | E18: 13.14.5.12 | F18: 0 | G18: 0 | H18: Yes | J18: 0
A19: 1 | B19: 0008 | C19: Survey Coverage - Owner Policy | E19: 13.14.5.12C | F19: 0 | G19: 0 | H19: Yes | J19: 0
A20: 2 | B20: 0009 | C20: Survey Coverage - Loan Policy | E20: 13.14.5.12C | F20: 0 | G20: 0 | H20: No | J20: 0
A21: 1 | B21: 0010 | C21: Owner Pro Forma Policy | E21: 13.14.9.19C | F21: 0 | G21: 0 | H21: No | J21: 0
A22: 2 | B22: 0011 | C22: Loan Pro Forma Policy | E22: 13.14.9.19C | F22: 0 | G22: 0 | H22: No | J22: 0
A23: 1 | B23: 0012 | C23: Duplicate Original Policy | E23: None | F23: 0 | G23: 0 | H23: No | J23: 0
... A140: 91 | B140: 9100 | C140: Contract Purchaser Conversion Endorsement | E140: None | F140: 0 | G140: 0 | H140: Yes | J140: 0
F141: =SUM(F12:F140) -> 101 | G141: =SUM(G12:G140) -> 876813 | J141: =SUM(J12:J140) -> 0
F143: Crosscheck with Form 1: | G143: 876813
F144: Difference: | G144: =G143-G141 -> 0
B145: Explanation for Difference (if any):

Sheet Chicago Title Ins. Co.
A1: NEW MEXICO TITLE INSURANCE UNDERWRITER'S STATISTICAL REPORT
A2: FORM 3: TRANSACTION REPORT
A3: For Calendar Year Ending December 31, 2024
A4: NEW MEXICO EXPERIENCE ONLY
C5: Insurance Company: | D5: Chicago Title Insurance Company | J5: For Underwriters That Charge Rates Below the Promulgated Rates
J7: Direct Premiums As If They Had Been Written at Promulgated Rates
H8: Dependent
A9: NM | B9: Trans- | G9: Direct | H9: on Basic
A10: Form | B10: action | E10: NMAC | F10: Number of | G10: Premiums | H10: Premium
A11: No. | B11: Code | C11: Transaction Type | E11: Regulation | F11: Transactions | G11: Written | H11: Rate?
A12: 1, 2 | B12: 0001 | C12: Charge For Additional Chain of Title | E12: 13.14.9.16 | F12: 0 | G12: 0 | H12: No | J12: 0
A13: 1, 2 | B13: 0002 | C13: Charge For Unusual Complexity | E13: 13.14.9.16 | F13: 3 | G13: 4137 | H13: Yes | J13: 0
A14: 1 | B14: 0003 | C14: Abstract Retirement Credit | E14: 13.14.9.24 | F14: 0 | G14: 0 | H14: Yes | J14: 0
A15: 2 | B15: 0004 | C15: Loan Policy - Mechanic's Lien Coverage With Evidence of Priority | E15: 13.14.5.12 | F15: 1327 | G15: 66350 | H15: No | J15: 0
A16: 2 | B16: 0005 | C16: Loan Policy - Mechanic's Lien Coverage Without Evidence of Priority | E16: 13.14.5.12 | F16: 1 | G16: 431862 | H16: Yes | J16: 0
A17: 1 | B17: 0006 | C17: Owner's Policy - Mechanic's Lien Coverage - Filing Period Expired | E17: 13.14.5.12 | F17: 127 | G17: 6350 | H17: No | J17: 0
A18: 1 | B18: 0007 | C18: Owner's Policy - Mechanic's Lien Coverage - Filing Period Not Expired | E18: 13.14.5.12 | F18: 1 | G18: 109 | H18: Yes | J18: 0
A19: 1 | B19: 0008 | C19: Survey Coverage - Owner Policy | E19: 13.14.5.12C | F19: 1298 | G19: 158437 | H19: Yes | J19: 0
A20: 2 | B20: 0009 | C20: Survey Coverage - Loan Policy | E20: 13.14.5.12C | F20: 0 | G20: 0 | H20: No | J20: 0
A21: 1 | B21: 0010 | C21: Owner Pro Forma Policy | E21: 13.14.9.19C | F21: 33 | G21: 3300 | H21: No | J21: 0
A22: 2 | B22: 0011 | C22: Loan Pro Forma Policy | E22: 13.14.9.19C | F22: 43 | G22: 4300 | H22: No | J22: 0
A23: 1 | B23: 0012 | C23: Duplicate Original Policy | E23: None | F23: 0 | G23: 0 | H23: No | J23: 0
... A140: 91 | B140: 9100 | C140: Contract Purchaser Conversion Endorsement | E140: None | F140: 0 | G140: 0 | H140: Yes | J140: 0
F141: =SUM(F12:F140) -> 11374 | G141: =SUM(G12:G140) -> 5771871 | J141: =SUM(J12:J140) -> 0
F143: Crosscheck with Form 1: | G143: 5771871
F144: Difference: | G144: =G143-G141 -> 0
B145: Explanation for Difference (if any):

Sheet Commonwealth Land Title Ins.
A1: NEW MEXICO TITLE INSURANCE UNDERWRITER'S STATISTICAL REPORT
A2: FORM 3: TRANSACTION REPORT
A3: For Calendar Year Ending December 31, 2024
A4: NEW MEXICO EXPERIENCE ONLY
C5: Insurance Company: | D5: Commonwealth Land Title Insurance Company | J5: For Underwriters That Charge Rates Below the Promulgated Rates
J7: Direct Premiums As If They Had Been Written at Promulgated Rates
H8: Dependent
A9: NM | B9: Trans- | G9: Direct | H9: on Basic
A10: Form | B10: action | E10: NMAC | F10: Number of | G10: Premiums | H10: Premium
A11: No. | B11: Code | C11: Transaction Type | E11: Regulation | F11: Transactions | G11: Written | H11: Rate?
A12: 1, 2 | B12: 0001 | C12: Charge For Additional Chain of Title | E12: 13.14.9.16 | F12: 0 | G12: 0 | H12: No | J12: 0
A13: 1, 2 | B13: 0002 | C13: Charge For Unusual Complexity | E13: 13.14.9.16 | F13: 1 | G13: 545 | H13: Yes | J13: 0
A14: 1 | B14: 0003 | C14: Abstract Retirement Credit | E14: 13.14.9.24 | F14: 0 | G14: 0 | H14: Yes | J14: 0
A15: 2 | B15: 0004 | C15: Loan Policy - Mechanic's Lien Coverage With Evidence of Priority | E15: 13.14.5.12 | F15: 558 | G15: 27885 | H15: No | J15: 0
A16: 2 | B16: 0005 | C16: Loan Policy - Mechanic's Lien Coverage Without Evidence of Priority | E16: 13.14.5.12 | F16: 1 | G16: 1286 | H16: Yes | J16: 0
A17: 1 | B17: 0006 | C17: Owner's Policy - Mechanic's Lien Coverage - Filing Period Expired | E17: 13.14.5.12 | F17: 63 | G17: 3135 | H17: No | J17: 0
A18: 1 | B18: 0007 | C18: Owner's Policy - Mechanic's Lien Coverage - Filing Period Not Expired | E18: 13.14.5.12 | F18: 1 | G18: 572 | H18: Yes | J18: 0
A19: 1 | B19: 0008 | C19: Survey Coverage - Owner Policy | E19: 13.14.5.12C | F19: 582 | G19: 72800 | H19: Yes | J19: 0
A20: 2 | B20: 0009 | C20: Survey Coverage - Loan Policy | E20: 13.14.5.12C | F20: 0 | G20: 0 | H20: No | J20: 0
A21: 1 | B21: 0010 | C21: Owner Pro Forma Policy | E21: 13.14.9.19C | F21: 16 | G21: 1600 | H21: No | J21: 0
A22: 2 | B22: 0011 | C22: Loan Pro Forma Policy | E22: 13.14.9.19C | F22: 37 | G22: 3700 | H22: No | J22: 0
A23: 1 | B23: 0012 | C23: Duplicate Original Policy | E23: None | F23: 0 | G23: 0 | H23: No | J23: 0
... A140: 91 | B140: 9100 | C140: Contract Purchaser Conversion Endorsement | E140: None | F140: 1 | G140: 674 | H140: Yes | J140: 0
F141: =SUM(F12:F140) -> 4857 | G141: =SUM(G12:G140) -> 2417676 | J141: =SUM(J12:J140) -> 0
F143: Crosscheck with Form 1: | G143: 2417676
F144: Difference: | G144: =G143-G141 -> 0
B145: Explanation for Difference (if any):

Sheet DHI Title Insurance Company
A1: NEW MEXICO TITLE INSURANCE UNDERWRITER'S STATISTICAL REPORT
A2: FORM 3: TRANSACTION REPORT
A3: For Calendar Year Ending December 31, 2024
A4: NEW MEXICO EXPERIENCE ONLY
C5: Insurance Company: | D5: DHI Title Insurance Company | J5: For Underwriters That Charge Rates Below the Promulgated Rates
J7: Direct Premiums As If They Had Been Written at Promulgated Rates
H8: Dependent
A9: NM | B9: Trans- | G9: Direct | H9: on Basic
A10: Form | B10: action | E10: NMAC | F10: Number of | G10: Premiums | H10: Premium
A11: No. | B11: Code | C11: Transaction Type | E11: Regulation | F11: Transactions | G11: Written | H11: Rate?
A12: 1, 2 | B12: 0001 | C12: Charge For Additional Chain of Title | E12: 13.14.9.16 | F12: 0 | G12: 0 | H12: No | J12: 0
A13: 1, 2 | B13: 0002 | C13: Charge For Unusual Complexity | E13: 13.14.9.16 | F13: 0 | G13: 0 | H13: Yes | J13: 0
A14: 1 | B14: 0003 | C14: Abstract Retirement Credit | E14: 13.14.9.24 | F14: 0 | G14: 0 | H14: Yes | J14: 0
A15: 2 | B15: 0004 | C15: Loan Policy - Mechanic's Lien Coverage With Evidence of Priority | E15: 13.14.5.12 | F15: 471 | G15: 24357 | H15: No | J15: 24357
A16: 2 | B16: 0005 | C16: Loan Policy - Mechanic's Lien Coverage Without Evidence of Priority | E16: 13.14.5.12 | F16: 0 | G16: 0 | H16: Yes | J16: 0
A17: 1 | B17: 0006 | C17: Owner's Policy - Mechanic's Lien Coverage - Filing Period Expired | E17: 13.14.5.12 | F17: 0 | G17: 0 | H17: No | J17: 0
A18: 1 | B18: 0007 | C18: Owner's Policy - Mechanic's Lien Coverage - Filing Period Not Expired | E18: 13.14.5.12 | F18: 0 | G18: 0 | H18: Yes | J18: 0
A19: 1 | B19: 0008 | C19: Survey Coverage - Owner Policy | E19: 13.14.5.12C | F19: 0 | G19: 0 | H19: Yes | J19: 0
A20: 2 | B20: 0009 | C20: Survey Coverage - Loan Policy | E20: 13.14.5.12C | F20: 470 | G20: 23500 | H20: No | J20: 23500
A21: 1 | B21: 0010 | C21: Owner Pro Forma Policy | E21: 13.14.9.19C | F21: 0 | G21: 0 | H21: No | J21: 0
A22: 2 | B22: 0011 | C22: Loan Pro Forma Policy | E22: 13.14.9.19C | F22: 0 | G22: 0 | H22: No | J22: 0
A23: 1 | B23: 0012 | C23: Duplicate Original Policy | E23: None | F23: 0 | G23: 0 | H23: No | J23: 0
... A140: 91 | B140: 9100 | C140: Contract Purchaser Conversion Endorsement | E140: None | F140: 0 | G140: 0 | H140: Yes | J140: 0
F141: =SUM(F12:F140) -> 3360 | G141: =SUM(G12:G140) -> 864247 | J141: =SUM(J12:J140) -> 864247
F143: Crosscheck with Form 1: | G143: 864247
F144: Difference: | G144: =G143-G141 -> 0
B145: Explanation for Difference (if any):

Sheet Doma Title Insurance, Inc.
A1: NEW MEXICO TITLE INSURANCE UNDERWRITER'S STATISTICAL REPORT
A2: FORM 3: TRANSACTION REPORT
A3: For Calendar Year Ending December 31, 2024
A4: NEW MEXICO EXPERIENCE ONLY
C5: Insurance Company: | D5: Doma Title Insurance, Inc. | J5: For Underwriters That Charge Rates Below the Promulgated Rates
J7: Direct Premiums As If They Had Been Written at Promulgated Rates
H8: Dependent
A9: NM | B9: Trans- | G9: Direct | H9: on Basic
A10: Form | B10: action | E10: NMAC | F10: Number of | G10: Premiums | H10: Premium
A11: No. | B11: Code | C11: Transaction Type | E11: Regulation | F11: Transactions | G11: Written | H11: Rate?
A12: 1, 2 | B12: 0001 | C12: Charge For Additional Chain of Title | E12: 13.14.9.16 | F12: 0 | G12: 0 | H12: No | J12: 0
A13: 1, 2 | B13: 0002 | C13: Charge For Unusual Complexity | E13: 13.14.9.16 | F13: 0 | G13: 0 | H13: Yes | J13: 0
A14: 1 | B14: 0003 | C14: Abstract Retirement Credit | E14: 13.14.9.24 | F14: 0 | G14: 0 | H14: Yes | J14: 0
A15: 2 | B15: 0004 | C15: Loan Policy - Mechanic's Lien Coverage With Evidence of Priority | E15: 13.14.5.12 | F15: 0 | G15: 0 | H15: No | J15: 0
A16: 2 | B16: 0005 | C16: Loan Policy - Mechanic's Lien Coverage Without Evidence of Priority | E16: 13.14.5.12 | F16: 0 | G16: 0 | H16: Yes | J16: 0
A17: 1 | B17: 0006 | C17: Owner's Policy - Mechanic's Lien Coverage - Filing Period Expired | E17: 13.14.5.12 | F17: 0 | G17: 0 | H17: No | J17: 0
A18: 1 | B18: 0007 | C18: Owner's Policy - Mechanic's Lien Coverage - Filing Period Not Expired | E18: 13.14.5.12 | F18: 0 | G18: 0 | H18: Yes | J18: 0
A19: 1 | B19: 0008 | C19: Survey Coverage - Owner Policy | E19: 13.14.5.12C | F19: 0 | G19: 0 | H19: Yes | J19: 0
A20: 2 | B20: 0009 | C20: Survey Coverage - Loan Policy | E20: 13.14.5.12C | F20: 0 | G20: 0 | H20: No | J20: 0
A21: 1 | B21: 0010 | C21: Owner Pro Forma Policy | E21: 13.14.9.19C | F21: 0 | G21: 0 | H21: No | J21: 0
A22: 2 | B22: 0011 | C22: Loan Pro Forma Policy | E22: 13.14.9.19C | F22: 0 | G22: 0 | H22: No | J22: 0
A23: 1 | B23: 0012 | C23: Duplicate Original Policy | E23: None | F23: 0 | G23: 0 | H23: No | J23: 0
... A140: 91 | B140: 9100 | C140: Contract Purchaser Conversion Endorsement | E140: None | F140: 0 | G140: 0 | H140: Yes | J140: 0
F141: =SUM(F12:F140) -> 0 | G141: =SUM(G12:G140) -> 0 | J141: =SUM(J12:J140) -> 0
F143: Crosscheck with Form 1: | G143: 0
F144: Difference: | G144: =G143-G141 -> 0
B145: Explanation for Difference (if any):

Sheet Essent Title Insurance
A1: NEW MEXICO TITLE INSURANCE UNDERWRITER'S STATISTICAL REPORT
A2: FORM 3: TRANSACTION REPORT
A3: For Calendar Year Ending December 31, 2024
A4: NEW MEXICO EXPERIENCE ONLY
C5: Insurance Company: | D5: ESSENT TITLE INSURANCE, INC | J5: For Underwriters That Charge Rates Below the Promulgated Rates
J7: Direct Premiums As If They Had Been Written at Promulgated Rates
H8: Dependent
A9: NM | B9: Trans- | G9: Direct | H9: on Basic
A10: Form | B10: action | E10: NMAC | F10: Number of | G10: Premiums | H10: Premium
A11: No. | B11: Code | C11: Transaction Type | E11: Regulation | F11: Transactions | G11: Written | H11: Rate?
A12: 1, 2 | B12: 0001 | C12: Charge For Additional Chain of Title | E12: 13.14.9.16 | F12: 0 | G12: 0 | H12: No | J12: 0
A13: 1, 2 | B13: 0002 | C13: Charge For Unusual Complexity | E13: 13.14.9.16 | F13: 0 | G13: 0 | H13: Yes | J13: 0
A14: 1 | B14: 0003 | C14: Abstract Retirement Credit | E14: 13.14.9.24 | F14: 0 | G14: 0 | H14: Yes | J14: 0
A15: 2 | B15: 0004 | C15: Loan Policy - Mechanic's Lien Coverage With Evidence of Priority | E15: 13.14.5.12 | F15: 0 | G15: 0 | H15: No | J15: 0
A16: 2 | B16: 0005 | C16: Loan Policy - Mechanic's Lien Coverage Without Evidence of Priority | E16: 13.14.5.12 | F16: 0 | G16: 0 | H16: Yes | J16: 0
A17: 1 | B17: 0006 | C17: Owner's Policy - Mechanic's Lien Coverage - Filing Period Expired | E17: 13.14.5.12 | F17: 0 | G17: 0 | H17: No | J17: 0
A18: 1 | B18: 0007 | C18: Owner's Policy - Mechanic's Lien Coverage - Filing Period Not Expired | E18: 13.14.5.12 | F18: 0 | G18: 0 | H18: Yes | J18: 0
A19: 1 | B19: 0008 | C19: Survey Coverage - Owner Policy | E19: 13.14.5.12C | F19: 0 | G19: 0 | H19: Yes | J19: 0
A20: 2 | B20: 0009 | C20: Survey Coverage - Loan Policy | E20: 13.14.5.12C | F20: 0 | G20: 0 | H20: No | J20: 0
A21: 1 | B21: 0010 | C21: Owner Pro Forma Policy | E21: 13.14.9.19C | F21: 0 | G21: 0 | H21: No | J21: 0
A22: 2 | B22: 0011 | C22: Loan Pro Forma Policy | E22: 13.14.9.19C | F22: 0 | G22: 0 | H22: No | J22: 0
A23: 1 | B23: 0012 | C23: Duplicate Original Policy | E23: None | F23: 0 | G23: 0 | H23: No | J23: 0
... A36: 2 | B36: 0202 | C36: Loan Policy - Simultaneous Issue with Owner's Policy | E36: 13.14.9.22 | F36: 2 | G36: 6728 | H36: No | J36: 0
A37: 2 | B37: 0203 | C37: Loan Policy - Second Mortgage or Subsequent Issue | E37: 13.14.9.36 | F37: 121 | G37: =200446+6271 -> 206717 | H37: Yes | J37: 0
A38: 2 | B38: 0204 | C38: Replacement Loan Policy | E38: 13.14.9.26 | F38: 0 | G38: 0 | H38: Yes | J38: 0
A39: 2 | B39: 0205 | C39: Loan Policy With Two-Year Claims Made Limitation | E39: 13.14.9.40A | F39: 0 | G39: 0 | H39: No | J39: 0
A40: 2 | B40: 0206 | C40: Loan Policy with Two-Year Claims Made Limitation | E40: 13.14.9.40B | F40: 0 | G40: 0 | H40: No | J40: 0
A41: 2 | B41: 0240 | C41: Loan Policy - Substitution and Statutory Rate (within 3 years - 40%) | E41: 13.14.9.39 | F41: 0 | G41: 0 | H41: Yes | J41: 0
A42: 2 | B42: 0250 | C42: Loan Policy - Substitution Rate (more than 3 years, less than 5 - 50%) | E42: 13.14.9.39 | F42: 0 | G42: 0 | H42: Yes | J42: 0
A43: 2 | B43: 0260 | C43: Loan Policy - Substitution Rate (more than 5 years, less than 10 - 60%) | E43: 13.14.9.39 | F43: 0 | G43: 0 | H43: Yes | J43: 0
A44: 2 | B44: 0280 | C44: Loan Policy - Substitution Rate (more than 10 years, less than 20 - 80%) | E44: 13.14.9.39 | F44: 0 | G44: 0 | H44: Yes | J44: 0
A45: 6 | B45: 0600 | C45: Commitment for Title Insurance | E45: 13.14.9.19A | F45: 0 | G45: 0 | H45: No | J45: 0
A46: 9 | B46: 0900 | C46: Notice of Availability of Owner's Title Insurance | E46: None | F46: 0 | G46: 0 | H46: No | J46: 0
A47: 11 | B47: 1104 | C47: Correction/Multipurpose Endorsement | E47: 13.14.8.8 | F47: 0 | G47: 0 | H47: No | J47: 0
A48: 11 | B48: 1105 | C48: Renewal, Extension and Partial Release Endorsement | E48: None | F48: 0 | G48: 0 | H48: No | J48: 0
A49: 11 | B49: 1106 | C49: Extension of Commitment for Title Insurance | E49: 13.14.9.19A | F49: 0 | G49: 0 | H49: No | J49: 0
... A140: 91 | B140: 9100 | C140: Contract Purchaser Conversion Endorsement | E140: None | F140: 0 | G140: 0 | H140: Yes | J140: 0
F141: =SUM(F12:F140) -> 128 | G141: =SUM(G12:G140) -> 216182 | J141: =SUM(J12:J140) -> 0
F143: Crosscheck with Form 1: | G143: 216182
F144: Difference: | G144: =G143-G141 -> 0
...

Sheet Fidelity National Title Ins. Co
A1: NEW MEXICO TITLE INSURANCE UNDERWRITER'S STATISTICAL REPORT
A2: FORM 3: TRANSACTION REPORT
A3: For Calendar Year Ending December 31, 2024
A4: NEW MEXICO EXPERIENCE ONLY
C5: Insurance Company: | D5: Fidelity National Title Insurance Company | J5: For Underwriters That Charge Rates Below the Promulgated Rates
J7: Direct Premiums As If They Had Been Written at Promulgated Rates
H8: Dependent
A9: NM | B9: Trans- | G9: Direct | H9: on Basic
A10: Form | B10: action | E10: NMAC | F10: Number of | G10: Premiums | H10: Premium
A11: No. | B11: Code | C11: Transaction Type | E11: Regulation | F11: Transactions | G11: Written | H11: Rate?
A12: 1, 2 | B12: 0001 | C12: Charge For Additional Chain of Title | E12: 13.14.9.16 | F12: 0 | G12: 0 | H12: No | J12: 0
A13: 1, 2 | B13: 0002 | C13: Charge For Unusual Complexity | E13: 13.14.9.16 | F13: 15 | G13: 10099 | H13: Yes | J13: 0
A14: 1 | B14: 0003 | C14: Abstract Retirement Credit | E14: 13.14.9.24 | F14: 0 | G14: 0 | H14: Yes | J14: 0
A15: 2 | B15: 0004 | C15: Loan Policy - Mechanic's Lien Coverage With Evidence of Priority | E15: 13.14.5.12 | F15: 9248 | G15: 462365 | H15: No | J15: 0
A16: 2 | B16: 0005 | C16: Loan Policy - Mechanic's Lien Coverage Without Evidence of Priority | E16: 13.14.5.12 | F16: 5 | G16: 14902 | H16: Yes | J16: 0
A17: 1 | B17: 0006 | C17: Owner's Policy - Mechanic's Lien Coverage - Filing Period Expired | E17: 13.14.5.12 | F17: 720 | G17: 35965 | H17: No | J17: 0
A18: 1 | B18: 0007 | C18: Owner's Policy - Mechanic's Lien Coverage - Filing Period Not Expired | E18: 13.14.5.12 | F18: 9 | G18: 17659 | H18: Yes | J18: 0
A19: 1 | B19: 0008 | C19: Survey Coverage - Owner Policy | E19: 13.14.5.12C | F19: 9285 | G19: 941880 | H19: Yes | J19: 0
A20: 2 | B20: 0009 | C20: Survey Coverage - Loan Policy | E20: 13.14.5.12C | F20: 1 | G20: 65 | H20: No | J20: 0
A21: 1 | B21: 0010 | C21: Owner Pro Forma Policy | E21: 13.14.9.19C | F21: 132 | G21: 13200 | H21: No | J21: 0
A22: 2 | B22: 0011 | C22: Loan Pro Forma Policy | E22: 13.14.9.19C | F22: 159 | G22: 15900 | H22: No | J22: 0
A23: 1 | B23: 0012 | C23: Duplicate Original Policy | E23: None | F23: 0 | G23: 0 | H23: No | J23: 0
... A140: 91 | B140: 9100 | C140: Contract Purchaser Conversion Endorsement | E140: None | F140: 0 | G140: 0 | H140: Yes | J140: 0
F141: =SUM(F12:F140) -> 74775 | G141: =SUM(G12:G140) -> 30864050 | J141: =SUM(J12:J140) -> 0
F143: Crosscheck with Form 1: | G143: 30864050
F144: Difference: | G144: =G143-G141 -> 0
B145: Explanation for Difference (if any):

Sheet First American Title Insurance 
A1: NEW MEXICO TITLE INSURANCE UNDERWRITER'S STATISTICAL REPORT
A2: FORM 3: TRANSACTION REPORT
A3: For Calendar Year Ending December 31, 2024
A4: NEW MEXICO EXPERIENCE ONLY
C5: Insurance Company: | D5: First American Title Insurance Company | J5: For Underwriters That Charge Rates Below the Promulgated Rates
J7: Direct Premiums As If They Had Been Written at Promulgated Rates
H8: Dependent
A9: NM | B9: Trans- | G9: Direct | H9: on Basic
A10: Form | B10: action | E10: NMAC | F10: Number of | G10: Premiums | H10: Premium
A11: No. | B11: Code | C11: Transaction Type | E11: Regulation | F11: Transactions | G11: Written | H11: Rate?
A12: 1, 2 | B12: 0001 | C12: Charge For Additional Chain of Title | E12: 13.14.9.16 | F12: 0 | G12: 0 | H12: No | J12: 0
A13: 1, 2 | B13: 0002 | C13: Charge For Unusual Complexity | E13: 13.14.9.16 | F13: 1 | G13: 149 | H13: Yes | J13: 0
A14: 1 | B14: 0003 | C14: Abstract Retirement Credit | E14: 13.14.9.24 | F14: 104 | G14: 7932 | H14: Yes | J14: 0
A15: 2 | B15: 0004 | C15: Loan Policy - Mechanic's Lien Coverage With Evidence of Priority | E15: 13.14.5.12 | F15: 5448 | G15: 272306 | H15: No | J15: 0
A16: 2 | B16: 0005 | C16: Loan Policy - Mechanic's Lien Coverage Without Evidence of Priority | E16: 13.14.5.12 | F16: 18 | G16: 497755.62 | H16: Yes | J16: 0
A17: 1 | B17: 0006 | C17: Owner's Policy - Mechanic's Lien Coverage - Filing Period Expired | E17: 13.14.5.12 | F17: 1016 | G17: 50757 | H17: No | J17: 0
A18: 1 | B18: 0007 | C18: Owner's Policy - Mechanic's Lien Coverage - Filing Period Not Expired | E18: 13.14.5.12 | F18: 15 | G18: 27813 | H18: Yes | J18: 0
A19: 1 | B19: 0008 | C19: Survey Coverage - Owner Policy | E19: 13.14.5.12C | F19: 859 | G19: 584797.6 | H19: Yes | J19: 0
A20: 2 | B20: 0009 | C20: Survey Coverage - Loan Policy | E20: 13.14.5.12C | F20: 4978 | G20: 248795 | H20: No | J20: 0
A21: 1 | B21: 0010 | C21: Owner Pro Forma Policy | E21: 13.14.9.19C | F21: 83 | G21: 8300 | H21: No | J21: 0
A22: 2 | B22: 0011 | C22: Loan Pro Forma Policy | E22: 13.14.9.19C | F22: 142 | G22: 15225 | H22: No | J22: 0
A23: 1 | B23: 0012 | C23: Duplicate Original Policy | E23: None | F23: 1 | G23: 25 | H23: No | J23: 0
... A139: 90 | B139: 9000 | C139: Residential Limited Coverage Modification of Mortgage Policy | E139: 13.14.7.21 | F139: 1084 | G139: 1276738 | H139: Yes | J139: 0
A140: 91 | B140: 9100 | C140: Contract Purchaser Conversion Endorsement | E140: None | H140: Yes | J140: 0
F141: =SUM(F12:F140) -> 49858 | G141: =SUM(G12:G140) -> 27522924 | J141: =SUM(J12:J140) -> 0
F143: Crosscheck with Form 1: | G143: 27522925
F144: Difference: | G144: =G143-G141 -> 0.48
B145: Explanation for Difference (if any):

Sheet First National TItle Ins Co
A1: NEW MEXICO TITLE INSURANCE UNDERWRITER'S STATISTICAL REPORT
A2: FORM 3: TRANSACTION REPORT
A3: For Calendar Year Ending December 31, 2024
A4: NEW MEXICO EXPERIENCE ONLY
C5: Insurance Company: | D5: First National Title Insurance Company | J5: For Underwriters That Charge Rates Below the Promulgated Rates
J7: Direct Premiums As If They Had Been Written at Promulgated Rates
H8: Dependent
A9: NM | B9: Trans- | G9: Direct | H9: on Basic
A10: Form | B10: action | E10: NMAC | F10: Number of | G10: Premiums | H10: Premium
A11: No. | B11: Code | C11: Transaction Type | E11: Regulation | F11: Transactions | G11: Written | H11: Rate?
A12: 1, 2 | B12: 0001 | C12: Charge For Additional Chain of Title | E12: 13.14.9.16 | F12: 0 | G12: 0 | H12: No | J12: 0
A13: 1, 2 | B13: 0002 | C13: Charge For Unusual Complexity | E13: 13.14.9.16 | F13: 0 | G13: 0 | H13: Yes | J13: 0
A14: 1 | B14: 0003 | C14: Abstract Retirement Credit | E14: 13.14.9.24 | F14: 0 | G14: 0 | H14: Yes | J14: 0
A15: 2 | B15: 0004 | C15: Loan Policy - Mechanic's Lien Coverage With Evidence of Priority | E15: 13.14.5.12 | F15: 770 | G15: 40750 | H15: No | J15: 0
A16: 2 | B16: 0005 | C16: Loan Policy - Mechanic's Lien Coverage Without Evidence of Priority | E16: 13.14.5.12 | F16: 2 | G16: 50 | H16: Yes | J16: 0
A17: 1 | B17: 0006 | C17: Owner's Policy - Mechanic's Lien Coverage - Filing Period Expired | E17: 13.14.5.12 | F17: 535 | G17: 34949 | H17: No | J17: 0
A18: 1 | B18: 0007 | C18: Owner's Policy - Mechanic's Lien Coverage - Filing Period Not Expired | E18: 13.14.5.12 | F18: 0 | G18: 0 | H18: Yes | J18: 0
A19: 1 | B19: 0008 | C19: Survey Coverage - Owner Policy | E19: 13.14.5.12C | F19: 515 | G19: 276643 | H19: Yes | J19: 0
A20: 2 | B20: 0009 | C20: Survey Coverage - Loan Policy | E20: 13.14.5.12C | F20: 668 | G20: 33200 | H20: No | J20: 0
A21: 1 | B21: 0010 | C21: Owner Pro Forma Policy | E21: 13.14.9.19C | F21: 1 | G21: 500 | H21: No | J21: 0
A22: 2 | B22: 0011 | C22: Loan Pro Forma Policy | E22: 13.14.9.19C | F22: 1 | G22: 25 | H22: No | J22: 0
A23: 1 | B23: 0012 | C23: Duplicate Original Policy | E23: None | F23: 0 | G23: 0 | H23: No | J23: 0
... A140: 91 | B140: 9100 | C140: Contract Purchaser Conversion Endorsement | E140: None | F140: 0 | G140: 0 | H140: Yes | J140: 0
F141: =SUM(F12:F140) -> 7368 | G141: =SUM(G12:G140) -> 3775934.7 | J141: =SUM(J12:J140) -> 0
F143: Crosscheck with Form 1: | G143: 3753679
F144: Difference: | G144: =G143-G141 -> -22255.75
B145: Explanation for Difference (if any):
B146: Form 3 includes only premiums from policies RECEIVED by the Company in 2024, whereas premiums reported in NAIC Annual Statement Schedule T include adjustments for accruals. The (-22,256)
B147: difference represents the change in accrued premiums during 2024

Sheet Investors Title Ins. Co
A1: NEW MEXICO TITLE INSURANCE UNDERWRITER'S STATISTICAL REPORT
A2: FORM 3: TRANSACTION REPORT
A3: For Calendar Year Ending December 31, 2024
A4: NEW MEXICO EXPERIENCE ONLY
C5: Insurance Company: | D5: Investors Title Insurance Company | J5: For Underwriters That Charge Rates Below the Promulgated Rates
J7: Direct Premiums As If They Had Been Written at Promulgated Rates
H8: Dependent
A9: NM | B9: Trans- | G9: Direct | H9: on Basic
A10: Form | B10: action | E10: NMAC | F10: Number of | G10: Premiums | H10: Premium
A11: No. | B11: Code | C11: Transaction Type | E11: Regulation | F11: Transactions | G11: Written | H11: Rate?
A12: 1, 2 | B12: 0001 | C12: Charge For Additional Chain of Title | E12: 13.14.9.16 | F12: 0 | G12: 0 | H12: No | J12: 0
A13: 1, 2 | B13: 0002 | C13: Charge For Unusual Complexity | E13: 13.14.9.16 | F13: 0 | G13: 0 | H13: Yes | J13: 0
A14: 1 | B14: 0003 | C14: Abstract Retirement Credit | E14: 13.14.9.24 | F14: 0 | G14: 0 | H14: Yes | J14: 0
A15: 2 | B15: 0004 | C15: Loan Policy - Mechanic's Lien Coverage With Evidence of Priority | E15: 13.14.5.12 | F15: 0 | G15: 0 | H15: No | J15: 0
A16: 2 | B16: 0005 | C16: Loan Policy - Mechanic's Lien Coverage Without Evidence of Priority | E16: 13.14.5.12 | F16: 0 | G16: 0 | H16: Yes | J16: 0
A17: 1 | B17: 0006 | C17: Owner's Policy - Mechanic's Lien Coverage - Filing Period Expired | E17: 13.14.5.12 | F17: 0 | G17: 0 | H17: No | J17: 0
A18: 1 | B18: 0007 | C18: Owner's Policy - Mechanic's Lien Coverage - Filing Period Not Expired | E18: 13.14.5.12 | F18: 0 | G18: 0 | H18: Yes | J18: 0
A19: 1 | B19: 0008 | C19: Survey Coverage - Owner Policy | E19: 13.14.5.12C | F19: 0 | G19: 0 | H19: Yes | J19: 0
A20: 2 | B20: 0009 | C20: Survey Coverage - Loan Policy | E20: 13.14.5.12C | F20: 0 | G20: 0 | H20: No | J20: 0
A21: 1 | B21: 0010 | C21: Owner Pro Forma Policy | E21: 13.14.9.19C | F21: 0 | G21: 0 | H21: No | J21: 0
A22: 2 | B22: 0011 | C22: Loan Pro Forma Policy | E22: 13.14.9.19C | F22: 0 | G22: 0 | H22: No | J22: 0
A23: 1 | B23: 0012 | C23: Duplicate Original Policy | E23: None | F23: 0 | G23: 0 | H23: No | J23: 0
... A140: 91 | B140: 9100 | C140: Contract Purchaser Conversion Endorsement | E140: None | F140: 0 | G140: 0 | H140: Yes | J140: 0
F141: =SUM(F12:F140) -> 0 | G141: =SUM(G12:G140) -> 0 | J141: =SUM(J12:J140) -> 0
F143: Crosscheck with Form 1: | G143: 0
F144: Difference: | G144: =G143-G141 -> 0
B145: Explanation for Difference (if any):

Sheet National Title Ins. of New York
A1: NEW MEXICO TITLE INSURANCE UNDERWRITER'S STATISTICAL REPORT
A2: FORM 3: TRANSACTION REPORT
A3: For Calendar Year Ending December 31, 2024
A4: NEW MEXICO EXPERIENCE ONLY
C5: Insurance Company: | D5: National Title Insurance of New York Inc. | J5: For Underwriters That Charge Rates Below the Promulgated Rates
J7: Direct Premiums As If They Had Been Written at Promulgated Rates
H8: Dependent
A9: NM | B9: Trans- | G9: Direct | H9: on Basic
A10: Form | B10: action | E10: NMAC | F10: Number of | G10: Premiums | H10: Premium
A11: No. | B11: Code | C11: Transaction Type | E11: Regulation | F11: Transactions | G11: Written | H11: Rate?
A12: 1, 2 | B12: 0001 | C12: Charge For Additional Chain of Title | E12: 13.14.9.16 | F12: 0 | G12: 0 | H12: No | J12: 0
A13: 1, 2 | B13: 0002 | C13: Charge For Unusual Complexity | E13: 13.14.9.16 | F13: 0 | G13: 0 | H13: Yes | J13: 0
A14: 1 | B14: 0003 | C14: Abstract Retirement Credit | E14: 13.14.9.24 | F14: 0 | G14: 0 | H14: Yes | J14: 0
A15: 2 | B15: 0004 | C15: Loan Policy - Mechanic's Lien Coverage With Evidence of Priority | E15: 13.14.5.12 | F15: 0 | G15: 0 | H15: No | J15: 0
A16: 2 | B16: 0005 | C16: Loan Policy - Mechanic's Lien Coverage Without Evidence of Priority | E16: 13.14.5.12 | F16: 0 | G16: 0 | H16: Yes | J16: 0
A17: 1 | B17: 0006 | C17: Owner's Policy - Mechanic's Lien Coverage - Filing Period Expired | E17: 13.14.5.12 | F17: 0 | G17: 0 | H17: No | J17: 0
A18: 1 | B18: 0007 | C18: Owner's Policy - Mechanic's Lien Coverage - Filing Period Not Expired | E18: 13.14.5.12 | F18: 0 | G18: 0 | H18: Yes | J18: 0
A19: 1 | B19: 0008 | C19: Survey Coverage - Owner Policy | E19: 13.14.5.12C | F19: 0 | G19: 0 | H19: Yes | J19: 0
A20: 2 | B20: 0009 | C20: Survey Coverage - Loan Policy | E20: 13.14.5.12C | F20: 0 | G20: 0 | H20: No | J20: 0
A21: 1 | B21: 0010 | C21: Owner Pro Forma Policy | E21: 13.14.9.19C | F21: 0 | G21: 0 | H21: No | J21: 0
A22: 2 | B22: 0011 | C22: Loan Pro Forma Policy | E22: 13.14.9.19C | F22: 0 | G22: 0 | H22: No | J22: 0
A23: 1 | B23: 0012 | C23: Duplicate Original Policy | E23: None | F23: 0 | G23: 0 | H23: No | J23: 0
... A140: 91 | B140: 9100 | C140: Contract Purchaser Conversion Endorsement | E140: None | F140: 0 | G140: 0 | H140: Yes | J140: 0
F141: =SUM(F12:F140) -> 0 | G141: =SUM(G12:G140) -> 0 | J141: =SUM(J12:J140) -> 0
F143: Crosscheck with Form 1: | G143: 0
F144: Difference: | G144: =G143-G141 -> 0
B145: Explanation for Difference (if any):

Sheet Old Republic National Title Ins
A1: NEW MEXICO TITLE INSURANCE UNDERWRITER'S STATISTICAL REPORT
A2: FORM 3: TRANSACTION REPORT
A3: For Calendar Year Ending December 31, 2024
A4: NEW MEXICO EXPERIENCE ONLY
C5: Insurance Company: | D5: Old Republic National Title Insurance Company | J5: For Underwriters That Charge Rates Below the Promulgated Rates
J7: Direct Premiums As If They Had Been Written at Promulgated Rates
H8: Dependent
A9: NM | B9: Trans- | G9: Direct | H9: on Basic
A10: Form | B10: action | E10: NMAC | F10: Number of | G10: Premiums | H10: Premium
A11: No. | B11: Code | C11: Transaction Type | E11: Regulation | F11: Transactions | G11: Written | H11: Rate?
A12: 1, 2 | B12: 0001 | C12: Charge For Additional Chain of Title | E12: 13.14.9.16 | F12: 1 | G12: 50 | H12: No | J12: 0
A13: 1, 2 | B13: 0002 | C13: Charge For Unusual Complexity | E13: 13.14.9.16 | F13: 1 | G13: 273 | H13: Yes | J13: 0
A14: 1 | B14: 0003 | C14: Abstract Retirement Credit | E14: 13.14.9.24 | F14: 0 | G14: 0 | H14: Yes | J14: 0
A15: 2 | B15: 0004 | C15: Loan Policy - Mechanic's Lien Coverage With Evidence of Priority | E15: 13.14.5.12 | F15: 4374 | G15: 218050 | H15: No | J15: 0
A16: 2 | B16: 0005 | C16: Loan Policy - Mechanic's Lien Coverage Without Evidence of Priority | E16: 13.14.5.12 | F16: 46 | G16: 78735 | H16: Yes | J16: 0
A17: 1 | B17: 0006 | C17: Owner's Policy - Mechanic's Lien Coverage - Filing Period Expired | E17: 13.14.5.12 | F17: 722 | G17: 36025 | H17: No | J17: 0
A18: 1 | B18: 0007 | C18: Owner's Policy - Mechanic's Lien Coverage - Filing Period Not Expired | E18: 13.14.5.12 | F18: 5 | G18: 6147 | H18: Yes | J18: 0
A19: 1 | B19: 0008 | C19: Survey Coverage - Owner Policy | E19: 13.14.5.12C | F19: 799 | G19: 458828 | H19: Yes | J19: 0
A20: 2 | B20: 0009 | C20: Survey Coverage - Loan Policy | E20: 13.14.5.12C | F20: 3953 | G20: 219119 | H20: No | J20: 0
A21: 1 | B21: 0010 | C21: Owner Pro Forma Policy | E21: 13.14.9.19C | F21: 3 | G21: 300 | H21: No | J21: 0
A22: 2 | B22: 0011 | C22: Loan Pro Forma Policy | E22: 13.14.9.19C | F22: 3 | G22: 300 | H22: No | J22: 0
A23: 1 | B23: 0012 | C23: Duplicate Original Policy | E23: None | F23: 0 | G23: 0 | H23: No | J23: 0
... A140: 91 | B140: 9100 | C140: Contract Purchaser Conversion Endorsement | E140: None | F140: 0 | G140: 0 | H140: Yes | J140: 0
F141: =SUM(F12:F140) -> 30565 | G141: =SUM(G12:G140) -> 13887117 | J141: =SUM(J12:J140) -> 0
F143: Crosscheck with Form 1: | G143: 13889781
F144: Difference: | G144: =G143-G141 -> 2664.45
B145: Explanation for Difference (if any):
B146: Timing difference between the statistical premium reported based on detail policy information and the booking of the policy register amounts in the general ledger premium totals. The timing difference is
B147: made up of both premium booked in 2023 with corresponding policy detail information keyed in 2024 offset by premium booked in 2024 with policy detail being keyed in 2025.

Sheet Premier Land Title
A1: NEW MEXICO TITLE INSURANCE UNDERWRITER'S STATISTICAL REPORT
A2: FORM 3: TRANSACTION REPORT
A3: For Calendar Year Ending December 31, 2024
A4: NEW MEXICO EXPERIENCE ONLY
C5: Insurance Company: | D5: Premier Land Title Insurance Company | J5: For Underwriters That Charge Rates Below the Promulgated Rates
J7: Direct Premiums As If They Had Been Written at Promulgated Rates
H8: Dependent
A9: NM | B9: Trans- | G9: Direct | H9: on Basic
A10: Form | B10: action | E10: NMAC | F10: Number of | G10: Premiums | H10: Premium
A11: No. | B11: Code | C11: Transaction Type | E11: Regulation | F11: Transactions | G11: Written | H11: Rate?
A12: 1, 2 | B12: 0001 | C12: Charge For Additional Chain of Title | E12: 13.14.9.16 | F12: 0 | G12: 0 | H12: No | J12: 0
A13: 1, 2 | B13: 0002 | C13: Charge For Unusual Complexity | E13: 13.14.9.16 | F13: 0 | G13: 0 | H13: Yes | J13: 0
A14: 1 | B14: 0003 | C14: Abstract Retirement Credit | E14: 13.14.9.24 | F14: 0 | G14: 0 | H14: Yes | J14: 0
A15: 2 | B15: 0004 | C15: Loan Policy - Mechanic's Lien Coverage With Evidence of Priority | E15: 13.14.5.12 | F15: 374 | G15: 18700 | H15: No | J15: 0
A16: 2 | B16: 0005 | C16: Loan Policy - Mechanic's Lien Coverage Without Evidence of Priority | E16: 13.14.5.12 | F16: 0 | G16: 0 | H16: Yes | J16: 0
A17: 1 | B17: 0006 | C17: Owner's Policy - Mechanic's Lien Coverage - Filing Period Expired | E17: 13.14.5.12 | F17: 0 | G17: 0 | H17: No | J17: 0
A18: 1 | B18: 0007 | C18: Owner's Policy - Mechanic's Lien Coverage - Filing Period Not Expired | E18: 13.14.5.12 | F18: 5 | G18: 7429 | H18: Yes | J18: 0
A19: 1 | B19: 0008 | C19: Survey Coverage - Owner Policy | E19: 13.14.5.12C | F19: 0 | G19: 0 | H19: Yes | J19: 0
A20: 2 | B20: 0009 | C20: Survey Coverage - Loan Policy | E20: 13.14.5.12C | F20: 376 | G20: 22704.74 | H20: No | J20: 0
A21: 1 | B21: 0010 | C21: Owner Pro Forma Policy | E21: 13.14.9.19C | F21: 0 | G21: 0 | H21: No | J21: 0
A22: 2 | B22: 0011 | C22: Loan Pro Forma Policy | E22: 13.14.9.19C | F22: 0 | G22: 0 | H22: No | J22: 0
A23: 1 | B23: 0012 | C23: Duplicate Original Policy | E23: None | F23: 0 | G23: 0 | H23: No | J23: 0
... A140: 91 | B140: 9100 | C140: Contract Purchaser Conversion Endorsement | E140: None | F140: 0 | G140: 0 | H140: Yes | J140: 0
F141: =SUM(F12:F140) -> 2727 | G141: =SUM(G12:G140) -> 942423.74 | J141: =SUM(J12:J140) -> 0
F143: Crosscheck with Form 1: | G143: 942424
F144: Difference: | G144: =G143-G141 -> 0.26
B145: Explanation for Difference (if any):

Sheet Radian Title Insurance
A1: NEW MEXICO TITLE INSURANCE UNDERWRITER'S STATISTICAL REPORT
A2: FORM 3: TRANSACTION REPORT
A3: For Calendar Year Ending December 31, 2024
A4: NEW MEXICO EXPERIENCE ONLY
C5: Insurance Company: | D5: Radian Title Insurance Inc. | J5: For Underwriters That Charge Rates Below the Promulgated Rates
J7: Direct Premiums As If They Had Been Written at Promulgated Rates
H8: Dependent
A9: NM | B9: Trans- | G9: Direct | H9: on Basic
A10: Form | B10: action | E10: NMAC | F10: Number of | G10: Premiums | H10: Premium
A11: No. | B11: Code | C11: Transaction Type | E11: Regulation | F11: Transactions | G11: Written | H11: Rate?
A12: 1, 2 | B12: 0001 | C12: Charge For Additional Chain of Title | E12: 13.14.9.16 | F12: 0 | G12: 0 | H12: No | J12: 0
A13: 1, 2 | B13: 0002 | C13: Charge For Unusual Complexity | E13: 13.14.9.16 | F13: 0 | G13: 0 | H13: Yes | J13: 0
A14: 1 | B14: 0003 | C14: Abstract Retirement Credit | E14: 13.14.9.24 | F14: 0 | G14: 0 | H14: Yes | J14: 0
A15: 2 | B15: 0004 | C15: Loan Policy - Mechanic's Lien Coverage With Evidence of Priority | E15: 13.14.5.12 | F15: 0 | G15: 0 | H15: No | J15: 0
A16: 2 | B16: 0005 | C16: Loan Policy - Mechanic's Lien Coverage Without Evidence of Priority | E16: 13.14.5.12 | F16: 0 | G16: 0 | H16: Yes | J16: 0
A17: 1 | B17: 0006 | C17: Owner's Policy - Mechanic's Lien Coverage - Filing Period Expired | E17: 13.14.5.12 | F17: 0 | G17: 0 | H17: No | J17: 0
A18: 1 | B18: 0007 | C18: Owner's Policy - Mechanic's Lien Coverage - Filing Period Not Expired | E18: 13.14.5.12 | F18: 0 | G18: 0 | H18: Yes | J18: 0
A19: 1 | B19: 0008 | C19: Survey Coverage - Owner Policy | E19: 13.14.5.12C | F19: 0 | G19: 0 | H19: Yes | J19: 0
A20: 2 | B20: 0009 | C20: Survey Coverage - Loan Policy | E20: 13.14.5.12C | F20: 0 | G20: 0 | H20: No | J20: 0
A21: 1 | B21: 0010 | C21: Owner Pro Forma Policy | E21: 13.14.9.19C | F21: 0 | G21: 0 | H21: No | J21: 0
A22: 2 | B22: 0011 | C22: Loan Pro Forma Policy | E22: 13.14.9.19C | F22: 0 | G22: 0 | H22: No | J22: 0
A23: 1 | B23: 0012 | C23: Duplicate Original Policy | E23: None | F23: 0 | G23: 0 | H23: No | J23: 0
... A140: 91 | B140: 9100 | C140: Contract Purchaser Conversion Endorsement | E140: None | F140: 0 | G140: 0 | H140: Yes | J140: 0
F141: =SUM(F12:F140) -> 0 | G141: =SUM(G12:G140) -> 0 | J141: =SUM(J12:J140) -> 0
F143: Crosscheck with Form 1: | G143: 0
F144: Difference: | G144: =G143-G141 -> 0
B145: Explanation for Difference (if any):

Sheet Stewart Guaranty Company
A1: NEW MEXICO TITLE INSURANCE UNDERWRITER'S STATISTICAL REPORT
A2: FORM 3: TRANSACTION REPORT
A3: For Calendar Year Ending December 31, 2024
A4: NEW MEXICO EXPERIENCE ONLY
C5: Insurance Company: | D5: Stewart Title Guaranty Company | J5: For Underwriters That Charge Rates Below the Promulgated Rates
J7: Direct Premiums As If They Had Been Written at Promulgated Rates
H8: Dependent
A9: NM | B9: Trans- | G9: Direct | H9: on Basic
A10: Form | B10: action | E10: NMAC | F10: Number of | G10: Premiums | H10: Premium
A11: No. | B11: Code | C11: Transaction Type | E11: Regulation | F11: Transactions | G11: Written | H11: Rate?
A12: 1, 2 | B12: 0001 | C12: Charge For Additional Chain of Title | E12: 13.14.9.16 | F12: 49 | G12: 4850 | H12: No | J12: 0
A13: 1, 2 | B13: 0002 | C13: Charge For Unusual Complexity | E13: 13.14.9.16 | F13: 0 | G13: 0 | H13: Yes | J13: 0
A14: 1 | B14: 0003 | C14: Abstract Retirement Credit | E14: 13.14.9.24 | F14: 0 | G14: 0 | H14: Yes | J14: 0
A15: 2 | B15: 0004 | C15: Loan Policy - Mechanic's Lien Coverage With Evidence of Priority | E15: 13.14.5.12 | F15: 2141 | G15: 105500 | H15: No | J15: 0
A16: 2 | B16: 0005 | C16: Loan Policy - Mechanic's Lien Coverage Without Evidence of Priority | E16: 13.14.5.12 | F16: 7 | G16: 9335 | H16: Yes | J16: 0
A17: 1 | B17: 0006 | C17: Owner's Policy - Mechanic's Lien Coverage - Filing Period Expired | E17: 13.14.5.12 | F17: 622 | G17: 30417 | H17: No | J17: 0
A18: 1 | B18: 0007 | C18: Owner's Policy - Mechanic's Lien Coverage - Filing Period Not Expired | E18: 13.14.5.12 | F18: 3 | G18: 50 | H18: Yes | J18: 0
A19: 1 | B19: 0008 | C19: Survey Coverage - Owner Policy | E19: 13.14.5.12C | F19: 559 | G19: 557397 | H19: Yes | J19: 0
A20: 2 | B20: 0009 | C20: Survey Coverage - Loan Policy | E20: 13.14.5.12C | F20: 1797 | G20: 88400 | H20: No | J20: 0
A21: 1 | B21: 0010 | C21: Owner Pro Forma Policy | E21: 13.14.9.19C | F21: 38 | G21: 4200 | H21: No | J21: 0
A22: 2 | B22: 0011 | C22: Loan Pro Forma Policy | E22: 13.14.9.19C | F22: 32 | G22: 3600 | H22: No | J22: 0
A23: 1 | B23: 0012 | C23: Duplicate Original Policy | E23: None | F23: 0 | G23: 0 | H23: No | J23: 0
... A42: 2 | B42: 0250 | C42: Loan Policy - Substitution Rate (more than 3 years, less than 5 - 50%) | E42: 13.14.9.39 | F42: 59 | G42: 94971 | H42: Yes | J42: 0
A43: 2 | B43: 0260 | C43: Loan Policy - Substitution Rate (more than 5 years, less than 10 - 60%) | E43: 13.14.9.39 | F43: 54 | G43: =58412+702 -> 59114 | H43: Yes | J43: 0
A44: 2 | B44: 0280 | C44: Loan Policy - Substitution Rate (more than 10 years, less than 20 - 80%) | E44: 13.14.9.39 | F44: 61 | G44: 93942 | H44: Yes | J44: 0
A45: 6 | B45: 0600 | C45: Commitment for Title Insurance | E45: 13.14.9.19A | F45: 4377 | G45: 424958 | H45: No | J45: 0
A46: 9 | B46: 0900 | C46: Notice of Availability of Owner's Title Insurance | E46: None | F46: 0 | G46: 0 | H46: No | J46: 0
A47: 11 | B47: 1104 | C47: Correction/Multipurpose Endorsement | E47: 13.14.8.8 | F47: 69 | G47: 25 | H47: No | J47: 0
A48: 11 | B48: 1105 | C48: Renewal, Extension and Partial Release Endorsement | E48: None | F48: 0 | G48: 0 | H48: No | J48: 0
A49: 11 | B49: 1106 | C49: Extension of Commitment for Title Insurance | E49: 13.14.9.19A | F49: 1 | G49: 100 | H49: No | J49: 0
A50: 11 | B50: 1108 | C50: Increase in Coverage | E50: 13.14.6.8C | F50: 0 | G50: 0 | H50: Yes | J50: 0
A51: 12 | B51: 1200 | C51: Condominium Endorsement - Assessments Priority | E51: 13.14.8.42 | F51: 75 | G51: 1900 | H51: No | J51: 0
A52: 13 | B52: 1300 | C52: Planned Unit Development Endorsement - All Assessments | E52: 13.14.8.43 | F52: 352 | G52: 8725 | H52: No | J52: 0
A53: 13.1 | B53: 1301 | C53: Planned Unit Development Endorsement - Unpaid Assessments | E53: 13.14.8.43 | F53: 35 | G53: 925 | H53: No | J53: 0
A54: 14 | B54: 1400 | C54: Variable Rate Mortgage Endorsement | E54: None | F54: 141 | G54: 3500 | H54: No | J54: 0
A55: 15 | B55: 1500 | C55: Variable Rate Mortgage Endorsement - Negative Amortization | E55: None | F55: 70 | G55: 1775 | H55: No | J55: 0
... A60: 20 | B60: 2000 | C60: Leasehold Owner's Endorsement | E60: 13.14.6.8E4 | F60: 8 | G60: 207 | H60: No | J60: 0
A61: 21 | B61: 2100 | C61: Leasehold Loan Endorsement | E61: 13.14.7.8D | F61: 3 | H61: No | J61: 0
A62: 22 | B62: 2200 | C62: Pending Disbursement Down Date Endorsement | E62: None | F62: 59 | G62: 3825 | H62: No | J62: 0
A63: 23 | B63: 2300 | C63: Pending Improvements Endorsement | E63: None | F63: 4 | G63: 100 | H63: No | J63: 0
...

Sheet Title Resources Guaranty Co.
A1: NEW MEXICO TITLE INSURANCE UNDERWRITER'S STATISTICAL REPORT
A2: FORM 3: TRANSACTION REPORT
A3: For Calendar Year Ending December 31, 2024
A4: NEW MEXICO EXPERIENCE ONLY
C5: Insurance Company: | D5: Title Resources Guaranty Company | J5: For Underwriters That Charge Rates Below the Promulgated Rates
J7: Direct Premiums As If They Had Been Written at Promulgated Rates
H8: Dependent
A9: NM | B9: Trans- | G9: Direct | H9: on Basic
A10: Form | B10: action | E10: NMAC | F10: Number of | G10: Premiums | H10: Premium
A11: No. | B11: Code | C11: Transaction Type | E11: Regulation | F11: Transactions | G11: Written | H11: Rate?
A12: 1, 2 | B12: 0001 | C12: Charge For Additional Chain of Title | E12: 13.14.9.16 | F12: 0 | G12: 0 | H12: No | J12: 0
A13: 1, 2 | B13: 0002 | C13: Charge For Unusual Complexity | E13: 13.14.9.16 | F13: 0 | G13: 0 | H13: Yes | J13: 0
A14: 1 | B14: 0003 | C14: Abstract Retirement Credit | E14: 13.14.9.24 | F14: 0 | G14: 0 | H14: Yes | J14: 0
A15: 2 | B15: 0004 | C15: Loan Policy - Mechanic's Lien Coverage With Evidence of Priority | E15: 13.14.5.12 | F15: 9 | G15: 450 | H15: No | J15: 0
A16: 2 | B16: 0005 | C16: Loan Policy - Mechanic's Lien Coverage Without Evidence of Priority | E16: 13.14.5.12 | F16: 0 | G16: 0 | H16: Yes | J16: 0
A17: 1 | B17: 0006 | C17: Owner's Policy - Mechanic's Lien Coverage - Filing Period Expired | E17: 13.14.5.12 | F17: 0 | G17: 0 | H17: No | J17: 0
A18: 1 | B18: 0007 | C18: Owner's Policy - Mechanic's Lien Coverage - Filing Period Not Expired | E18: 13.14.5.12 | F18: 0 | G18: 0 | H18: Yes | J18: 0
A19: 1 | B19: 0008 | C19: Survey Coverage - Owner Policy | E19: 13.14.5.12C | F19: 0 | G19: 0 | H19: Yes | J19: 0
A20: 2 | B20: 0009 | C20: Survey Coverage - Loan Policy | E20: 13.14.5.12C | F20: 9 | G20: 450 | H20: No | J20: 0
A21: 1 | B21: 0010 | C21: Owner Pro Forma Policy | E21: 13.14.9.19C | F21: 0 | G21: 0 | H21: No | J21: 0
A22: 2 | B22: 0011 | C22: Loan Pro Forma Policy | E22: 13.14.9.19C | F22: 0 | G22: 0 | H22: No | J22: 0
A23: 1 | B23: 0012 | C23: Duplicate Original Policy | E23: None | F23: 0 | G23: 0 | H23: No | J23: 0
... A140: 91 | B140: 9100 | C140: Contract Purchaser Conversion Endorsement | E140: None | F140: 0 | G140: 0 | H140: Yes | J140: 0
F141: =SUM(F12:F140) -> 70 | G141: =SUM(G12:G140) -> 28854 | J141: =SUM(J12:J140) -> 0
F143: Crosscheck with Form 1: | G143: 28854
F144: Difference: | G144: =G143-G141 -> 0
B145: Explanation for Difference (if any):

Sheet Westcor Land Title Insurance Co
A1: NEW MEXICO TITLE INSURANCE UNDERWRITER'S STATISTICAL REPORT
A2: FORM 3: TRANSACTION REPORT
A3: For Calendar Year Ending December 31, 2024
A4: NEW MEXICO EXPERIENCE ONLY
C5: Insurance Company: | D5: Westcor Land Title Insurance Company | J5: For Underwriters That Charge Rates Below the Promulgated Rates
J7: Direct Premiums As If They Had Been Written at Promulgated Rates
H8: Dependent
A9: NM | B9: Trans- | G9: Direct | H9: on Basic
A10: Form | B10: action | E10: NMAC | F10: Number of | G10: Premiums | H10: Premium
A11: No. | B11: Code | C11: Transaction Type | E11: Regulation | F11: Transactions | G11: Written | H11: Rate?
A12: 1, 2 | B12: 0001 | C12: Charge For Additional Chain of Title | E12: 13.14.9.16 | F12: 0 | G12: 0 | H12: No | J12: 0
A13: 1, 2 | B13: 0002 | C13: Charge For Unusual Complexity | E13: 13.14.9.16 | F13: 0 | G13: 0 | H13: Yes | J13: 0
A14: 1 | B14: 0003 | C14: Abstract Retirement Credit | E14: 13.14.9.24 | F14: 0 | G14: 0 | H14: Yes | J14: 0
A15: 2 | B15: 0004 | C15: Loan Policy - Mechanic's Lien Coverage With Evidence of Priority | E15: 13.14.5.12 | F15: 28 | G15: 3538 | H15: No | J15: 0
A16: 2 | B16: 0005 | C16: Loan Policy - Mechanic's Lien Coverage Without Evidence of Priority | E16: 13.14.5.12 | F16: 4 | G16: 200 | H16: Yes | J16: 0
A17: 1 | B17: 0006 | C17: Owner's Policy - Mechanic's Lien Coverage - Filing Period Expired | E17: 13.14.5.12 | F17: 10 | G17: 950 | H17: No | J17: 0
A18: 1 | B18: 0007 | C18: Owner's Policy - Mechanic's Lien Coverage - Filing Period Not Expired | E18: 13.14.5.12 | F18: 0 | G18: 0 | H18: Yes | J18: 0
A19: 1 | B19: 0008 | C19: Survey Coverage - Owner Policy | E19: 13.14.5.12C | F19: 0 | G19: 0 | H19: Yes | J19: 0
A20: 2 | B20: 0009 | C20: Survey Coverage - Loan Policy | E20: 13.14.5.12C | F20: 27 | G20: 28883 | H20: No | J20: 0
A21: 1 | B21: 0010 | C21: Owner Pro Forma Policy | E21: 13.14.9.19C | F21: 0 | G21: 0 | H21: No | J21: 0
A22: 2 | B22: 0011 | C22: Loan Pro Forma Policy | E22: 13.14.9.19C | F22: 0 | G22: 0 | H22: No | J22: 0
A23: 1 | B23: 0012 | C23: Duplicate Original Policy | E23: None | F23: 0 | G23: 0 | H23: No | J23: 0
... A140: 91 | B140: 9100 | C140: Contract Purchaser Conversion Endorsement | E140: None | F140: 0 | G140: 0 | H140: Yes | J140: 0
F141: =SUM(F12:F140) -> 435 | G141: =SUM(G12:G140) -> 636220 | J141: =SUM(J12:J140) -> 0
F143: Crosscheck with Form 1: | G143: 1144490
F144: Difference: | G144: =G143-G141 -> 508270
B145: Explanation for Difference (if any):
B146: This difference is due to timing and accrual differences.

Sheet WFG National Title Insurance Co
A1: NEW MEXICO TITLE INSURANCE UNDERWRITER'S STATISTICAL REPORT
A2: FORM 3: TRANSACTION REPORT
A3: For Calendar Year Ending December 31, 2024
A4: NEW MEXICO EXPERIENCE ONLY
C5: Insurance Company: | D5: WFG National Title Insurance Company | J5: For Underwriters That Charge Rates Below the Promulgated Rates
J7: Direct Premiums As If They Had Been Written at Promulgated Rates
H8: Dependent
A9: NM | B9: Trans- | G9: Direct | H9: on Basic
A10: Form | B10: action | E10: NMAC | F10: Number of | G10: Premiums | H10: Premium
A11: No. | B11: Code | C11: Transaction Type | E11: Regulation | F11: Transactions | G11: Written | H11: Rate?
A12: 1, 2 | B12: 0001 | C12: Charge For Additional Chain of Title | E12: 13.14.9.16 | F12: 0 | G12: 0 | H12: No | J12: 0
A13: 1, 2 | B13: 0002 | C13: Charge For Unusual Complexity | E13: 13.14.9.16 | F13: 0 | G13: 0 | H13: Yes | J13: 0
A14: 1 | B14: 0003 | C14: Abstract Retirement Credit | E14: 13.14.9.24 | F14: 0 | G14: 0 | H14: Yes | J14: 0
A15: 2 | B15: 0004 | C15: Loan Policy - Mechanic's Lien Coverage With Evidence of Priority | E15: 13.14.5.12 | F15: 0 | G15: 41225 | H15: No | J15: 0
A16: 2 | B16: 0005 | C16: Loan Policy - Mechanic's Lien Coverage Without Evidence of Priority | E16: 13.14.5.12 | F16: 0 | G16: 14746 | H16: Yes | J16: 0
A17: 1 | B17: 0006 | C17: Owner's Policy - Mechanic's Lien Coverage - Filing Period Expired | E17: 13.14.5.12 | F17: 0 | G17: 10100 | H17: No | J17: 0
A18: 1 | B18: 0007 | C18: Owner's Policy - Mechanic's Lien Coverage - Filing Period Not Expired | E18: 13.14.5.12 | F18: 0 | G18: 0 | H18: Yes | J18: 0
A19: 1 | B19: 0008 | C19: Survey Coverage - Owner Policy | E19: 13.14.5.12C | F19: 0 | G19: 58212.2 | H19: Yes | J19: 0
A20: 2 | B20: 0009 | C20: Survey Coverage - Loan Policy | E20: 13.14.5.12C | F20: 0 | G20: 36750 | H20: No | J20: 0
A21: 1 | B21: 0010 | C21: Owner Pro Forma Policy | E21: 13.14.9.19C | F21: 0 | G21: 0 | H21: No | J21: 0
A22: 2 | B22: 0011 | C22: Loan Pro Forma Policy | E22: 13.14.9.19C | F22: 0 | G22: 0 | H22: No | J22: 0
A23: 1 | B23: 0012 | C23: Duplicate Original Policy | E23: None | F23: 0 | G23: 0 | H23: No | J23: 0
... A140: 91 | B140: 9100 | C140: Contract Purchaser Conversion Endorsement | E140: None | F140: 0 | G140: 0 | H140: Yes | J140: 0
F141: =SUM(F12:F140) -> 1965 | G141: =SUM(G12:G140) -> 2963140.4 | J141: =SUM(J12:J140) -> 0
F143: Crosscheck with Form 1: | G143: 2963140
F144: Difference: | G144: =G143-G141 -> -0.39
B145: Explanation for Difference (if any):
