Workbook
Name SCH_A: #REF!
Name SCH_B: #REF!
Name SCH_C: #REF!
Name SCH_D: #REF!
Name SCH_E: #REF!
Name SCH_F: #REF!
Name SCH_G: #REF!
Name SCH_H: #REF!
Name SCH_I: #REF!
Name SCH_J: #REF!

Sheet Affidavit
E1: NEW MEXICO TITLE INSURANCE AGENTS STATISTICAL REPORT
E2: AFFIDAVIT
E3: For Calendar Year Ending December 31, 2024
A6: THE STATE OF | C6: New Mexico
A8: THE COUNTY OF | C8: Otero
A12: I, Jimmy Deer, the owner of Pioneer Abstract & Title Co of Alamogordo Inc, being duly sworn, deposes and says that all of the income, expense and other informational items contained on the attached Schedules A through I of this named Company's Agents Statistical Report for the year ended December 31, 2024 are a full and true statement of income and expenses in accordance with the instructions provided, according to the best of my information, knowledge and belief.
C18: Signature
A20: SUBSCRIBED AND SWORN BEFORE ME this _____day of _______________, 2025.
A23: Notary Public
A26: My Commission Expires

Sheet Schedule A
D1: NEW MEXICO TITLE INSURANCE AGENTS STATISTICAL REPORT
D2: SCHEDULE A: STATEMENT OF INCOME AND EXPENSES
D3: For the Calendar Year Ending December 31, 2024
C5: AGENCY NAME: | D5: Pioneer Abstract & Title Co of Alamogordo Inc
C6: ADDRESS: | D6: 909 Delaware Ave, Alamogorde, NM 8810
C7: CONTACT NAME: | D7: Tiffany Thompson
A8: Check One:
A9: X | B9: INDEPENDENT (NON-AFFILIATED) Title insurance agencies that are independently owned and write title insurance business
B10: one or more title insurance underwriters.
B12: AFFILIATED Title insurance agencies with 10% or greater ownership by a title insurance underwriter, including wholly-owned agencies.
B14: DIRECT Agency-type operations performed by the home or branch office of a title insurance underwriter. This does NOT include
B15: wholly-owned agencies.
C17: Part A: Revenue
C18: 1. | D18: Title insurance written premiums (from Schedule B) | E18: ='Schedule B'!C35 -> 1496284.6
C19: 2. | D19: Less: Remitted title insurance premiums (from Schedule B) | E19: ='Schedule B'!D35 -> 285045
C20: 3. | D20: Retained title insurance premiums (from Schedule B) | E20: ='Schedule B'!E35 -> 1211239.6
C21: 4. | D21: Other income (from Schedule C) | E21: ='Schedule C'!F28 -> 638760.76
C22: 5. | D22: Total Revenue | E22: =SUM(E20:E21) -> 1850000.4
C24: Part B: Expenses
C25: 1. | D25: Employees' salaries and wages | E25: =734379-E26 -> 612168.14
C26: 2. | D26: Owners' and partners' salaries and wages | E26: =65247.88+56962.98 -> 122210.86
C27: 3. | D27: Employee benefits | E27: =1432.07+15148.17 -> 16580.24
C28: 4. | D28: Rent | E28: 31341
C29: 5. | D29: Insurance | E29: =15627+26962.72+1361+9021.48+11745 -> 64717.2
C30: 6. | D30: Legal expense | E30: =1515 -> 1515
C31: 7. | D31: Licenses, taxes and fees | E31: =1275+200 -> 1475
C32: 8. | D32: Title plant expense and maintenance | E32: =31197+7280+16690 -> 55167
C33: 9. | D33: Office supplies | E33: =26703 -> 26703
C34: 10. | D34: Depreciation | E34: 24101
C35: 11. | D35: Automobile expense | E35: =4094.44+16138 -> 20232.44
C36: 12. | D36: Communication expense | E36: 17906
C37: 13. | D37: Education expense | E37: 5383
C38: 14. | D38: Bad debts
C39: 15. | D39: Interest expense | E39: =45973.28+34438+1604.5 -> 82015.78
C40: 16. | D40: Employee travel and lodging | E40: 13244
C41: 17. | D41: Loss and loss adjustment expense (from Schedule D) | E41: ='Schedule D'!D12 -> 0
C42: 18. | D42: Accounting and auditing expense | E42: 17500
C43: 19. | D43: Public relations expense | E43: =3085.18+7131+15929.75 -> 26145.93
C44: 20. | D44: Other expenses (from Schedule E) | E44: ='Schedule E'!D26 -> 392233.77
C45: 21. | D45: Total Expenses | E45: =SUM(E25:E44) -> 1530639.4
...

Sheet Schedule B
B1: NEW MEXICO TITLE INSURANCE AGENT'S STATISTICAL REPORT
C2: SCHEDULE B: PREMIUMS BY UNDERWRITER
C3: ='Schedule A'!D3 -> For the Calendar Year Ending December 31, 2024
B4: 1 | C4: 2 | D4: 3 | E4: 4
B5: Name of Each | C5: Title Premiums Written by this Agency for the Total Calendar Year Reported | D5: Title Premiums Remitted or Owed by this Agency to Underwriters
B6: Underwriting Company | E6: Title Premiums
B7: for Which | E7: Retained by
B8: This Agency Charged Premiums | E8: This Agency
B9: Agents National Title Insurance Company | E9: =C9-D9 -> 0
B10: Alamo Title Insurance Company | E10: =C10-D10 -> 0
B11: Alliant National Title Insurance Company | C11: 110495.6 | D11: 20145 | E11: =C11-D11 -> 90350.6
B12: American Digital Title Insurance Company | E12: =C12-D12 -> 0
B13: American Eagle Title Insurance Company | E13: =C13-D13 -> 0
B14: American Guaranty Title Insurance Company | E14: =C14-D14 -> 0
B15: AmTrust Title Insurance Company | E15: =C15-D15 -> 0
B16: Chicago Title Insurance Company | C16: 208189 | D16: 35529 | E16: =C16-D16 -> 172660
B17: Commonwealth Land Title Insurance Company | C17: 74038 | D17: 19070 | E17: =C17-D17 -> 54968
B18: Connecticut Attorneys Title Insurance | E18: =C18-D18 -> 0
B19: DHI Title Insurance Company | E19: =C19-D19 -> 0
B20: Doma Title Insurance Company | E20: =C20-D20 -> 0
B21: Fidelity National Title Insurance Company | C21: 105463 | D21: 23963 | E21: =C21-D21 -> 81500
B22: First American Title Guaranty Company | E22: =C22-D22 -> 0
B23: First American Title Insurance Company | C23: 187794 | D23: 46811 | E23: =C23-D23 -> 140983
B24: First National Title Insurance Company | C24: 274469 | D24: 42638 | E24: =C24-D24 -> 231831
B25: Investors Title Insurance Company | E25: =C25-D25 -> 0
B26: National Title Insurance of New York, Inc. | E26: =C26-D26 -> 0
B27: Old Republic National Title Insurance Company | E27: =C27-D27 -> 0
B28: Premier Land Title Insurance Company | E28: =C28-D28 -> 0
B29: Radian Title Insurance Inc. | E29: =C29-D29 -> 0
B30: Stewart Title Guaranty Company | C30: 279402 | D30: 49215 | E30: =C30-D30 -> 230187
B31: Title Resources Guaranty Company | E31: =C31-D31 -> 0
B32: Westcor Land Title Insurance Company | E32: =C32-D32 -> 0
B33: WFG National Title Insurance Company | C33: 256434 | D33: 47674 | E33: =C33-D33 -> 208760
B34: Other | E34: =C34-D34 -> 0
B35: Total | C35: =SUM(C9:C34) -> 1496284.6 | D35: =SUM(D9:D34) -> 285045 | E35: =SUM(E9:E34) -> 1211239.6
C36: (Carry total forward to | D36: (Carry total forward to | E36: (Carry total forward to
C37: Schedule A, line A-1) | D37: Schedule A, line A-2) | E37: Schedule A, line A-3)
C39: Percentage of premiums remitted: | D39: =IF(C35=0,0,D35/C35) -> 0.19050186
B44: =IF(D42=0," ",IF(D42<19.95%,"PERCENTAGE OF PREMIUMS REMITTED MUST BE GREATER THAN OR EQUAL TO 20%",""))

Sheet Schedule C
D1: NEW MEXICO TITLE INSURANCE AGENTS STATISTICAL REPORT
D2: SCHEDULE C: IDENTIFICATION OF OTHER INCOME
D3: ='Schedule A'!D3 -> For the Calendar Year Ending December 31, 2024
C5: Part A: Description of Income Item
C6: 1. | D6: Closing Fees | F6: 324448
C7: 2. | D7: Abstracting and Title Report Income | F7: 15076.98
C8: 3. | D8: Recording Fees
C9: 4. | D9: Copy Fees | F9: 16655
C10: 5. | D10: Inspection Fees
C11: 6. | D11: Interest Income | F11: 3583
C13: Part B: Itemization of All Other Income
C14: 7. | D14: Qualia Tech Fee | F14: 14731.08
C15: 8. | D15: Wire Fees | F15: 78886.5
C16: 9. | D16: Other Income | F16: 12145.48
C17: 10. | D17: NSF Income | F17: 1408.49
C18: 11. | D18: Collection Fees | F18: 19.18
C19: 12. | D19: Assignments | F19: 135975.53
C20: 13. | D20: Closeout Fees | F20: 1123.52
C21: 14. | D21: Express Mail | F21: 34708
C22: 15.
C23: 16.
C24: 17.
C25: 18.
C26: 19.
D28: Total Other Income (Carry forward to Schedule A, line A-4) | F28: =SUM(F6:F26) -> 638760.76
C31: Part C: Commitments Not Paid | F31: Premium per Commitment
C32: 1. | D32: Number of Commitments Not Paid for | E32: 0 | F32: 100
C33: 2. | D33: Premium Lost on Unpaid Commitments | E33: =E32*F32 -> 0

Sheet Schedule D
C1: NEW MEXICO TITLE INSURANCE AGENTS STATISTICAL REPORT
C2: SCHEDULE D: LOSSES AND LOSS ADJUSTMENT EXPENSES
C3: ='Schedule A'!D3 -> For the Calendar Year Ending December 31, 2024
B5: Description of Expense Item
B6: 1. | C6: Closing Losses
B7: 2. | C7: Agent Errors
B8: 3. | C8: Unfair Trade Practices
B9: 4. | C9: Loss Adjustment Expenses
B10: 5. | C10: E&O or Fidelity Insurance
C12: Total (Carry forward to Schedule A, line B-17) | D12: =SUM(D6:D10) -> 0

Sheet Schedule E
C1: NEW MEXICO TITLE INSURANCE AGENTS STATISTICAL REPORT
C2: SCHEDULE E: IDENTIFICATION OF OTHER EXPENSES
C3: ='Schedule A'!D3 -> For the Calendar Year Ending December 31, 2024
B5: Part A - Deductible Expenses
B6: 1. | C6: Bank Charges | D6: =35+15950 -> 15985
B7: 2. | C7: Computer & Software | D7: =5777.59+7560+973.69+18312.03+39723.19-4383 -> 67963.5
B8: 3. | C8: Dues & Subscriptions | D8: =24637.67 -> 24637.67
B9: 4. | C9: Settlement | D9: 212500
B10: 5. | C10: Meals | D10: =3752+205.79 -> 3957.79
B11: 6. | C11: Postage | D11: =8643.54 -> 8643.54
B12: 7. | C12: Office Expense | D12: =37220-31340.73 -> 5879.27
B13: 8. | C13: Utilities | D13: 11959
B14: 9. | C14: Background Checks | D14: 517
B15: 10. | C15: Professional Fees | D15: 10741
B16: 11. | C16: Charitable Contributions | D16: 29450
B17: 12.
B18: 13.
B19: 14.
B20: 15.
B21: 16.
B22: 17.
B23: 18.
B24: 19.
B25: 20.
C26: Total (Carry forward to Schedule A, line B-20) | D26: =SUM(D6:D25) -> 392233.77
B28: Part B - Excluded Expenses
B29: 1.
B30: 2.
B31: 3.
B32: 4.
B33: 5.
B34: 6.
B35: 7.
B36: 8.
B37: 9.
B38: 10.
B39: 11.
... B48: 20.
C49: Total (Carry forward to Schedule A, line D-9) | D49: =SUM(D29:D48) -> 0

Sheet Schedule F
B1: NEW MEXICO TITLE INSURANCE AGENTS STATISTICAL REPORT
B2: ='Schedule A'!D3 -> For the Calendar Year Ending December 31, 2024
B4: SCHEDULE F: INCOME OR EXPENSE ALLOCATION FROM OTHER AFFILIATED ENTITIES
A5: 1 | B5: 2 | C5: 3 | D5: 4 | E5: 5
E6: Reported
E7: Elsewhere
B8: Relation to | D8: Description | E8: in This
A9: Name and Address of Affiliated Agency | B9: Your Agency | C9: Amount | D9: Code | E9: Report?
B20: Total: | C20: =SUM(C10:C19) -> 0
C22: Description | D22: Code
C23: Income | D23: I
C24: Expense Allocation | D24: E
D28: Yes
D29: No

Sheet Schedule G
C1: NEW MEXICO TITLE INSURANCE AGENTS STATISTICAL REPORT
C2: SCHEDULE G: PREMIUMS BY COUNTY
C3: ='Schedule A'!D3 -> For the Calendar Year Ending December 31, 2024
C4: Title
C5: Premiums
B6: County | C6: Written
B7: Bernalillo
B8: Catron
B9: Chaves
B10: Cibola
B11: Colfax
B12: Curry
B13: De Baca
B14: Dona Ana
B15: Eddy
B16: Grant
B17: Guadalupe
B18: Harding
... B25: Mora
B26: Otero | C26: 1496285
B27: Quay
B28: Rio Arriba
B29: Roosevelt
B30: San Juan
B31: San Miguel
B32: Sandoval
B33: Santa Fe
B34: Sierra
B35: Socorro
B36: Taos
B37: Torrance
B38: Union
B39: Valencia
B40: TOTAL | C40: =SUM(C7:C39) -> 1496285
B42: Crosscheck with Schedule B: | C42: ='Schedule B'!C35 -> 1496284.6
B43: Difference: | C43: =ROUND(C42-C40,0) -> 0

Sheet Schedule H
C1: NEW MEXICO TITLE INSURANCE AGENTS STATISTICAL REPORT
C2: ='Schedule A'!D3 -> For the Calendar Year Ending December 31, 2024
C4: SCHEDULE H: IDENTIFICATION OF OWNERS
B5: 1 | C5: 2 | D5: 3
B6: Name of Each | C6: Percentage of | D6: Description
B7: Individual or Entity | C7: Agency Owned | D7: Code (see below)
B8: Tina Deer | C8: 0.5 | D8: NA
B9: Jimmy Deer | C9: 0.5 | D9: NA
B22: Total | C22: =SUM(C8:C21) -> 1
C24: Code | D24: Description
C25: A | D25: Attorney
C26: REA | D26: Real estate agent
C27: RED | D27: Real estate developer
C28: L | D28: Lending institution
C29: UW | D29: Underwriter
C30: AFB | D30: Affiliated Business Arrangement
C31: MSA | D31: Marketing Services Agreement
C32: NA | D32: None of the above
